BEGIN:VCALENDAR
VERSION:2.0
PRODID:-// - ECPv6.15.20//NONSGML v1.0//EN
CALSCALE:GREGORIAN
METHOD:PUBLISH
X-ORIGINAL-URL:https://cincoranchladiesclub.org
X-WR-CALDESC:Events for 
REFRESH-INTERVAL;VALUE=DURATION:PT1H
X-Robots-Tag:noindex
X-PUBLISHED-TTL:PT1H
BEGIN:VTIMEZONE
TZID:UTC
BEGIN:STANDARD
TZOFFSETFROM:+0000
TZOFFSETTO:+0000
TZNAME:UTC
DTSTART:20240101T000000
END:STANDARD
END:VTIMEZONE
BEGIN:VEVENT
DTSTART;TZID=UTC:20251009T113000
DTEND;TZID=UTC:20251009T140000
DTSTAMP:20260424T040802
CREATED:20251005T211810Z
LAST-MODIFIED:20251005T211810Z
UID:4252-1760009400-1760018400@cincoranchladiesclub.org
SUMMARY:Creative Kitchen
DESCRIPTION:We meet on the 2nd Thursday at 11:30 am \nThis popular club rotates at a member’s home each month for lunch. A different Hostess and 5+ Co-Hosts team up to organize a themed luncheon for 30-50 members and the results are mouthwatering! \nInvitations and details are sent monthly by Evite. RSVP’s are required and limited as this consists of a sit down pre-planned menu. Attendees are required to volunteer in some capacity at least one time to enjoy the luncheons the entire club year.
URL:https://cincoranchladiesclub.org/event/creative-kitchen-20/
ORGANIZER;CN="Renita Hudson":MAILTO:cincoranchladiesclub@gmail.com
END:VEVENT
BEGIN:VEVENT
DTSTART;TZID=UTC:20251023T093000
DTEND;TZID=UTC:20251023T110000
DTSTAMP:20260424T040802
CREATED:20251005T210737Z
LAST-MODIFIED:20251005T210737Z
UID:4174-1761211800-1761217200@cincoranchladiesclub.org
SUMMARY:Coffee
DESCRIPTION:We generally meet on the 4th Thursday of each month at 9:30 am.  Location TBA in Evite. Tiffany Lanza the organizer.
URL:https://cincoranchladiesclub.org/event/coffee-21/
END:VEVENT
END:VCALENDAR