BEGIN:VCALENDAR
VERSION:2.0
PRODID:-// - ECPv6.15.20//NONSGML v1.0//EN
CALSCALE:GREGORIAN
METHOD:PUBLISH
X-ORIGINAL-URL:https://cincoranchladiesclub.org
X-WR-CALDESC:Events for 
REFRESH-INTERVAL;VALUE=DURATION:PT1H
X-Robots-Tag:noindex
X-PUBLISHED-TTL:PT1H
BEGIN:VTIMEZONE
TZID:UTC
BEGIN:STANDARD
TZOFFSETFROM:+0000
TZOFFSETTO:+0000
TZNAME:UTC
DTSTART:20240101T000000
END:STANDARD
END:VTIMEZONE
BEGIN:VEVENT
DTSTART;TZID=UTC:20250204T080000
DTEND;TZID=UTC:20250204T110000
DTSTAMP:20260424T172348
CREATED:20250128T040554Z
LAST-MODIFIED:20250128T040554Z
UID:3296-1738656000-1738666800@cincoranchladiesclub.org
SUMMARY:Pickleball
DESCRIPTION:Pickleball meets on Tuesdays & Fridays at 7am in the Summer & 8am in the Fall.  We are currently playing at: \n\nJones Creek Ranch Park\, 7714 FM 359\, Richmond (Tuesdays)\nHarlem Rd Pickleball Courts\, 701 Harlem Rd\, Richmond (Fridays)
URL:https://cincoranchladiesclub.org/event/pickleball-12/
ORGANIZER;CN="Kate Chiang":MAILTO:katechiange88@gmail.com
END:VEVENT
BEGIN:VEVENT
DTSTART;TZID=UTC:20250211T080000
DTEND;TZID=UTC:20250211T110000
DTSTAMP:20260424T172348
CREATED:20250205T211013Z
LAST-MODIFIED:20250205T211013Z
UID:3361-1739260800-1739271600@cincoranchladiesclub.org
SUMMARY:Pickleball
DESCRIPTION:Pickleball meets on Tuesdays & Fridays at 7am in the Summer & 8am in the Fall.  We are currently playing at: \n\nJones Creek Ranch Park\, 7714 FM 359\, Richmond (Tuesdays)\nHarlem Rd Pickleball Courts\, 701 Harlem Rd\, Richmond (Fridays)
URL:https://cincoranchladiesclub.org/event/pickleball-13/
ORGANIZER;CN="Kate Chiang":MAILTO:katechiange88@gmail.com
END:VEVENT
BEGIN:VEVENT
DTSTART;TZID=UTC:20250218T080000
DTEND;TZID=UTC:20250218T110000
DTSTAMP:20260424T172348
CREATED:20250205T211119Z
LAST-MODIFIED:20250205T211119Z
UID:3363-1739865600-1739876400@cincoranchladiesclub.org
SUMMARY:Pickleball
DESCRIPTION:Pickleball meets on Tuesdays & Fridays at 7am in the Summer & 8am in the Fall.  We are currently playing at: \n\nJones Creek Ranch Park\, 7714 FM 359\, Richmond (Tuesdays)\nHarlem Rd Pickleball Courts\, 701 Harlem Rd\, Richmond (Fridays)
URL:https://cincoranchladiesclub.org/event/pickleball-14/
ORGANIZER;CN="Kate Chiang":MAILTO:katechiange88@gmail.com
END:VEVENT
BEGIN:VEVENT
DTSTART;TZID=UTC:20250225T080000
DTEND;TZID=UTC:20250225T110000
DTSTAMP:20260424T172348
CREATED:20250211T182545Z
LAST-MODIFIED:20250211T182545Z
UID:3390-1740470400-1740481200@cincoranchladiesclub.org
SUMMARY:Pickleball
DESCRIPTION:Pickleball meets on Tuesdays & Fridays at 7am in the Summer & 8am in the Fall.  We are currently playing at: \n\nJones Creek Ranch Park\, 7714 FM 359\, Richmond (Tuesdays)\nHarlem Rd Pickleball Courts\, 701 Harlem Rd\, Richmond (Fridays)
URL:https://cincoranchladiesclub.org/event/pickleball-15/
ORGANIZER;CN="Kate Chiang":MAILTO:katechiange88@gmail.com
END:VEVENT
END:VCALENDAR