BEGIN:VCALENDAR
VERSION:2.0
PRODID:-// - ECPv6.15.20//NONSGML v1.0//EN
CALSCALE:GREGORIAN
METHOD:PUBLISH
X-ORIGINAL-URL:https://cincoranchladiesclub.org
X-WR-CALDESC:Events for 
REFRESH-INTERVAL;VALUE=DURATION:PT1H
X-Robots-Tag:noindex
X-PUBLISHED-TTL:PT1H
BEGIN:VTIMEZONE
TZID:UTC
BEGIN:STANDARD
TZOFFSETFROM:+0000
TZOFFSETTO:+0000
TZNAME:UTC
DTSTART:20240101T000000
END:STANDARD
END:VTIMEZONE
BEGIN:VEVENT
DTSTART;TZID=UTC:20250815T113000
DTEND;TZID=UTC:20250815T133000
DTSTAMP:20260424T093953
CREATED:20250803T184641Z
LAST-MODIFIED:20250803T184641Z
UID:3981-1755257400-1755264600@cincoranchladiesclub.org
SUMMARY:Movie Club
DESCRIPTION:Dates and times will vary. Cinemark on I-10 & 99. See Evite for details.
URL:https://cincoranchladiesclub.org/event/movie-club-14/
ORGANIZER;CN="Sue Currie":MAILTO:sue.currie@att.net
END:VEVENT
END:VCALENDAR