BEGIN:VCALENDAR
VERSION:2.0
PRODID:-// - ECPv6.15.20//NONSGML v1.0//EN
CALSCALE:GREGORIAN
METHOD:PUBLISH
X-ORIGINAL-URL:https://cincoranchladiesclub.org
X-WR-CALDESC:Events for 
REFRESH-INTERVAL;VALUE=DURATION:PT1H
X-Robots-Tag:noindex
X-PUBLISHED-TTL:PT1H
BEGIN:VTIMEZONE
TZID:UTC
BEGIN:STANDARD
TZOFFSETFROM:+0000
TZOFFSETTO:+0000
TZNAME:UTC
DTSTART:20240101T000000
END:STANDARD
END:VTIMEZONE
BEGIN:VEVENT
DTSTART;TZID=UTC:20251002T110000
DTEND;TZID=UTC:20251002T140000
DTSTAMP:20260424T063953
CREATED:20251005T211228Z
LAST-MODIFIED:20251005T211228Z
UID:4240-1759402800-1759413600@cincoranchladiesclub.org
SUMMARY:Mexican Train - Day
DESCRIPTION:We meet on the 1st Thursday of each month at 11 am @ El Asador 3750 S. Mason RD. 77450. If you would like to have dinner prior to the game – 12:15 pm is game time. \nMexican Train Dominoes has just the right amount of skill and fun.  This game seems to unite and build friendships that last forever!  Fall in love with Mexican Train.  It is fun and endlessly challenging.
URL:https://cincoranchladiesclub.org/event/mexican-train-day-14/
ORGANIZER;CN="Liz  Castle":MAILTO:cincoranchladiesclub@gmail.com
END:VEVENT
END:VCALENDAR