BEGIN:VCALENDAR
VERSION:2.0
PRODID:-// - ECPv6.15.20//NONSGML v1.0//EN
CALSCALE:GREGORIAN
METHOD:PUBLISH
X-ORIGINAL-URL:https://cincoranchladiesclub.org
X-WR-CALDESC:Events for 
REFRESH-INTERVAL;VALUE=DURATION:PT1H
X-Robots-Tag:noindex
X-PUBLISHED-TTL:PT1H
BEGIN:VTIMEZONE
TZID:UTC
BEGIN:STANDARD
TZOFFSETFROM:+0000
TZOFFSETTO:+0000
TZNAME:UTC
DTSTART:20240101T000000
END:STANDARD
END:VTIMEZONE
BEGIN:VEVENT
DTSTART;TZID=UTC:20251022T100000
DTEND;TZID=UTC:20251022T113000
DTSTAMP:20260424T063252
CREATED:20251005T210835Z
LAST-MODIFIED:20251005T210835Z
UID:4236-1761127200-1761132600@cincoranchladiesclub.org
SUMMARY:Gardening/Journaling
DESCRIPTION:The Gardening Sub-Club is an opportunity to socialize with other gardening interested ladies\, and learn more about plantings\, seeds\, etc. This group usually meets on the 4th Wednesday at 10 a.m. Organizer is Jen Pazicni.
URL:https://cincoranchladiesclub.org/event/gardening-journaling-11/
END:VEVENT
END:VCALENDAR