BEGIN:VCALENDAR
VERSION:2.0
PRODID:-// - ECPv6.15.20//NONSGML v1.0//EN
CALSCALE:GREGORIAN
METHOD:PUBLISH
X-ORIGINAL-URL:https://cincoranchladiesclub.org
X-WR-CALDESC:Events for 
REFRESH-INTERVAL;VALUE=DURATION:PT1H
X-Robots-Tag:noindex
X-PUBLISHED-TTL:PT1H
BEGIN:VTIMEZONE
TZID:UTC
BEGIN:STANDARD
TZOFFSETFROM:+0000
TZOFFSETTO:+0000
TZNAME:UTC
DTSTART:20240101T000000
END:STANDARD
END:VTIMEZONE
BEGIN:VEVENT
DTSTART;TZID=UTC:20250204T173000
DTEND;TZID=UTC:20250204T203000
DTSTAMP:20260425T201557
CREATED:20250128T035415Z
LAST-MODIFIED:20250128T041109Z
UID:3290-1738690200-1738701000@cincoranchladiesclub.org
SUMMARY:CRLC General Meeting
DESCRIPTION:We meet on the first Tuesday of the month at 5:30pm for Happy Hour/dinner at Adriatic Cafe\, 27240 Katy Fwy\, Katy. The meeting begins at 6:30pm.  We welcome guests to join us. \nThe theme is cookie decorating. We have a presentation on how to decorate cookies\, and an opportunity to decorated some for yourself. We look forward to seeing you there.
URL:https://cincoranchladiesclub.org/event/crlc-general-meeting-5/
ORGANIZER;CN="Beth Clark":MAILTO:bethclark02@gmail.com
END:VEVENT
END:VCALENDAR