BEGIN:VCALENDAR
VERSION:2.0
PRODID:-// - ECPv6.15.20//NONSGML v1.0//EN
CALSCALE:GREGORIAN
METHOD:PUBLISH
X-ORIGINAL-URL:https://cincoranchladiesclub.org
X-WR-CALDESC:Events for 
REFRESH-INTERVAL;VALUE=DURATION:PT1H
X-Robots-Tag:noindex
X-PUBLISHED-TTL:PT1H
BEGIN:VTIMEZONE
TZID:UTC
BEGIN:STANDARD
TZOFFSETFROM:+0000
TZOFFSETTO:+0000
TZNAME:UTC
DTSTART:20240101T000000
END:STANDARD
END:VTIMEZONE
BEGIN:VEVENT
DTSTART;TZID=UTC:20250905T090000
DTEND;TZID=UTC:20250905T100000
DTSTAMP:20260424T045254
CREATED:20250904T035531Z
LAST-MODIFIED:20250904T035659Z
UID:4139-1757062800-1757066400@cincoranchladiesclub.org
SUMMARY:Walking Club -
DESCRIPTION:This club meets weekly inside AMC Entrance 8 every Friday at 9:00 am. Some extra outings and hikes are occasionally offered. \nLet’s get physical! Getting in a weekly stroll is so much easier with friends and laughs! Take it at your own pace.
URL:https://cincoranchladiesclub.org/event/walking-club-61/
ORGANIZER;CN="Debbie Steinfield":MAILTO:cincoranchladiesclub@gmail.com
END:VEVENT
BEGIN:VEVENT
DTSTART;TZID=UTC:20250912T090000
DTEND;TZID=UTC:20250912T100000
DTSTAMP:20260424T045254
CREATED:20250904T040433Z
LAST-MODIFIED:20250904T040433Z
UID:4144-1757667600-1757671200@cincoranchladiesclub.org
SUMMARY:Walking Club -
DESCRIPTION:This club meets weekly inside AMC Entrance 8 every Friday at 9:00 am. Some extra outings and hikes are occasionally offered. \nLet’s get physical! Getting in a weekly stroll is so much easier with friends and laughs! Take it at your own pace.
URL:https://cincoranchladiesclub.org/event/walking-club-62/
ORGANIZER;CN="Debbie Steinfield":MAILTO:cincoranchladiesclub@gmail.com
END:VEVENT
BEGIN:VEVENT
DTSTART;TZID=UTC:20250916T130000
DTEND;TZID=UTC:20250916T150000
DTSTAMP:20260424T045254
CREATED:20250904T040255Z
LAST-MODIFIED:20250904T040255Z
UID:4142-1758027600-1758034800@cincoranchladiesclub.org
SUMMARY:Bowling -
DESCRIPTION:This group of ladies will meet at Times Square Entertainment Katy at 1pm on the 3rd Tuesday of the month. Get there early to pay and rent shoes\, if needed.
URL:https://cincoranchladiesclub.org/event/bowling-8/
ORGANIZER;CN="Joyce Rogers":MAILTO:cincoranchladiesclub@gmail.com
END:VEVENT
BEGIN:VEVENT
DTSTART;TZID=UTC:20250917T113000
DTEND;TZID=UTC:20250917T133000
DTSTAMP:20260424T045254
CREATED:20250904T034857Z
LAST-MODIFIED:20250904T034857Z
UID:4131-1758108600-1758115800@cincoranchladiesclub.org
SUMMARY:Movie Club -
DESCRIPTION:Dates and times will vary. Cinemark on I-10 & 99. See Evite for details.
URL:https://cincoranchladiesclub.org/event/movie-club-15/
ORGANIZER;CN="Sue Currie":MAILTO:sue.currie@att.net
END:VEVENT
BEGIN:VEVENT
DTSTART;TZID=UTC:20250917T183000
DTEND;TZID=UTC:20250917T213000
DTSTAMP:20260424T045254
CREATED:20250803T191452Z
LAST-MODIFIED:20250803T191452Z
UID:4000-1758133800-1758144600@cincoranchladiesclub.org
SUMMARY:Wine Club
DESCRIPTION:Wine Club meets on the 3rd Wednesday at 6:30 pm. Come and join us for wine and a social evening.
URL:https://cincoranchladiesclub.org/event/wine-club-14/
ORGANIZER;CN="Jo Ann Miller":MAILTO:txbankergal@gmail.com
END:VEVENT
BEGIN:VEVENT
DTSTART;TZID=UTC:20250919T090000
DTEND;TZID=UTC:20250919T100000
DTSTAMP:20260424T045254
CREATED:20250904T040508Z
LAST-MODIFIED:20250904T040508Z
UID:4146-1758272400-1758276000@cincoranchladiesclub.org
SUMMARY:Walking Club -
DESCRIPTION:This club meets weekly inside AMC Entrance 8 every Friday at 9:00 am. Some extra outings and hikes are occasionally offered. \nLet’s get physical! Getting in a weekly stroll is so much easier with friends and laughs! Take it at your own pace.
URL:https://cincoranchladiesclub.org/event/walking-club-63/
ORGANIZER;CN="Debbie Steinfield":MAILTO:cincoranchladiesclub@gmail.com
END:VEVENT
BEGIN:VEVENT
DTSTART;TZID=UTC:20250925T093000
DTEND;TZID=UTC:20250925T110000
DTSTAMP:20260424T045254
CREATED:20250904T033527Z
LAST-MODIFIED:20250904T034223Z
UID:4121-1758792600-1758798000@cincoranchladiesclub.org
SUMMARY:Coffee -
DESCRIPTION:We generally meet on the 4th Thursday of each month at 9:30 am.  Location TBA in Evite. Tiffany Lanza the organizer.
URL:https://cincoranchladiesclub.org/event/coffee-20/
END:VEVENT
BEGIN:VEVENT
DTSTART;TZID=UTC:20250926T090000
DTEND;TZID=UTC:20250926T100000
DTSTAMP:20260424T045254
CREATED:20250904T040556Z
LAST-MODIFIED:20250904T040556Z
UID:4148-1758877200-1758880800@cincoranchladiesclub.org
SUMMARY:Walking Club -
DESCRIPTION:This club meets weekly inside AMC Entrance 8 every Friday at 9:00 am. Some extra outings and hikes are occasionally offered. \nLet’s get physical! Getting in a weekly stroll is so much easier with friends and laughs! Take it at your own pace.
URL:https://cincoranchladiesclub.org/event/walking-club-64/
ORGANIZER;CN="Debbie Steinfield":MAILTO:cincoranchladiesclub@gmail.com
END:VEVENT
BEGIN:VEVENT
DTSTART;TZID=UTC:20250926T113000
DTEND;TZID=UTC:20250926T130000
DTSTAMP:20260424T045254
CREATED:20250904T034542Z
LAST-MODIFIED:20250904T034542Z
UID:4127-1758886200-1758891600@cincoranchladiesclub.org
SUMMARY:Lunch Bunch
DESCRIPTION:We meet on the 4th Friday of each month at 11:30 am. \n“The Ladies Who Lunch” always have a marvelous time trying out new lunch spots and experiencing interesting or tried-and-true favorite cuisines at different restaurants.
URL:https://cincoranchladiesclub.org/event/lunch-bunch-22/
ORGANIZER;CN="Sally Outlaw":MAILTO:texasoutlaws48@aol.com
END:VEVENT
END:VCALENDAR