BEGIN:VCALENDAR
VERSION:2.0
PRODID:-// - ECPv6.15.20//NONSGML v1.0//EN
CALSCALE:GREGORIAN
METHOD:PUBLISH
X-ORIGINAL-URL:https://cincoranchladiesclub.org
X-WR-CALDESC:Events for 
REFRESH-INTERVAL;VALUE=DURATION:PT1H
X-Robots-Tag:noindex
X-PUBLISHED-TTL:PT1H
BEGIN:VTIMEZONE
TZID:UTC
BEGIN:STANDARD
TZOFFSETFROM:+0000
TZOFFSETTO:+0000
TZNAME:UTC
DTSTART:20240101T000000
END:STANDARD
END:VTIMEZONE
BEGIN:VEVENT
DTSTART;TZID=UTC:20250606T090000
DTEND;TZID=UTC:20250606T100000
DTSTAMP:20260424T092914
CREATED:20250606T012130Z
LAST-MODIFIED:20250606T015149Z
UID:3850-1749200400-1749204000@cincoranchladiesclub.org
SUMMARY:Walking Club -
DESCRIPTION:This club meets weekly inside AMC Entrance 8 every Friday at 9:00 am. Some extra outings and hikes are occasionally offered. \nLet’s get physical! Getting in a weekly stroll is so much easier with friends and laughs! Take it at your own pace.
URL:https://cincoranchladiesclub.org/event/walking-club-56/
ORGANIZER;CN="Debbie Steinfield":MAILTO:cincoranchladiesclub@gmail.com
END:VEVENT
BEGIN:VEVENT
DTSTART;TZID=UTC:20250613T090000
DTEND;TZID=UTC:20250613T100000
DTSTAMP:20260424T092914
CREATED:20250606T014940Z
LAST-MODIFIED:20250606T015126Z
UID:3870-1749805200-1749808800@cincoranchladiesclub.org
SUMMARY:Walking Club -
DESCRIPTION:This club meets weekly inside AMC Entrance 8 every Friday at 9:00 am. Some extra outings and hikes are occasionally offered. \nLet’s get physical! Getting in a weekly stroll is so much easier with friends and laughs! Take it at your own pace.
URL:https://cincoranchladiesclub.org/event/walking-club-copy-3/
ORGANIZER;CN="Debbie Steinfield":MAILTO:cincoranchladiesclub@gmail.com
END:VEVENT
BEGIN:VEVENT
DTSTART;TZID=UTC:20250620T090000
DTEND;TZID=UTC:20250620T100000
DTSTAMP:20260424T092914
CREATED:20250606T015052Z
LAST-MODIFIED:20250606T015052Z
UID:3873-1750410000-1750413600@cincoranchladiesclub.org
SUMMARY:Walking Club -
DESCRIPTION:This club meets weekly inside AMC Entrance 8 every Friday at 9:00 am. Some extra outings and hikes are occasionally offered. \nLet’s get physical! Getting in a weekly stroll is so much easier with friends and laughs! Take it at your own pace.
URL:https://cincoranchladiesclub.org/event/walking-club-57/
ORGANIZER;CN="Debbie Steinfield":MAILTO:cincoranchladiesclub@gmail.com
END:VEVENT
BEGIN:VEVENT
DTSTART;TZID=UTC:20250627T000000
DTEND;TZID=UTC:20250627T000000
DTSTAMP:20260424T092914
CREATED:20250606T011955Z
LAST-MODIFIED:20250606T015325Z
UID:3848-1750982400-1750982400@cincoranchladiesclub.org
SUMMARY:Movie Club -
DESCRIPTION:Dates and times will vary.  Cinemark on I-10 & 99. The movie is F-1 starring Brad Pitt. See Evite for details.
URL:https://cincoranchladiesclub.org/event/movie-club-12/
ORGANIZER;CN="Sue Currie":MAILTO:sue.currie@att.net
END:VEVENT
BEGIN:VEVENT
DTSTART;TZID=UTC:20250627T090000
DTEND;TZID=UTC:20250627T100000
DTSTAMP:20260424T092914
CREATED:20250606T015233Z
LAST-MODIFIED:20250606T015233Z
UID:3875-1751014800-1751018400@cincoranchladiesclub.org
SUMMARY:Walking Club -
DESCRIPTION:This club meets weekly inside AMC Entrance 8 every Friday at 9:00 am. Some extra outings and hikes are occasionally offered. \nLet’s get physical! Getting in a weekly stroll is so much easier with friends and laughs! Take it at your own pace.
URL:https://cincoranchladiesclub.org/event/walking-club-58/
ORGANIZER;CN="Debbie Steinfield":MAILTO:cincoranchladiesclub@gmail.com
END:VEVENT
BEGIN:VEVENT
DTSTART;TZID=UTC:20250627T113000
DTEND;TZID=UTC:20250627T130000
DTSTAMP:20260424T092914
CREATED:20250606T014058Z
LAST-MODIFIED:20250606T014058Z
UID:3864-1751023800-1751029200@cincoranchladiesclub.org
SUMMARY:Lunch Bunch -
DESCRIPTION:We meet on the 4th Friday of each month at 11:30 am. \n“The Ladies Who Lunch” always have a marvelous time trying out new lunch spots and experiencing interesting or tried-and-true favorite cuisines at different restaurants.
URL:https://cincoranchladiesclub.org/event/lunch-bunch-19/
ORGANIZER;CN="Sally Outlaw":MAILTO:texasoutlaws48@aol.com
END:VEVENT
BEGIN:VEVENT
DTSTART;TZID=UTC:20250630T103000
DTEND;TZID=UTC:20250630T123000
DTSTAMP:20260424T092914
CREATED:20250704T012318Z
LAST-MODIFIED:20250704T012318Z
UID:3923-1751279400-1751286600@cincoranchladiesclub.org
SUMMARY:Movie Club
DESCRIPTION:Dates and times will vary.  Cinemark on I-10 & 99. The movie is F-1 starring Brad Pitt. See Evite for details.
URL:https://cincoranchladiesclub.org/event/movie-club-13/
ORGANIZER;CN="Sue Currie":MAILTO:sue.currie@att.net
END:VEVENT
END:VCALENDAR