BEGIN:VCALENDAR
VERSION:2.0
PRODID:-// - ECPv6.15.20//NONSGML v1.0//EN
CALSCALE:GREGORIAN
METHOD:PUBLISH
X-ORIGINAL-URL:https://cincoranchladiesclub.org
X-WR-CALDESC:Events for 
REFRESH-INTERVAL;VALUE=DURATION:PT1H
X-Robots-Tag:noindex
X-PUBLISHED-TTL:PT1H
BEGIN:VTIMEZONE
TZID:UTC
BEGIN:STANDARD
TZOFFSETFROM:+0000
TZOFFSETTO:+0000
TZNAME:UTC
DTSTART:20240101T000000
END:STANDARD
END:VTIMEZONE
BEGIN:VEVENT
DTSTART;TZID=UTC:20250207T090000
DTEND;TZID=UTC:20250207T090000
DTSTAMP:20260424T154946
CREATED:20250128T040715Z
LAST-MODIFIED:20250128T040715Z
UID:3298-1738918800-1738918800@cincoranchladiesclub.org
SUMMARY:Walking Club
DESCRIPTION:This club meets weekly inside AMC Entrance 8 every Friday at 9:00 am. Some extra outings and hikes are occasionally offered. \nLet’s get physical! Getting in a weekly stroll is so much easier with friends and laughs! Take it at your own pace.
URL:https://cincoranchladiesclub.org/event/walking-club-39/
ORGANIZER;CN="Debbie Steinfield":MAILTO:cincoranchladiesclub@gmail.com
END:VEVENT
BEGIN:VEVENT
DTSTART;TZID=UTC:20250207T102000
DTEND;TZID=UTC:20250207T130000
DTSTAMP:20260424T154946
CREATED:20250205T211856Z
LAST-MODIFIED:20250205T211856Z
UID:3369-1738923600-1738933200@cincoranchladiesclub.org
SUMMARY:Movie Club
DESCRIPTION:Dates and times will vary.  This month is Feb. 7th at 10:20 am at Cinemark on I-10 & 99. The movie is Love Hurts.
URL:https://cincoranchladiesclub.org/event/movie-club-8/
ORGANIZER;CN="Sue Currie":MAILTO:sue.currie@att.net
END:VEVENT
BEGIN:VEVENT
DTSTART;TZID=UTC:20250214T090000
DTEND;TZID=UTC:20250214T090000
DTSTAMP:20260424T154946
CREATED:20250205T210412Z
LAST-MODIFIED:20250205T210412Z
UID:3355-1739523600-1739523600@cincoranchladiesclub.org
SUMMARY:Walking Club
DESCRIPTION:This club meets weekly inside AMC Entrance 8 every Friday at 9:00 am. Some extra outings and hikes are occasionally offered. \nLet’s get physical! Getting in a weekly stroll is so much easier with friends and laughs! Take it at your own pace.
URL:https://cincoranchladiesclub.org/event/walking-club-40/
ORGANIZER;CN="Debbie Steinfield":MAILTO:cincoranchladiesclub@gmail.com
END:VEVENT
BEGIN:VEVENT
DTSTART;TZID=UTC:20250218T130000
DTEND;TZID=UTC:20250218T150000
DTSTAMP:20260424T154946
CREATED:20250205T211252Z
LAST-MODIFIED:20250205T211252Z
UID:3365-1739883600-1739890800@cincoranchladiesclub.org
SUMMARY:Bowling
DESCRIPTION:This group of ladies will meet at Times Square Entertainment Katy at 1pm on the 3rd Tuesday of the month. Get there early to pay and rent shoes\, if needed.
URL:https://cincoranchladiesclub.org/event/bowling-5/
ORGANIZER;CN="Joyce Rogers":MAILTO:cincoranchladiesclub@gmail.com
END:VEVENT
BEGIN:VEVENT
DTSTART;TZID=UTC:20250219T180000
DTEND;TZID=UTC:20250219T213000
DTSTAMP:20260424T154946
CREATED:20250205T211519Z
LAST-MODIFIED:20250205T211519Z
UID:3367-1739988000-1740000600@cincoranchladiesclub.org
SUMMARY:Wine Club
DESCRIPTION:Wine Club meets on the 3rd Wednesday at 6:30 pm. Come and join us for wine and a social evening.
URL:https://cincoranchladiesclub.org/event/wine-club-10/
ORGANIZER;CN="Sherry Johnson":MAILTO:SEJ1959@comcast.net
END:VEVENT
BEGIN:VEVENT
DTSTART;TZID=UTC:20250220T093000
DTEND;TZID=UTC:20250220T110000
DTSTAMP:20260424T154946
CREATED:20250211T181630Z
LAST-MODIFIED:20250211T181630Z
UID:3384-1740043800-1740049200@cincoranchladiesclub.org
SUMMARY:Coffee
DESCRIPTION:We generally meet on the 3rd Thursday of each month at 9:30 am.  Location TBA in Evite.
URL:https://cincoranchladiesclub.org/event/coffee-15/
ORGANIZER;CN="Nancy Creedon":MAILTO:nodee79@yahoo.com
END:VEVENT
BEGIN:VEVENT
DTSTART;TZID=UTC:20250221T090000
DTEND;TZID=UTC:20250221T090000
DTSTAMP:20260424T154946
CREATED:20250211T181455Z
LAST-MODIFIED:20250211T181455Z
UID:3382-1740128400-1740128400@cincoranchladiesclub.org
SUMMARY:Walking Club
DESCRIPTION:This club meets weekly inside AMC Entrance 8 every Friday at 9:00 am. Some extra outings and hikes are occasionally offered. \nLet’s get physical! Getting in a weekly stroll is so much easier with friends and laughs! Take it at your own pace.
URL:https://cincoranchladiesclub.org/event/walking-club-41/
ORGANIZER;CN="Debbie Steinfield":MAILTO:cincoranchladiesclub@gmail.com
END:VEVENT
BEGIN:VEVENT
DTSTART;TZID=UTC:20250228T090000
DTEND;TZID=UTC:20250228T090000
DTSTAMP:20260424T154946
CREATED:20250211T182937Z
LAST-MODIFIED:20250211T182937Z
UID:3394-1740733200-1740733200@cincoranchladiesclub.org
SUMMARY:Walking Club
DESCRIPTION:This club meets weekly inside AMC Entrance 8 every Friday at 9:00 am. Some extra outings and hikes are occasionally offered. \nLet’s get physical! Getting in a weekly stroll is so much easier with friends and laughs! Take it at your own pace.
URL:https://cincoranchladiesclub.org/event/walking-club-42/
ORGANIZER;CN="Debbie Steinfield":MAILTO:cincoranchladiesclub@gmail.com
END:VEVENT
BEGIN:VEVENT
DTSTART;TZID=UTC:20250228T113000
DTEND;TZID=UTC:20250228T130000
DTSTAMP:20260424T154946
CREATED:20250211T183148Z
LAST-MODIFIED:20250211T183148Z
UID:3396-1740742200-1740747600@cincoranchladiesclub.org
SUMMARY:Lunch Bunch
DESCRIPTION:We meet on the 4th Friday of each month at 11:30 am. \n“The Ladies Who Lunch” always have a marvelous time trying out new lunch spots and experiencing interesting or tried-and-true favorite cuisines at different restaurants.
URL:https://cincoranchladiesclub.org/event/lunch-bunch-15/
ORGANIZER;CN="Sally Outlaw":MAILTO:texasoutlaws48@aol.com
END:VEVENT
END:VCALENDAR