BEGIN:VCALENDAR
VERSION:2.0
PRODID:-// - ECPv6.15.20//NONSGML v1.0//EN
CALSCALE:GREGORIAN
METHOD:PUBLISH
X-ORIGINAL-URL:https://cincoranchladiesclub.org
X-WR-CALDESC:Events for 
REFRESH-INTERVAL;VALUE=DURATION:PT1H
X-Robots-Tag:noindex
X-PUBLISHED-TTL:PT1H
BEGIN:VTIMEZONE
TZID:UTC
BEGIN:STANDARD
TZOFFSETFROM:+0000
TZOFFSETTO:+0000
TZNAME:UTC
DTSTART:20250101T000000
END:STANDARD
END:VTIMEZONE
BEGIN:VEVENT
DTSTART;TZID=UTC:20260102T090000
DTEND;TZID=UTC:20260102T100000
DTSTAMP:20260423T181530
CREATED:20260106T040345Z
LAST-MODIFIED:20260106T044300Z
UID:4447-1767344400-1767348000@cincoranchladiesclub.org
SUMMARY:Walking Club
DESCRIPTION:This club meets weekly inside AMC Entrance 2 every Friday at 9:00 am. Some extra outings and hikes are occasionally offered. \nLet’s get physical! Getting in a weekly stroll is so much easier with friends and laughs! Take it at your own pace.
URL:https://cincoranchladiesclub.org/event/walking-club-76/
ORGANIZER;CN="Debbie Steinfield":MAILTO:cincoranchladiesclub@gmail.com
END:VEVENT
BEGIN:VEVENT
DTSTART;TZID=UTC:20260105T110000
DTEND;TZID=UTC:20260105T133000
DTSTAMP:20260423T181530
CREATED:20260106T041857Z
LAST-MODIFIED:20260106T044253Z
UID:4476-1767610800-1767619800@cincoranchladiesclub.org
SUMMARY:Bunco DAY
DESCRIPTION:We meet the 1st Monday of every month at 11:00 am. \nHave you ever played this simple\, fast-paced\, and thrilling game? If you have you know it requires a strict number of players (groups of four) and as this is one of our most popular sub-clubs\, the spaces fill up fast every month! (RSVP to your Evite right away!) The event is at Texas Borders & Grill 26440 FM 1093 Richmond   Cathy Wilson
URL:https://cincoranchladiesclub.org/event/bunco-day-21/
ORGANIZER;CN="Cathy Wilson":MAILTO:cincoranchladiesclub@gmail.com
END:VEVENT
BEGIN:VEVENT
DTSTART;TZID=UTC:20260108T113000
DTEND;TZID=UTC:20260108T140000
DTSTAMP:20260423T181530
CREATED:20260106T041404Z
LAST-MODIFIED:20260106T044243Z
UID:4469-1767871800-1767880800@cincoranchladiesclub.org
SUMMARY:Creative Kitchen
DESCRIPTION:We meet on the 2nd Thursday at 11:30 am \nThis popular club rotates at a member’s home each month for lunch. A different Hostess and 5+ Co-Hosts team up to organize a themed luncheon for 30-50 members and the results are mouthwatering! \nInvitations and details are sent monthly by Evite. RSVP’s are required and limited as this consists of a sit down pre-planned menu. Attendees are required to volunteer in some capacity at least one time to enjoy the luncheons the entire club year.
URL:https://cincoranchladiesclub.org/event/creative-kitchen-23/
ORGANIZER;CN="Renita Hudson":MAILTO:cincoranchladiesclub@gmail.com
END:VEVENT
BEGIN:VEVENT
DTSTART;TZID=UTC:20260108T183000
DTEND;TZID=UTC:20260108T193000
DTSTAMP:20260423T181530
CREATED:20260106T042229Z
LAST-MODIFIED:20260106T044240Z
UID:4482-1767897000-1767900600@cincoranchladiesclub.org
SUMMARY:Book Club
DESCRIPTION:Our Book Club meets once a month to discuss the book we have read. Meetings will vary each month based on location. We read the agreed-upon book (usually selected by members’ input) and meet to discuss themes\, characters\, etc. Selections might be fiction\, nonfiction\, light-hearted or serious.
URL:https://cincoranchladiesclub.org/event/book-club-24/
ORGANIZER;CN="Cynthia Rogan":MAILTO:cincoranchladiesclub@gmail.com
END:VEVENT
BEGIN:VEVENT
DTSTART;TZID=UTC:20260109T160000
DTEND;TZID=UTC:20260109T190000
DTSTAMP:20260423T181530
CREATED:20260106T040133Z
LAST-MODIFIED:20260106T044233Z
UID:4443-1767974400-1767985200@cincoranchladiesclub.org
SUMMARY:Ladies Night Out
DESCRIPTION:Join this fun group of ladies for a night of fun. \nThe location will change each month & will be in the Evite!
URL:https://cincoranchladiesclub.org/event/ladies-night-out-19/
ORGANIZER;CN="Penny Grant":MAILTO:cincoranchladiesclub@gmail.com
END:VEVENT
BEGIN:VEVENT
DTSTART;TZID=UTC:20260113T180000
DTEND;TZID=UTC:20260113T203000
DTSTAMP:20260423T181530
CREATED:20260106T041728Z
LAST-MODIFIED:20260106T044226Z
UID:4473-1768327200-1768336200@cincoranchladiesclub.org
SUMMARY:Bunco  Evening
DESCRIPTION:We meet the 2nd  Tuesday of every month at 6:00 pm \nHave you ever played this simple\, fast-paced\, and thrilling game? If you have you know it requires a strict number of players (groups of four) and as this is one of our most popular sub-clubs\, the spaces fill up fast every month! (RSVP to your Evite right away!) The event is typically limited to 16 ladies as we hold it in one of our member’s lovely homes- light snacks are served.
URL:https://cincoranchladiesclub.org/event/bunco-evening-2/
ORGANIZER;CN="Tracy Gremillion":MAILTO:traceygremillion@kw.com
END:VEVENT
BEGIN:VEVENT
DTSTART;TZID=UTC:20260114T130000
DTEND;TZID=UTC:20260114T150000
DTSTAMP:20260423T181530
CREATED:20260106T042001Z
LAST-MODIFIED:20260106T044223Z
UID:4478-1768395600-1768402800@cincoranchladiesclub.org
SUMMARY:Mahjong
DESCRIPTION:Mahjong is a tile-based game played with a set of tiles based on Chinese characters and symbols. It is played on the 2nd Wednesday of the month at 1-3 pm.
URL:https://cincoranchladiesclub.org/event/mahjong-16/
ORGANIZER;CN="Penny Smith":MAILTO:penny.leder.aka.smith@gmail.com
END:VEVENT
BEGIN:VEVENT
DTSTART;TZID=UTC:20260117T183000
DTEND;TZID=UTC:20260117T203000
DTSTAMP:20260423T181530
CREATED:20260106T041529Z
LAST-MODIFIED:20260106T044215Z
UID:4471-1768674600-1768681800@cincoranchladiesclub.org
SUMMARY:Dining Out
DESCRIPTION:We generally meet on the 3rd Saturday of each month at 6:30 pm. \nAn RSVP required event\, reservations are made (your favorite significant other is welcome to join) can enjoy a night out at a fabulous Katy or West Houston area restaurants. Don’t worry\, this isn’t all about “fancy places.” We have been known to sample delectable Bar-B-Que\, or juicy hamburgers\, as well as the finer dining options!
URL:https://cincoranchladiesclub.org/event/dining-out-20/
ORGANIZER;CN="Joyce Rogers":MAILTO:cincoranchladiesclub@gmail.com
END:VEVENT
BEGIN:VEVENT
DTSTART;TZID=UTC:20260119T110000
DTEND;TZID=UTC:20260119T140000
DTSTAMP:20260423T181530
CREATED:20260106T041157Z
LAST-MODIFIED:20260106T044209Z
UID:4465-1768820400-1768831200@cincoranchladiesclub.org
SUMMARY:Canasta
DESCRIPTION:We meet on the 3rd Monday of each month at 11:00 am for lunch at Center Court Pizza on Spring Green. We play at noon.  Sue Currie
URL:https://cincoranchladiesclub.org/event/canasta-26/
ORGANIZER;CN="Sue Currie":MAILTO:sue.currie@att.net
END:VEVENT
BEGIN:VEVENT
DTSTART;TZID=UTC:20260120T123000
DTEND;TZID=UTC:20260120T143000
DTSTAMP:20260423T181530
CREATED:20260106T041100Z
LAST-MODIFIED:20260106T044205Z
UID:4463-1768912200-1768919400@cincoranchladiesclub.org
SUMMARY:Bowling
DESCRIPTION:This group of ladies will meet at Times Square Entertainment Katy at 1pm on the 3rd Tuesday of the month. Get there early to pay and rent shoes\, if needed.
URL:https://cincoranchladiesclub.org/event/bowling-12/
ORGANIZER;CN="Joyce Rogers":MAILTO:cincoranchladiesclub@gmail.com
END:VEVENT
BEGIN:VEVENT
DTSTART;TZID=UTC:20260122T093000
DTEND;TZID=UTC:20260122T110000
DTSTAMP:20260423T181530
CREATED:20260106T035932Z
LAST-MODIFIED:20260106T044157Z
UID:4441-1769074200-1769079600@cincoranchladiesclub.org
SUMMARY:Coffee
DESCRIPTION:We generally meet on the 4th Thursday of each month at 9:30 am.  Location TBA in Evite. Tiffany Lanza the organizer.
URL:https://cincoranchladiesclub.org/event/coffee-24/
END:VEVENT
BEGIN:VEVENT
DTSTART;TZID=UTC:20260123T113000
DTEND;TZID=UTC:20260123T130000
DTSTAMP:20260423T181530
CREATED:20260106T040240Z
LAST-MODIFIED:20260106T044150Z
UID:4445-1769167800-1769173200@cincoranchladiesclub.org
SUMMARY:Lunch Bunch
DESCRIPTION:We meet on the 4th Friday of each month at 11:30 am. \n“The Ladies Who Lunch” always have a marvelous time trying out new lunch spots and experiencing interesting or tried-and-true favorite cuisines at different restaurants.
URL:https://cincoranchladiesclub.org/event/lunch-bunch-26/
ORGANIZER;CN="Sally Outlaw":MAILTO:texasoutlaws48@aol.com
END:VEVENT
BEGIN:VEVENT
DTSTART;TZID=UTC:20260128T100000
DTEND;TZID=UTC:20260128T113000
DTSTAMP:20260423T181530
CREATED:20260106T040752Z
LAST-MODIFIED:20260106T044136Z
UID:4457-1769594400-1769599800@cincoranchladiesclub.org
SUMMARY:Gardening/Journaling
DESCRIPTION:The Gardening Sub-Club is an opportunity to socialize with other gardening interested ladies\, and learn more about plantings\, seeds\, etc. This group usually meets on the 4th Wednesday at 10 a.m. Organizer is Jen Pazicni.
URL:https://cincoranchladiesclub.org/event/gardening-journaling-14/
END:VEVENT
BEGIN:VEVENT
DTSTART;TZID=UTC:20260131T080000
DTEND;TZID=UTC:20260131T160000
DTSTAMP:20260423T181530
CREATED:20260106T043849Z
LAST-MODIFIED:20260106T043849Z
UID:4498-1769846400-1769875200@cincoranchladiesclub.org
SUMMARY:Bonus Event
DESCRIPTION:Something different is scheduled each month as a Bonus Event.  This one is Stages Theater. \n 
URL:https://cincoranchladiesclub.org/event/bonus-event/
ORGANIZER;CN="Sue Currie":MAILTO:sue.currie@att.net
END:VEVENT
END:VCALENDAR