BEGIN:VCALENDAR
VERSION:2.0
PRODID:-// - ECPv6.15.20//NONSGML v1.0//EN
CALSCALE:GREGORIAN
METHOD:PUBLISH
X-ORIGINAL-URL:https://cincoranchladiesclub.org
X-WR-CALDESC:Events for 
REFRESH-INTERVAL;VALUE=DURATION:PT1H
X-Robots-Tag:noindex
X-PUBLISHED-TTL:PT1H
BEGIN:VTIMEZONE
TZID:UTC
BEGIN:STANDARD
TZOFFSETFROM:+0000
TZOFFSETTO:+0000
TZNAME:UTC
DTSTART:20240101T000000
END:STANDARD
END:VTIMEZONE
BEGIN:VEVENT
DTSTART;TZID=UTC:20250703T110000
DTEND;TZID=UTC:20250703T140000
DTSTAMP:20260424T041555
CREATED:20250704T012537Z
LAST-MODIFIED:20250704T012537Z
UID:3927-1751540400-1751551200@cincoranchladiesclub.org
SUMMARY:Mexican Train - Day
DESCRIPTION:We meet on the 1st Thursday of each month at 11 am @ Neca’s Mexican\, 4020 FM 1463. If you would like to have dinner prior to the game – 12:15 pm is game time. \nMexican Train Dominoes has just the right amount of skill and fun.  This game seems to unite and build friendships that last forever!  Fall in love with Mexican Train.  It is fun and endlessly challenging.
URL:https://cincoranchladiesclub.org/event/mexican-train-day-11/
ORGANIZER;CN="Liz  Castle":MAILTO:cincoranchladiesclub@gmail.com
END:VEVENT
BEGIN:VEVENT
DTSTART;TZID=UTC:20250707T110000
DTEND;TZID=UTC:20250707T133000
DTSTAMP:20260424T041555
CREATED:20250704T013135Z
LAST-MODIFIED:20250704T013135Z
UID:3931-1751886000-1751895000@cincoranchladiesclub.org
SUMMARY:Bunco - Day
DESCRIPTION:We meet the 1st Monday of every month at 11:00 am. \nHave you ever played this simple\, fast-paced\, and thrilling game? If you have you know it requires a strict number of players (groups of four) and as this is one of our most popular sub-clubs\, the spaces fill up fast every month! (RSVP to your Evite right away!) The event is at Texas Borders & Grill 26440 FM 1093 Richmond   Cathy Wilson
URL:https://cincoranchladiesclub.org/event/bunco-day-15/
ORGANIZER;CN="Cathy Wilson":MAILTO:cincoranchladiesclub@gmail.com
END:VEVENT
BEGIN:VEVENT
DTSTART;TZID=UTC:20250710T183000
DTEND;TZID=UTC:20250710T193000
DTSTAMP:20260424T041555
CREATED:20250704T013607Z
LAST-MODIFIED:20250704T013607Z
UID:3933-1752172200-1752175800@cincoranchladiesclub.org
SUMMARY:Book Club
DESCRIPTION:Join us on the 2nd Thursday of July due to the holiday at 6:30 pm. Next month and continuing\, it will be the 1st Thursday of the month. \nOur Book Club meets once a month to discuss the book we have read. Meetings will vary each month based on location. We read the agreed-upon book (usually selected by members’ input) and meet to discuss themes\, characters\, etc. Selections might be fiction\, nonfiction\, light-hearted or serious. The book for this month is The Perfect Predator
URL:https://cincoranchladiesclub.org/event/book-club-18/
ORGANIZER;CN="Cynthia Rogan":MAILTO:cincoranchladiesclub@gmail.com
END:VEVENT
BEGIN:VEVENT
DTSTART;TZID=UTC:20250711T090000
DTEND;TZID=UTC:20250801T100000
DTSTAMP:20260424T041555
CREATED:20250704T012027Z
LAST-MODIFIED:20250704T012046Z
UID:3921-1752224400-1754042400@cincoranchladiesclub.org
SUMMARY:Walking Club
DESCRIPTION:This club meets weekly inside AMC Entrance 8 every Friday at 9:00 am. Some extra outings and hikes are occasionally offered. \nLet’s get physical! Getting in a weekly stroll is so much easier with friends and laughs! Take it at your own pace.
URL:https://cincoranchladiesclub.org/event/walking-club-59/
ORGANIZER;CN="Debbie Steinfield":MAILTO:cincoranchladiesclub@gmail.com
END:VEVENT
BEGIN:VEVENT
DTSTART;TZID=UTC:20250721T110000
DTEND;TZID=UTC:20250721T140000
DTSTAMP:20260424T041555
CREATED:20250704T012840Z
LAST-MODIFIED:20250704T012840Z
UID:3929-1753095600-1753106400@cincoranchladiesclub.org
SUMMARY:Canasta
DESCRIPTION:We meet on the 3rd Monday of each month at 11:00 am for lunch at Center Court Pizza on Spring Green. We play at noon.  Sue Currie
URL:https://cincoranchladiesclub.org/event/canasta-20/
ORGANIZER;CN="Sue Currie":MAILTO:sue.currie@att.net
END:VEVENT
BEGIN:VEVENT
DTSTART;TZID=UTC:20250722T171500
DTEND;TZID=UTC:20250722T203000
DTSTAMP:20260424T041555
CREATED:20250704T012446Z
LAST-MODIFIED:20250704T012446Z
UID:3925-1753204500-1753216200@cincoranchladiesclub.org
SUMMARY:Mexican Train (Evenings)
DESCRIPTION:We meet on the 4th Tuesday of each month at 5:15 pm @ Neca’s Mexican\, 4020 FM 1463. If you would like to have dinner prior to the game – 6:15 pm is game time. \nMexican Train Dominoes has just the right amount of skill and fun.  This game seems to unite and build friendships that last forever!  Fall in love with Mexican Train.  It is fun and endlessly challenging.
URL:https://cincoranchladiesclub.org/event/mexican-train-evenings-12/
ORGANIZER;CN="Beth Clark":MAILTO:bethclark02@gmail.com
END:VEVENT
BEGIN:VEVENT
DTSTART;TZID=UTC:20250725T113000
DTEND;TZID=UTC:20250725T130000
DTSTAMP:20260424T041555
CREATED:20250704T011911Z
LAST-MODIFIED:20250704T011911Z
UID:3919-1753443000-1753448400@cincoranchladiesclub.org
SUMMARY:Lunch Bunch
DESCRIPTION:We meet on the 4th Friday of each month at 11:30 am. \n“The Ladies Who Lunch” always have a marvelous time trying out new lunch spots and experiencing interesting or tried-and-true favorite cuisines at different restaurants.
URL:https://cincoranchladiesclub.org/event/lunch-bunch-20/
ORGANIZER;CN="Sally Outlaw":MAILTO:texasoutlaws48@aol.com
END:VEVENT
END:VCALENDAR