BEGIN:VCALENDAR
VERSION:2.0
PRODID:-// - ECPv6.15.20//NONSGML v1.0//EN
CALSCALE:GREGORIAN
METHOD:PUBLISH
X-ORIGINAL-URL:https://cincoranchladiesclub.org
X-WR-CALDESC:Events for 
REFRESH-INTERVAL;VALUE=DURATION:PT1H
X-Robots-Tag:noindex
X-PUBLISHED-TTL:PT1H
BEGIN:VTIMEZONE
TZID:UTC
BEGIN:STANDARD
TZOFFSETFROM:+0000
TZOFFSETTO:+0000
TZNAME:UTC
DTSTART:20240101T000000
END:STANDARD
END:VTIMEZONE
BEGIN:VEVENT
DTSTART;TZID=UTC:20250422T171500
DTEND;TZID=UTC:20250422T203000
DTSTAMP:20260425T052128
CREATED:20250314T203931Z
LAST-MODIFIED:20250314T203931Z
UID:3510-1745342100-1745353800@cincoranchladiesclub.org
SUMMARY:Mexican Train (Evenings)
DESCRIPTION:We meet on the 4th Tuesday of each month at 5:15 pm @ Neca’s Mexican\, 4020 FM 1463. If you would like to have dinner prior to the game – 6:15 pm is game time. \nMexican Train Dominoes has just the right amount of skill and fun.  This game seems to unite and build friendships that last forever!  Fall in love with Mexican Train.  It is fun and endlessly challenging.
URL:https://cincoranchladiesclub.org/event/mexican-train-evenings-9/
ORGANIZER;CN="Beth Clark":MAILTO:bethclark02@gmail.com
END:VEVENT
BEGIN:VEVENT
DTSTART;TZID=UTC:20250425T080000
DTEND;TZID=UTC:20250425T110000
DTSTAMP:20260425T052128
CREATED:20250314T201057Z
LAST-MODIFIED:20250405T010516Z
UID:3465-1745568000-1745578800@cincoranchladiesclub.org
SUMMARY:Pickleball
DESCRIPTION:Pickleball meets on the 2nd & 4th Fridays at 8am in the Spring.  We are currently playing at: \n\nJones Creek Ranch Park\, 7714 FM 359\, Richmond (Fridays)
URL:https://cincoranchladiesclub.org/event/pickleball-18/
ORGANIZER;CN="Kate Chiang":MAILTO:katechiange88@gmail.com
END:VEVENT
BEGIN:VEVENT
DTSTART;TZID=UTC:20250425T090000
DTEND;TZID=UTC:20250425T090000
DTSTAMP:20260425T052128
CREATED:20250314T203549Z
LAST-MODIFIED:20250314T203549Z
UID:3504-1745571600-1745571600@cincoranchladiesclub.org
SUMMARY:Walking Club
DESCRIPTION:This club meets weekly inside AMC Entrance 8 every Friday at 9:00 am. Some extra outings and hikes are occasionally offered. \nLet’s get physical! Getting in a weekly stroll is so much easier with friends and laughs! Take it at your own pace.
URL:https://cincoranchladiesclub.org/event/walking-club-50/
ORGANIZER;CN="Debbie Steinfield":MAILTO:cincoranchladiesclub@gmail.com
END:VEVENT
BEGIN:VEVENT
DTSTART;TZID=UTC:20250425T113000
DTEND;TZID=UTC:20250425T130000
DTSTAMP:20260425T052128
CREATED:20250314T204252Z
LAST-MODIFIED:20250314T204252Z
UID:3514-1745580600-1745586000@cincoranchladiesclub.org
SUMMARY:Lunch Bunch
DESCRIPTION:We meet on the 4th Friday of each month at 11:30 am. \n“The Ladies Who Lunch” always have a marvelous time trying out new lunch spots and experiencing interesting or tried-and-true favorite cuisines at different restaurants.
URL:https://cincoranchladiesclub.org/event/lunch-bunch-17/
ORGANIZER;CN="Sally Outlaw":MAILTO:texasoutlaws48@aol.com
END:VEVENT
BEGIN:VEVENT
DTSTART;TZID=UTC:20250428T130000
DTEND;TZID=UTC:20250428T150000
DTSTAMP:20260425T052128
CREATED:20250314T204402Z
LAST-MODIFIED:20250314T204402Z
UID:3516-1745845200-1745852400@cincoranchladiesclub.org
SUMMARY:Pokeno
DESCRIPTION:Pokeno generally meets on the 4th Monday from 1-3 pm.  Location will be in the Evite.
URL:https://cincoranchladiesclub.org/event/pokeno-13/
ORGANIZER;CN="Edna Quirk":MAILTO:EdnaQuirk66@gmail.com
END:VEVENT
BEGIN:VEVENT
DTSTART;TZID=UTC:20250428T170000
DTEND;TZID=UTC:20250428T210000
DTSTAMP:20260425T052128
CREATED:20250405T010331Z
LAST-MODIFIED:20250405T010430Z
UID:3606-1745859600-1745874000@cincoranchladiesclub.org
SUMMARY:Ladies Night Out
DESCRIPTION:We usually meet each month at 5:30 pm\, sometimes 4:30 on Thursdays or Fridays. In April\, we’re meeting on a Monday at Pop Stroke. \nJoin this fun group of ladies for a night of fun. \nThe location will change each month & will be in the Evite!
URL:https://cincoranchladiesclub.org/event/ladies-night-out-13/
ORGANIZER;CN="Penny Grant":MAILTO:cincoranchladiesclub@gmail.com
END:VEVENT
BEGIN:VEVENT
DTSTART;TZID=UTC:20250501T110000
DTEND;TZID=UTC:20250501T140000
DTSTAMP:20260425T052128
CREATED:20250423T181145Z
LAST-MODIFIED:20250423T181145Z
UID:3627-1746097200-1746108000@cincoranchladiesclub.org
SUMMARY:Mexican Train - Day
DESCRIPTION:We meet on the 1st Thursday of each month at 11 am @ Neca’s Mexican\, 4020 FM 1463. If you would like to have dinner prior to the game – 12:15 pm is game time. \nMexican Train Dominoes has just the right amount of skill and fun.  This game seems to unite and build friendships that last forever!  Fall in love with Mexican Train.  It is fun and endlessly challenging.
URL:https://cincoranchladiesclub.org/event/mexican-train-day-9/
ORGANIZER;CN="Liz  Castle":MAILTO:cincoranchladiesclub@gmail.com
END:VEVENT
BEGIN:VEVENT
DTSTART;TZID=UTC:20250502T090000
DTEND;TZID=UTC:20250502T100000
DTSTAMP:20260425T052128
CREATED:20250423T184221Z
LAST-MODIFIED:20250423T184221Z
UID:3640-1746176400-1746180000@cincoranchladiesclub.org
SUMMARY:Walking Club
DESCRIPTION:This club meets weekly inside AMC Entrance 8 every Friday at 9:00 am. Some extra outings and hikes are occasionally offered. \nLet’s get physical! Getting in a weekly stroll is so much easier with friends and laughs! Take it at your own pace.
URL:https://cincoranchladiesclub.org/event/walking-club-51/
ORGANIZER;CN="Debbie Steinfield":MAILTO:cincoranchladiesclub@gmail.com
END:VEVENT
BEGIN:VEVENT
DTSTART;TZID=UTC:20250505T110000
DTEND;TZID=UTC:20250505T133000
DTSTAMP:20260425T052128
CREATED:20250423T184915Z
LAST-MODIFIED:20250423T184915Z
UID:3650-1746442800-1746451800@cincoranchladiesclub.org
SUMMARY:Bunco - Day
DESCRIPTION:We meet the 1st Monday of every month at 11:00 am. \nHave you ever played this simple\, fast-paced\, and thrilling game? If you have you know it requires a strict number of players (groups of four) and as this is one of our most popular sub-clubs\, the spaces fill up fast every month! (RSVP to your Evite right away!) The event is typically at Necca’s on FM 1463.
URL:https://cincoranchladiesclub.org/event/bunco-day-13/
ORGANIZER;CN="Cathy Wilson":MAILTO:cincoranchladiesclub@gmail.com
END:VEVENT
BEGIN:VEVENT
DTSTART;TZID=UTC:20250506T130000
DTEND;TZID=UTC:20250506T143000
DTSTAMP:20260425T052128
CREATED:20250423T185207Z
LAST-MODIFIED:20250423T185207Z
UID:3652-1746536400-1746541800@cincoranchladiesclub.org
SUMMARY:Gardening/Journaling
DESCRIPTION:The Gardening Sub-Club is an opportunity to socialize with other gardening interested ladies\, and learn more about plantings\, seeds\, etc. This group usually meets on the 1st Tuesday for May at 1 pm.
URL:https://cincoranchladiesclub.org/event/gardening-journaling-9/
END:VEVENT
BEGIN:VEVENT
DTSTART;TZID=UTC:20250508T113000
DTEND;TZID=UTC:20250508T140000
DTSTAMP:20260425T052128
CREATED:20250423T185525Z
LAST-MODIFIED:20250423T185525Z
UID:3654-1746703800-1746712800@cincoranchladiesclub.org
SUMMARY:Creative Kitchen
DESCRIPTION:We meet on the 2nd Thursday at 11:30 am \nThis popular club rotates at a member’s home each month for lunch. A different Hostess and 5+ Co-Hosts team up to organize a themed luncheon for 30-50 members and the results are mouthwatering! \nInvitations and details are sent monthly by Evite. RSVP’s are required and limited as this consists of a sit down pre-planned menu. Attendees are required to volunteer in some capacity at least one time to enjoy the luncheons the entire club year.
URL:https://cincoranchladiesclub.org/event/creative-kitchen-18/
ORGANIZER;CN="Renita Hudson":MAILTO:cincoranchladiesclub@gmail.com
END:VEVENT
BEGIN:VEVENT
DTSTART;TZID=UTC:20250509T080000
DTEND;TZID=UTC:20250509T110000
DTSTAMP:20260425T052128
CREATED:20250423T185643Z
LAST-MODIFIED:20250423T185643Z
UID:3656-1746777600-1746788400@cincoranchladiesclub.org
SUMMARY:Pickleball
DESCRIPTION:Pickleball meets on the 2nd & 4th Fridays at 8am in the Spring.  We are currently playing at: \n\nJones Creek Ranch Park\, 7714 FM 359\, Richmond (Fridays)
URL:https://cincoranchladiesclub.org/event/pickleball-19/
ORGANIZER;CN="Kate Chiang":MAILTO:katechiange88@gmail.com
END:VEVENT
BEGIN:VEVENT
DTSTART;TZID=UTC:20250509T090000
DTEND;TZID=UTC:20250509T100000
DTSTAMP:20260425T052128
CREATED:20250423T184444Z
LAST-MODIFIED:20250423T184444Z
UID:3642-1746781200-1746784800@cincoranchladiesclub.org
SUMMARY:Walking Club
DESCRIPTION:This club meets weekly inside AMC Entrance 8 every Friday at 9:00 am. Some extra outings and hikes are occasionally offered. \nLet’s get physical! Getting in a weekly stroll is so much easier with friends and laughs! Take it at your own pace.
URL:https://cincoranchladiesclub.org/event/walking-club-52/
ORGANIZER;CN="Debbie Steinfield":MAILTO:cincoranchladiesclub@gmail.com
END:VEVENT
BEGIN:VEVENT
DTSTART;TZID=UTC:20250512T130000
DTEND;TZID=UTC:20250512T150000
DTSTAMP:20260425T052128
CREATED:20250423T220951Z
LAST-MODIFIED:20250423T220951Z
UID:3679-1747054800-1747062000@cincoranchladiesclub.org
SUMMARY:Pokeno
DESCRIPTION:Pokeno generally meets on the 4th Monday from 1-3 pm.  Location will be in the Evite.
URL:https://cincoranchladiesclub.org/event/pokeno-14/
ORGANIZER;CN="Edna Quirk":MAILTO:EdnaQuirk66@gmail.com
END:VEVENT
BEGIN:VEVENT
DTSTART;TZID=UTC:20250513T180000
DTEND;TZID=UTC:20250513T203000
DTSTAMP:20260425T052128
CREATED:20250423T221148Z
LAST-MODIFIED:20250423T221148Z
UID:3681-1747159200-1747168200@cincoranchladiesclub.org
SUMMARY:Bunko - Evening
DESCRIPTION:We meet the 2nd  Tuesday of every month at 6:00 pm \nHave you ever played this simple\, fast-paced\, and thrilling game? If you have you know it requires a strict number of players (groups of four) and as this is one of our most popular sub-clubs\, the spaces fill up fast every month! (RSVP to your Evite right away!) The event is typically limited to 16 ladies as we hold it in one of our member’s lovely homes- light snacks are served.  NOTE: This month\, we will not play Bunco. Instead\, there will be a Holiday Party.
URL:https://cincoranchladiesclub.org/event/bunko-evening-20/
ORGANIZER;CN="Tracy Gremillion":MAILTO:traceygremillion@kw.com
END:VEVENT
BEGIN:VEVENT
DTSTART;TZID=UTC:20250514T130000
DTEND;TZID=UTC:20250514T150000
DTSTAMP:20260425T052128
CREATED:20250423T221331Z
LAST-MODIFIED:20250423T221331Z
UID:3683-1747227600-1747234800@cincoranchladiesclub.org
SUMMARY:Mahjong
DESCRIPTION:Mahjong is a tile-based game played with a set of tiles based on Chinese characters and symbols. It is played on the 2nd Wednesday of the month at 1-3 pm.
URL:https://cincoranchladiesclub.org/event/mahjong-11/
ORGANIZER;CN="Penny Smith":MAILTO:penny.leder.aka.smith@gmail.com
END:VEVENT
BEGIN:VEVENT
DTSTART;TZID=UTC:20250515T093000
DTEND;TZID=UTC:20250515T110000
DTSTAMP:20260425T052128
CREATED:20250423T221433Z
LAST-MODIFIED:20250423T221433Z
UID:3685-1747301400-1747306800@cincoranchladiesclub.org
SUMMARY:Coffee
DESCRIPTION:We generally meet on the 3rd Thursday of each month at 9:30 am.  Location TBA in Evite.
URL:https://cincoranchladiesclub.org/event/coffee-18/
ORGANIZER;CN="Nancy Creedon":MAILTO:nodee79@yahoo.com
END:VEVENT
BEGIN:VEVENT
DTSTART;TZID=UTC:20250516T090000
DTEND;TZID=UTC:20250516T100000
DTSTAMP:20260425T052128
CREATED:20250423T184620Z
LAST-MODIFIED:20250423T184620Z
UID:3644-1747386000-1747389600@cincoranchladiesclub.org
SUMMARY:Walking Club
DESCRIPTION:This club meets weekly inside AMC Entrance 8 every Friday at 9:00 am. Some extra outings and hikes are occasionally offered. \nLet’s get physical! Getting in a weekly stroll is so much easier with friends and laughs! Take it at your own pace.
URL:https://cincoranchladiesclub.org/event/walking-club-53/
ORGANIZER;CN="Debbie Steinfield":MAILTO:cincoranchladiesclub@gmail.com
END:VEVENT
BEGIN:VEVENT
DTSTART;TZID=UTC:20250517T180000
DTEND;TZID=UTC:20250517T203000
DTSTAMP:20260425T052128
CREATED:20250423T221556Z
LAST-MODIFIED:20250423T221556Z
UID:3687-1747504800-1747513800@cincoranchladiesclub.org
SUMMARY:Dining Out
DESCRIPTION:We generally meet on the 3rd Saturday of each month at 6:30 pm. \nAn RSVP required event\, reservations are made (your favorite significant other is welcome to join) can enjoy a night out at a fabulous Katy or West Houston area restaurants. Don’t worry\, this isn’t all about “fancy places.” We have been known to sample delectable Bar-B-Que\, or juicy hamburgers\, as well as the finer dining options!
URL:https://cincoranchladiesclub.org/event/dining-out-16/
ORGANIZER;CN="Diane Leive":MAILTO:cincoranchladiesclub@gmail.com
END:VEVENT
BEGIN:VEVENT
DTSTART;TZID=UTC:20250519T110000
DTEND;TZID=UTC:20250519T140000
DTSTAMP:20260425T052128
CREATED:20250423T221815Z
LAST-MODIFIED:20250423T221815Z
UID:3689-1747652400-1747663200@cincoranchladiesclub.org
SUMMARY:Canasta
DESCRIPTION:We meet on the 3rd Monday of each month at 11:00 am for lunch at Center Court Pizza on Spring Green. We play at noon.
URL:https://cincoranchladiesclub.org/event/canasta-18/
ORGANIZER;CN="Sue Currie":MAILTO:sue.currie@att.net
END:VEVENT
BEGIN:VEVENT
DTSTART;TZID=UTC:20250520T130000
DTEND;TZID=UTC:20250520T150000
DTSTAMP:20260425T052128
CREATED:20250423T221951Z
LAST-MODIFIED:20250423T221951Z
UID:3691-1747746000-1747753200@cincoranchladiesclub.org
SUMMARY:Bowling
DESCRIPTION:This group of ladies will meet at Times Square Entertainment Katy at 1pm on the 3rd Tuesday of the month. Get there early to pay and rent shoes\, if needed.
URL:https://cincoranchladiesclub.org/event/bowling-7/
ORGANIZER;CN="Joyce Rogers":MAILTO:cincoranchladiesclub@gmail.com
END:VEVENT
BEGIN:VEVENT
DTSTART;TZID=UTC:20250521T180000
DTEND;TZID=UTC:20250521T213000
DTSTAMP:20260425T052128
CREATED:20250423T222041Z
LAST-MODIFIED:20250423T222041Z
UID:3693-1747850400-1747863000@cincoranchladiesclub.org
SUMMARY:Wine Club
DESCRIPTION:Wine Club meets on the 3rd Wednesday at 6:30 pm. Come and join us for wine and a social evening.
URL:https://cincoranchladiesclub.org/event/wine-club-13/
ORGANIZER;CN="Sherry Johnson":MAILTO:SEJ1959@comcast.net
END:VEVENT
BEGIN:VEVENT
DTSTART;TZID=UTC:20250523T080000
DTEND;TZID=UTC:20250523T110000
DTSTAMP:20260425T052128
CREATED:20250423T185733Z
LAST-MODIFIED:20250423T185733Z
UID:3658-1747987200-1747998000@cincoranchladiesclub.org
SUMMARY:Pickleball
DESCRIPTION:Pickleball meets on the 2nd & 4th Fridays at 8am in the Spring.  We are currently playing at: \n\nJones Creek Ranch Park\, 7714 FM 359\, Richmond (Fridays)
URL:https://cincoranchladiesclub.org/event/pickleball-20/
ORGANIZER;CN="Kate Chiang":MAILTO:katechiange88@gmail.com
END:VEVENT
BEGIN:VEVENT
DTSTART;TZID=UTC:20250523T090000
DTEND;TZID=UTC:20250523T100000
DTSTAMP:20260425T052128
CREATED:20250423T184700Z
LAST-MODIFIED:20250423T184700Z
UID:3646-1747990800-1747994400@cincoranchladiesclub.org
SUMMARY:Walking Club
DESCRIPTION:This club meets weekly inside AMC Entrance 8 every Friday at 9:00 am. Some extra outings and hikes are occasionally offered. \nLet’s get physical! Getting in a weekly stroll is so much easier with friends and laughs! Take it at your own pace.
URL:https://cincoranchladiesclub.org/event/walking-club-54/
ORGANIZER;CN="Debbie Steinfield":MAILTO:cincoranchladiesclub@gmail.com
END:VEVENT
BEGIN:VEVENT
DTSTART;TZID=UTC:20250523T113000
DTEND;TZID=UTC:20250523T130000
DTSTAMP:20260425T052128
CREATED:20250423T222215Z
LAST-MODIFIED:20250423T222215Z
UID:3695-1747999800-1748005200@cincoranchladiesclub.org
SUMMARY:Lunch Bunch
DESCRIPTION:We meet on the 4th Friday of each month at 11:30 am. \n“The Ladies Who Lunch” always have a marvelous time trying out new lunch spots and experiencing interesting or tried-and-true favorite cuisines at different restaurants.
URL:https://cincoranchladiesclub.org/event/lunch-bunch-18/
ORGANIZER;CN="Sally Outlaw":MAILTO:texasoutlaws48@aol.com
END:VEVENT
BEGIN:VEVENT
DTSTART;TZID=UTC:20250527T171500
DTEND;TZID=UTC:20250527T203000
DTSTAMP:20260425T052128
CREATED:20250423T222452Z
LAST-MODIFIED:20250423T222452Z
UID:3697-1748366100-1748377800@cincoranchladiesclub.org
SUMMARY:Mexican Train (Evenings)
DESCRIPTION:We meet on the 4th Tuesday of each month at 5:15 pm @ Neca’s Mexican\, 4020 FM 1463. If you would like to have dinner prior to the game – 6:15 pm is game time. \nMexican Train Dominoes has just the right amount of skill and fun.  This game seems to unite and build friendships that last forever!  Fall in love with Mexican Train.  It is fun and endlessly challenging.
URL:https://cincoranchladiesclub.org/event/mexican-train-evenings-10/
ORGANIZER;CN="Beth Clark":MAILTO:bethclark02@gmail.com
END:VEVENT
BEGIN:VEVENT
DTSTART;TZID=UTC:20250530T090000
DTEND;TZID=UTC:20250530T100000
DTSTAMP:20260425T052128
CREATED:20250423T184728Z
LAST-MODIFIED:20250423T184728Z
UID:3648-1748595600-1748599200@cincoranchladiesclub.org
SUMMARY:Walking Club
DESCRIPTION:This club meets weekly inside AMC Entrance 8 every Friday at 9:00 am. Some extra outings and hikes are occasionally offered. \nLet’s get physical! Getting in a weekly stroll is so much easier with friends and laughs! Take it at your own pace.
URL:https://cincoranchladiesclub.org/event/walking-club-55/
ORGANIZER;CN="Debbie Steinfield":MAILTO:cincoranchladiesclub@gmail.com
END:VEVENT
BEGIN:VEVENT
DTSTART;TZID=UTC:20250530T123000
DTEND;TZID=UTC:20250530T150000
DTSTAMP:20260425T052128
CREATED:20250423T222732Z
LAST-MODIFIED:20250423T222732Z
UID:3699-1748608200-1748617200@cincoranchladiesclub.org
SUMMARY:Movie Club
DESCRIPTION:Dates and times will vary.  This month is May 30th at Cinemark on I-10 & 99. The movie is Mission Impossible the Final Reckoning. See Evite for details.
URL:https://cincoranchladiesclub.org/event/movie-club-11/
ORGANIZER;CN="Sue Currie":MAILTO:sue.currie@att.net
END:VEVENT
BEGIN:VEVENT
DTSTART;TZID=UTC:20250602T110000
DTEND;TZID=UTC:20250602T133000
DTSTAMP:20260425T052128
CREATED:20250606T014347Z
LAST-MODIFIED:20250606T014347Z
UID:3866-1748862000-1748871000@cincoranchladiesclub.org
SUMMARY:Bunco - Day -
DESCRIPTION:We meet the 1st Monday of every month at 11:00 am. \nHave you ever played this simple\, fast-paced\, and thrilling game? If you have you know it requires a strict number of players (groups of four) and as this is one of our most popular sub-clubs\, the spaces fill up fast every month! (RSVP to your Evite right away!) The event is typically at Necca’s on FM 1463.
URL:https://cincoranchladiesclub.org/event/bunco-day-14/
ORGANIZER;CN="Cathy Wilson":MAILTO:cincoranchladiesclub@gmail.com
END:VEVENT
BEGIN:VEVENT
DTSTART;TZID=UTC:20250605T110000
DTEND;TZID=UTC:20250605T140000
DTSTAMP:20260425T052128
CREATED:20250606T012959Z
LAST-MODIFIED:20250606T014727Z
UID:3854-1749121200-1749132000@cincoranchladiesclub.org
SUMMARY:Mexican Train - Day -
DESCRIPTION:We meet on the 1st Thursday of each month at 11 am @ Neca’s Mexican\, 4020 FM 1463. If you would like to have dinner prior to the game – 12:15 pm is game time. \nMexican Train Dominoes has just the right amount of skill and fun.  This game seems to unite and build friendships that last forever!  Fall in love with Mexican Train.  It is fun and endlessly challenging.
URL:https://cincoranchladiesclub.org/event/mexican-train-day-10/
ORGANIZER;CN="Liz  Castle":MAILTO:cincoranchladiesclub@gmail.com
END:VEVENT
END:VCALENDAR