BEGIN:VCALENDAR
VERSION:2.0
PRODID:-// - ECPv6.15.20//NONSGML v1.0//EN
CALSCALE:GREGORIAN
METHOD:PUBLISH
X-ORIGINAL-URL:https://cincoranchladiesclub.org
X-WR-CALDESC:Events for 
REFRESH-INTERVAL;VALUE=DURATION:PT1H
X-Robots-Tag:noindex
X-PUBLISHED-TTL:PT1H
BEGIN:VTIMEZONE
TZID:UTC
BEGIN:STANDARD
TZOFFSETFROM:+0000
TZOFFSETTO:+0000
TZNAME:UTC
DTSTART:20240101T000000
END:STANDARD
END:VTIMEZONE
BEGIN:VEVENT
DTSTART;TZID=UTC:20250305T130000
DTEND;TZID=UTC:20250305T143000
DTSTAMP:20260425T054609
CREATED:20250311T024842Z
LAST-MODIFIED:20250311T024842Z
UID:3429-1741179600-1741185000@cincoranchladiesclub.org
SUMMARY:Gardening/Journaling
DESCRIPTION:The Gardening Sub-Club is an oppotunity to socialize with other gardening interested ladies\, and learn more about plantings\, seeds\, etc. This group meets on the 1st Wednesday at 1 pm.
URL:https://cincoranchladiesclub.org/event/gardening-journaling-7/
END:VEVENT
BEGIN:VEVENT
DTSTART;TZID=UTC:20250306T110000
DTEND;TZID=UTC:20250306T140000
DTSTAMP:20260425T054609
CREATED:20250311T030524Z
LAST-MODIFIED:20250311T030524Z
UID:3433-1741258800-1741269600@cincoranchladiesclub.org
SUMMARY:Mexican Train - Day
DESCRIPTION:We meet on the 1st Thursday of each month at 11 am @ Neca’s Mexican\, 4020 FM 1463. If you would like to have dinner prior to the game – 12:15 pm is game time. \nMexican Train Dominoes has just the right amount of skill and fun.  This game seems to unite and build friendships that last forever!  Fall in love with Mexican Train.  It is fun and endlessly challenging.
URL:https://cincoranchladiesclub.org/event/mexican-train-day-7/
ORGANIZER;CN="Liz  Castle":MAILTO:cincoranchladiesclub@gmail.com
END:VEVENT
BEGIN:VEVENT
DTSTART;TZID=UTC:20250306T183000
DTEND;TZID=UTC:20250306T193000
DTSTAMP:20260425T054609
CREATED:20250311T030939Z
LAST-MODIFIED:20250311T030939Z
UID:3437-1741285800-1741289400@cincoranchladiesclub.org
SUMMARY:Book Club
DESCRIPTION:Join us on the 1st Thursday of each month at 6:30 pm. \nOur Book Club meets once a month to discuss the book we have read. Meetings will vary each month based on location. We read the agreed-upon book (usually selected by members’ input) and meet to discuss themes\, characters\, etc. Selections might be fiction\, nonfiction\, light-hearted or serious. “True Women” by Janice Woods Wendle is the book for this month.
URL:https://cincoranchladiesclub.org/event/book-club-15/
ORGANIZER;CN="Cynthia Rogan":MAILTO:cincoranchladiesclub@gmail.com
END:VEVENT
BEGIN:VEVENT
DTSTART;TZID=UTC:20250307T090000
DTEND;TZID=UTC:20250307T090000
DTSTAMP:20260425T054609
CREATED:20250314T202830Z
LAST-MODIFIED:20250314T202830Z
UID:3490-1741338000-1741338000@cincoranchladiesclub.org
SUMMARY:Walking Club
DESCRIPTION:This club meets weekly inside AMC Entrance 8 every Friday at 9:00 am. Some extra outings and hikes are occasionally offered. \nLet’s get physical! Getting in a weekly stroll is so much easier with friends and laughs! Take it at your own pace.
URL:https://cincoranchladiesclub.org/event/walking-club-43/
ORGANIZER;CN="Debbie Steinfield":MAILTO:cincoranchladiesclub@gmail.com
END:VEVENT
BEGIN:VEVENT
DTSTART;TZID=UTC:20250307T180000
DTEND;TZID=UTC:20250307T210000
DTSTAMP:20260425T054609
CREATED:20250314T204543Z
LAST-MODIFIED:20250314T204543Z
UID:3518-1741370400-1741381200@cincoranchladiesclub.org
SUMMARY:Ladies Night Out
DESCRIPTION:We usually meet each month at 5:30 pm\, sometimes 4:30 on Thursdays or Fridays. \nJoin this fun group of ladies for a night of fun. \nThe location will change each month & will be in the Evite!
URL:https://cincoranchladiesclub.org/event/ladies-night-out-12/
ORGANIZER;CN="Penny Grant":MAILTO:cincoranchladiesclub@gmail.com
END:VEVENT
BEGIN:VEVENT
DTSTART;TZID=UTC:20250311T180000
DTEND;TZID=UTC:20250311T203000
DTSTAMP:20260425T054609
CREATED:20250311T031514Z
LAST-MODIFIED:20250311T031514Z
UID:3443-1741716000-1741725000@cincoranchladiesclub.org
SUMMARY:Bunko - Evening
DESCRIPTION:We meet the 2nd  Tuesday of every month at 6:00 pm \nHave you ever played this simple\, fast-paced\, and thrilling game? If you have you know it requires a strict number of players (groups of four) and as this is one of our most popular sub-clubs\, the spaces fill up fast every month! (RSVP to your Evite right away!) The event is typically limited to 16 ladies as we hold it in one of our member’s lovely homes- light snacks are served.
URL:https://cincoranchladiesclub.org/event/bunko-evening-17/
ORGANIZER;CN="Tracy Gremillion":MAILTO:traceygremillion@kw.com
END:VEVENT
BEGIN:VEVENT
DTSTART;TZID=UTC:20250312T130000
DTEND;TZID=UTC:20250312T150000
DTSTAMP:20260425T054609
CREATED:20250311T032130Z
LAST-MODIFIED:20250311T032130Z
UID:3451-1741784400-1741791600@cincoranchladiesclub.org
SUMMARY:Mahjong
DESCRIPTION:Mahjong is a tile-based game played with a set of tiles based on Chinese characters and symbols. It is played on the 2nd Wednesday of the month at 1-3 pm.
URL:https://cincoranchladiesclub.org/event/mahjong-9/
ORGANIZER;CN="Penny Smith":MAILTO:penny.leder.aka.smith@gmail.com
END:VEVENT
BEGIN:VEVENT
DTSTART;TZID=UTC:20250313T113000
DTEND;TZID=UTC:20250313T140000
DTSTAMP:20260425T054609
CREATED:20250314T200346Z
LAST-MODIFIED:20250314T200346Z
UID:3456-1741865400-1741874400@cincoranchladiesclub.org
SUMMARY:Creative Kitchen
DESCRIPTION:We meet on the 2nd Thursday at 11:30 am \nThis popular club rotates at a member’s home each month for lunch. A different Hostess and 5+ Co-Hosts team up to organize a themed luncheon for 30-50 members and the results are mouthwatering! \nInvitations and details are sent monthly by Evite. RSVP’s are required and limited as this consists of a sit down pre-planned menu. Attendees are required to volunteer in some capacity at least one time to enjoy the luncheons the entire club year.
URL:https://cincoranchladiesclub.org/event/creative-kitchen-16/
ORGANIZER;CN="Renita Hudson":MAILTO:cincoranchladiesclub@gmail.com
END:VEVENT
BEGIN:VEVENT
DTSTART;TZID=UTC:20250314T080000
DTEND;TZID=UTC:20250314T110000
DTSTAMP:20260425T054609
CREATED:20250314T200749Z
LAST-MODIFIED:20250314T200749Z
UID:3460-1741939200-1741950000@cincoranchladiesclub.org
SUMMARY:Pickleball
DESCRIPTION:Pickleball meets on the 2nd & 4th Fridays at 9am in the Spring.  We are currently playing at: \n\nJones Creek Ranch Park\, 7714 FM 359\, Richmond (Fridays)
URL:https://cincoranchladiesclub.org/event/pickleball-16/
ORGANIZER;CN="Kate Chiang":MAILTO:katechiange88@gmail.com
END:VEVENT
BEGIN:VEVENT
DTSTART;TZID=UTC:20250314T090000
DTEND;TZID=UTC:20250314T090000
DTSTAMP:20260425T054609
CREATED:20250314T202941Z
LAST-MODIFIED:20250314T202941Z
UID:3491-1741942800-1741942800@cincoranchladiesclub.org
SUMMARY:Walking Club
DESCRIPTION:This club meets weekly inside AMC Entrance 8 every Friday at 9:00 am. Some extra outings and hikes are occasionally offered. \nLet’s get physical! Getting in a weekly stroll is so much easier with friends and laughs! Take it at your own pace.
URL:https://cincoranchladiesclub.org/event/walking-club-44/
ORGANIZER;CN="Debbie Steinfield":MAILTO:cincoranchladiesclub@gmail.com
END:VEVENT
BEGIN:VEVENT
DTSTART;TZID=UTC:20250314T104500
DTEND;TZID=UTC:20250314T130000
DTSTAMP:20260425T054609
CREATED:20250314T204852Z
LAST-MODIFIED:20250314T204852Z
UID:3520-1741949100-1741957200@cincoranchladiesclub.org
SUMMARY:Movie Club
DESCRIPTION:Dates and times will vary.  This month is March 14th at 10:45 am at Cinemark on I-10 & 99. The movie is Black Bag. Lunch follows. See Evite for details.
URL:https://cincoranchladiesclub.org/event/movie-club-9/
ORGANIZER;CN="Sue Currie":MAILTO:sue.currie@att.net
END:VEVENT
BEGIN:VEVENT
DTSTART;TZID=UTC:20250317T110000
DTEND;TZID=UTC:20250317T140000
DTSTAMP:20260425T054609
CREATED:20250314T201311Z
LAST-MODIFIED:20250314T201311Z
UID:3469-1742209200-1742220000@cincoranchladiesclub.org
SUMMARY:Canasta
DESCRIPTION:We meet on the 3rd Monday of each month at 11:00 am for lunch at Center Court Pizza on Spring Green. We play at noon.
URL:https://cincoranchladiesclub.org/event/canasta-16/
ORGANIZER;CN="Sue Currie":MAILTO:sue.currie@att.net
END:VEVENT
BEGIN:VEVENT
DTSTART;TZID=UTC:20250318T130000
DTEND;TZID=UTC:20250318T150000
DTSTAMP:20260425T054609
CREATED:20250314T201555Z
LAST-MODIFIED:20250314T201745Z
UID:3473-1742302800-1742310000@cincoranchladiesclub.org
SUMMARY:Bowling
DESCRIPTION:This group of ladies will meet at Times Square Entertainment Katy at 1pm on the 3rd Tuesday of the month. Get there early to pay and rent shoes\, if needed.
URL:https://cincoranchladiesclub.org/event/bowling-copy/
ORGANIZER;CN="Joyce Rogers":MAILTO:cincoranchladiesclub@gmail.com
END:VEVENT
BEGIN:VEVENT
DTSTART;TZID=UTC:20250319T180000
DTEND;TZID=UTC:20250319T213000
DTSTAMP:20260425T054609
CREATED:20250314T201929Z
LAST-MODIFIED:20250314T201929Z
UID:3478-1742407200-1742419800@cincoranchladiesclub.org
SUMMARY:Wine Club
DESCRIPTION:Wine Club meets on the 3rd Wednesday at 6:30 pm. Come and join us for wine and a social evening.
URL:https://cincoranchladiesclub.org/event/wine-club-11/
ORGANIZER;CN="Sherry Johnson":MAILTO:SEJ1959@comcast.net
END:VEVENT
BEGIN:VEVENT
DTSTART;TZID=UTC:20250320T093000
DTEND;TZID=UTC:20250320T110000
DTSTAMP:20260425T054609
CREATED:20250314T202210Z
LAST-MODIFIED:20250314T202210Z
UID:3482-1742463000-1742468400@cincoranchladiesclub.org
SUMMARY:Coffee
DESCRIPTION:We generally meet on the 3rd Thursday of each month at 9:30 am.  Location TBA in Evite.
URL:https://cincoranchladiesclub.org/event/coffee-16/
ORGANIZER;CN="Nancy Creedon":MAILTO:nodee79@yahoo.com
END:VEVENT
BEGIN:VEVENT
DTSTART;TZID=UTC:20250321T090000
DTEND;TZID=UTC:20250321T090000
DTSTAMP:20260425T054609
CREATED:20250314T203047Z
LAST-MODIFIED:20250314T203047Z
UID:3494-1742547600-1742547600@cincoranchladiesclub.org
SUMMARY:Walking Club
DESCRIPTION:This club meets weekly inside AMC Entrance 8 every Friday at 9:00 am. Some extra outings and hikes are occasionally offered. \nLet’s get physical! Getting in a weekly stroll is so much easier with friends and laughs! Take it at your own pace.
URL:https://cincoranchladiesclub.org/event/walking-club-45/
ORGANIZER;CN="Debbie Steinfield":MAILTO:cincoranchladiesclub@gmail.com
END:VEVENT
BEGIN:VEVENT
DTSTART;TZID=UTC:20250322T180000
DTEND;TZID=UTC:20250322T203000
DTSTAMP:20260425T054609
CREATED:20250314T202543Z
LAST-MODIFIED:20250314T202543Z
UID:3486-1742666400-1742675400@cincoranchladiesclub.org
SUMMARY:Dining Out
DESCRIPTION:We generally meet on the 3rd Saturday of each month at 6:30 pm. \nAn RSVP required event\, reservations are made (your favorite significant other is welcome to join) can enjoy a night out at a fabulous Katy or West Houston area restaurants. Don’t worry\, this isn’t all about “fancy places.” We have been known to sample delectable Bar-B-Que\, or juicy hamburgers\, as well as the finer dining options!
URL:https://cincoranchladiesclub.org/event/dining-out-14/
ORGANIZER;CN="Diane Leive":MAILTO:cincoranchladiesclub@gmail.com
END:VEVENT
BEGIN:VEVENT
DTSTART;TZID=UTC:20250324T130000
DTEND;TZID=UTC:20250324T150000
DTSTAMP:20260425T054609
CREATED:20250314T203656Z
LAST-MODIFIED:20250314T203656Z
UID:3506-1742821200-1742828400@cincoranchladiesclub.org
SUMMARY:Pokeno
DESCRIPTION:Pokeno generally meets on the 4th Monday from 1-3 pm.  Location will be in the Evite.
URL:https://cincoranchladiesclub.org/event/pokeno-12/
ORGANIZER;CN="Edna Quirk":MAILTO:EdnaQuirk66@gmail.com
END:VEVENT
BEGIN:VEVENT
DTSTART;TZID=UTC:20250325T171500
DTEND;TZID=UTC:20250325T203000
DTSTAMP:20260425T054609
CREATED:20250314T203812Z
LAST-MODIFIED:20250314T203812Z
UID:3508-1742922900-1742934600@cincoranchladiesclub.org
SUMMARY:Mexican Train (Evenings)
DESCRIPTION:We meet on the 4th Tuesday of each month at 5:15 pm @ Neca’s Mexican\, 4020 FM 1463. If you would like to have dinner prior to the game – 6:15 pm is game time. \nMexican Train Dominoes has just the right amount of skill and fun.  This game seems to unite and build friendships that last forever!  Fall in love with Mexican Train.  It is fun and endlessly challenging.
URL:https://cincoranchladiesclub.org/event/mexican-train-evenings-8/
ORGANIZER;CN="Beth Clark":MAILTO:bethclark02@gmail.com
END:VEVENT
BEGIN:VEVENT
DTSTART;TZID=UTC:20250328T080000
DTEND;TZID=UTC:20250328T110000
DTSTAMP:20260425T054609
CREATED:20250314T200840Z
LAST-MODIFIED:20250314T200840Z
UID:3462-1743148800-1743159600@cincoranchladiesclub.org
SUMMARY:Pickleball
DESCRIPTION:Pickleball meets on the 2nd & 4th Fridays at 9am in the Spring.  We are currently playing at: \n\nJones Creek Ranch Park\, 7714 FM 359\, Richmond (Fridays)
URL:https://cincoranchladiesclub.org/event/pickleball-17/
ORGANIZER;CN="Kate Chiang":MAILTO:katechiange88@gmail.com
END:VEVENT
BEGIN:VEVENT
DTSTART;TZID=UTC:20250328T090000
DTEND;TZID=UTC:20250328T090000
DTSTAMP:20260425T054609
CREATED:20250314T203215Z
LAST-MODIFIED:20250314T203215Z
UID:3496-1743152400-1743152400@cincoranchladiesclub.org
SUMMARY:Walking Club
DESCRIPTION:This club meets weekly inside AMC Entrance 8 every Friday at 9:00 am. Some extra outings and hikes are occasionally offered. \nLet’s get physical! Getting in a weekly stroll is so much easier with friends and laughs! Take it at your own pace.
URL:https://cincoranchladiesclub.org/event/walking-club-46/
ORGANIZER;CN="Debbie Steinfield":MAILTO:cincoranchladiesclub@gmail.com
END:VEVENT
BEGIN:VEVENT
DTSTART;TZID=UTC:20250328T113000
DTEND;TZID=UTC:20250328T130000
DTSTAMP:20260425T054609
CREATED:20250314T204155Z
LAST-MODIFIED:20250314T204155Z
UID:3512-1743161400-1743166800@cincoranchladiesclub.org
SUMMARY:Lunch Bunch
DESCRIPTION:We meet on the 4th Friday of each month at 11:30 am. \n“The Ladies Who Lunch” always have a marvelous time trying out new lunch spots and experiencing interesting or tried-and-true favorite cuisines at different restaurants.
URL:https://cincoranchladiesclub.org/event/lunch-bunch-16/
ORGANIZER;CN="Sally Outlaw":MAILTO:texasoutlaws48@aol.com
END:VEVENT
BEGIN:VEVENT
DTSTART;TZID=UTC:20250401T130000
DTEND;TZID=UTC:20250401T143000
DTSTAMP:20260425T054609
CREATED:20250311T025111Z
LAST-MODIFIED:20250331T021929Z
UID:3431-1743512400-1743517800@cincoranchladiesclub.org
SUMMARY:Gardening/Journaling
DESCRIPTION:The Gardening Sub-Club is an oppotunity to socialize with other gardening interested ladies\, and learn more about plantings\, seeds\, etc. This group usually meets on the 1st Wednesday at 1 pm.
URL:https://cincoranchladiesclub.org/event/gardening-journaling-8/
END:VEVENT
BEGIN:VEVENT
DTSTART;TZID=UTC:20250402T123000
DTEND;TZID=UTC:20250402T150000
DTSTAMP:20260425T054609
CREATED:20250331T022642Z
LAST-MODIFIED:20250331T022642Z
UID:3601-1743597000-1743606000@cincoranchladiesclub.org
SUMMARY:Movie Club
DESCRIPTION:Dates and times will vary.  This month is April 2nd at Cinemark on I-10 & 99. The movie is A Walking Man. See Evite for details.
URL:https://cincoranchladiesclub.org/event/movie-club-10/
ORGANIZER;CN="Sue Currie":MAILTO:sue.currie@att.net
END:VEVENT
BEGIN:VEVENT
DTSTART;TZID=UTC:20250403T110000
DTEND;TZID=UTC:20250403T140000
DTSTAMP:20260425T054609
CREATED:20250311T030659Z
LAST-MODIFIED:20250311T030659Z
UID:3434-1743678000-1743688800@cincoranchladiesclub.org
SUMMARY:Mexican Train - Day
DESCRIPTION:We meet on the 1st Thursday of each month at 11 am @ Neca’s Mexican\, 4020 FM 1463. If you would like to have dinner prior to the game – 12:15 pm is game time. \nMexican Train Dominoes has just the right amount of skill and fun.  This game seems to unite and build friendships that last forever!  Fall in love with Mexican Train.  It is fun and endlessly challenging.
URL:https://cincoranchladiesclub.org/event/mexican-train-day-8/
ORGANIZER;CN="Liz  Castle":MAILTO:cincoranchladiesclub@gmail.com
END:VEVENT
BEGIN:VEVENT
DTSTART;TZID=UTC:20250403T183000
DTEND;TZID=UTC:20250403T193000
DTSTAMP:20260425T054609
CREATED:20250311T031103Z
LAST-MODIFIED:20250331T023559Z
UID:3439-1743705000-1743708600@cincoranchladiesclub.org
SUMMARY:Book Club
DESCRIPTION:Join us on the 1st Thursday of each month at 6:30 pm. \nOur Book Club meets once a month to discuss the book we have read. Meetings will vary each month based on location. We read the agreed-upon book (usually selected by members’ input) and meet to discuss themes\, characters\, etc. Selections might be fiction\, nonfiction\, light-hearted or serious. The book for this month is The Medicine Woman of Galveston by Amanda Skenandore.
URL:https://cincoranchladiesclub.org/event/book-club-16/
ORGANIZER;CN="Cynthia Rogan":MAILTO:cincoranchladiesclub@gmail.com
END:VEVENT
BEGIN:VEVENT
DTSTART;TZID=UTC:20250404T090000
DTEND;TZID=UTC:20250404T090000
DTSTAMP:20260425T054609
CREATED:20250314T203304Z
LAST-MODIFIED:20250314T203304Z
UID:3498-1743757200-1743757200@cincoranchladiesclub.org
SUMMARY:Walking Club
DESCRIPTION:This club meets weekly inside AMC Entrance 8 every Friday at 9:00 am. Some extra outings and hikes are occasionally offered. \nLet’s get physical! Getting in a weekly stroll is so much easier with friends and laughs! Take it at your own pace.
URL:https://cincoranchladiesclub.org/event/walking-club-47/
ORGANIZER;CN="Debbie Steinfield":MAILTO:cincoranchladiesclub@gmail.com
END:VEVENT
BEGIN:VEVENT
DTSTART;TZID=UTC:20250407T110000
DTEND;TZID=UTC:20250407T133000
DTSTAMP:20260425T054609
CREATED:20250311T024253Z
LAST-MODIFIED:20250311T024253Z
UID:3427-1744023600-1744032600@cincoranchladiesclub.org
SUMMARY:Bunco - Day
DESCRIPTION:We meet the 1st Monday of every month at 11:00 am. \nHave you ever played this simple\, fast-paced\, and thrilling game? If you have you know it requires a strict number of players (groups of four) and as this is one of our most popular sub-clubs\, the spaces fill up fast every month! (RSVP to your Evite right away!) The event is typically at Necca’s on FM 1463.
URL:https://cincoranchladiesclub.org/event/bunco-day-12/
ORGANIZER;CN="Cathy Wilson":MAILTO:cincoranchladiesclub@gmail.com
END:VEVENT
BEGIN:VEVENT
DTSTART;TZID=UTC:20250408T180000
DTEND;TZID=UTC:20250408T203000
DTSTAMP:20260425T054609
CREATED:20250311T032006Z
LAST-MODIFIED:20250311T032006Z
UID:3449-1744135200-1744144200@cincoranchladiesclub.org
SUMMARY:Bunko - Evening
DESCRIPTION:We meet the 2nd  Tuesday of every month at 6:00 pm \nHave you ever played this simple\, fast-paced\, and thrilling game? If you have you know it requires a strict number of players (groups of four) and as this is one of our most popular sub-clubs\, the spaces fill up fast every month! (RSVP to your Evite right away!) The event is typically limited to 16 ladies as we hold it in one of our member’s lovely homes- light snacks are served.
URL:https://cincoranchladiesclub.org/event/bunko-evening-19/
ORGANIZER;CN="Tracy Gremillion":MAILTO:traceygremillion@kw.com
END:VEVENT
BEGIN:VEVENT
DTSTART;TZID=UTC:20250409T130000
DTEND;TZID=UTC:20250409T150000
DTSTAMP:20260425T054609
CREATED:20250311T032214Z
LAST-MODIFIED:20250311T032214Z
UID:3453-1744203600-1744210800@cincoranchladiesclub.org
SUMMARY:Mahjong
DESCRIPTION:Mahjong is a tile-based game played with a set of tiles based on Chinese characters and symbols. It is played on the 2nd Wednesday of the month at 1-3 pm.
URL:https://cincoranchladiesclub.org/event/mahjong-10/
ORGANIZER;CN="Penny Smith":MAILTO:penny.leder.aka.smith@gmail.com
END:VEVENT
END:VCALENDAR