BEGIN:VCALENDAR
VERSION:2.0
PRODID:-// - ECPv6.15.20//NONSGML v1.0//EN
CALSCALE:GREGORIAN
METHOD:PUBLISH
X-ORIGINAL-URL:https://cincoranchladiesclub.org
X-WR-CALDESC:Events for 
REFRESH-INTERVAL;VALUE=DURATION:PT1H
X-Robots-Tag:noindex
X-PUBLISHED-TTL:PT1H
BEGIN:VTIMEZONE
TZID:UTC
BEGIN:STANDARD
TZOFFSETFROM:+0000
TZOFFSETTO:+0000
TZNAME:UTC
DTSTART:20230101T000000
END:STANDARD
END:VTIMEZONE
BEGIN:VEVENT
DTSTART;TZID=UTC:20241202T110000
DTEND;TZID=UTC:20241202T133000
DTSTAMP:20260425T093135
CREATED:20241203T025716Z
LAST-MODIFIED:20241203T025716Z
UID:3097-1733137200-1733146200@cincoranchladiesclub.org
SUMMARY:Bunco - Day
DESCRIPTION:We meet the 1st Monday of every month at 11:00 am. \nHave you ever played this simple\, fast-paced\, and thrilling game? If you have you know it requires a strict number of players (groups of four) and as this is one of our most popular sub-clubs\, the spaces fill up fast every month! (RSVP to your Evite right away!) The event is typically at Necca’s on FM 1463.
URL:https://cincoranchladiesclub.org/event/bunco-day-8/
ORGANIZER;CN="Cathy Wilson":MAILTO:cincoranchladiesclub@gmail.com
END:VEVENT
BEGIN:VEVENT
DTSTART;TZID=UTC:20241126T171500
DTEND;TZID=UTC:20241126T203000
DTSTAMP:20260425T093135
CREATED:20241104T024842Z
LAST-MODIFIED:20241108T204804Z
UID:2991-1732641300-1732653000@cincoranchladiesclub.org
SUMMARY:Mexican Train (Evenings)
DESCRIPTION:There will be no Evening Mexican Train for November and December. We meet on the 4th Tuesday of each month at 5:15 pm @ Neca’s Mexican\, 4020 FM 1463. If you would like to have dinner prior to the game – 6:15 pm is game time. \nMexican Train Dominoes has just the right amount of skill and fun.  This game seems to unite and build friendships that last forever!  Fall in love with Mexican Train.  It is fun and endlessly challenging.
URL:https://cincoranchladiesclub.org/event/mexican-train-evenings-4/
ORGANIZER;CN="Beth Clark":MAILTO:bethclark02@gmail.com
END:VEVENT
BEGIN:VEVENT
DTSTART;TZID=UTC:20241126T080000
DTEND;TZID=UTC:20241126T110000
DTSTAMP:20260425T093135
CREATED:20241104T033055Z
LAST-MODIFIED:20241104T033055Z
UID:3011-1732608000-1732618800@cincoranchladiesclub.org
SUMMARY:Pickleball
DESCRIPTION:Pickleball meets on Tuesdays & Fridays at 7am in the Summer & 8am in the Fall.  We are currently playing at: \n\nJones Creek Ranch Park\, 7714 FM 359\, Richmond (Tuesdays)\nHarlem Rd Pickleball Courts\, 701 Harlem Rd\, Richmond (Fridays)
URL:https://cincoranchladiesclub.org/event/pickleball-8/
ORGANIZER;CN="Kate Chiang":MAILTO:katechiange88@gmail.com
END:VEVENT
BEGIN:VEVENT
DTSTART;TZID=UTC:20241125T214500
DTEND;TZID=UTC:20241125T235000
DTSTAMP:20260425T093135
CREATED:20241104T034720Z
LAST-MODIFIED:20241104T034720Z
UID:3023-1732571100-1732578600@cincoranchladiesclub.org
SUMMARY:Movie Club
DESCRIPTION:Dates and times will vary.  This month is Nov. 25th at 11:35am at Cinemark on I-10 & 99. The movie is Wicked.
URL:https://cincoranchladiesclub.org/event/movie-club-7/
ORGANIZER;CN="Sue Currie":MAILTO:sue.currie@att.net
END:VEVENT
BEGIN:VEVENT
DTSTART;TZID=UTC:20241122T113000
DTEND;TZID=UTC:20241122T130000
DTSTAMP:20260425T093135
CREATED:20241104T034144Z
LAST-MODIFIED:20241104T034144Z
UID:3021-1732275000-1732280400@cincoranchladiesclub.org
SUMMARY:Lunch Bunch
DESCRIPTION:We meet on the 4th Friday of each month at 11:30 am. \n“The Ladies Who Lunch” always have a marvelous time trying out new lunch spots and experiencing interesting or tried-and-true favorite cuisines at different restaurants.
URL:https://cincoranchladiesclub.org/event/lunch-bunch-12/
ORGANIZER;CN="Sally Outlaw":MAILTO:texasoutlaws48@aol.com
END:VEVENT
BEGIN:VEVENT
DTSTART;TZID=UTC:20241122T090000
DTEND;TZID=UTC:20241122T090000
DTSTAMP:20260425T093135
CREATED:20241104T033153Z
LAST-MODIFIED:20241104T033153Z
UID:3013-1732266000-1732266000@cincoranchladiesclub.org
SUMMARY:Walking Club
DESCRIPTION:This club meets weekly inside AMC Entrance 8 every Friday at 9:00 am. Some extra outings and hikes are occasionally offered. \nLet’s get physical! Getting in a weekly stroll is so much easier with friends and laughs! Take it at your own pace.
URL:https://cincoranchladiesclub.org/event/walking-club-32/
ORGANIZER;CN="Debbie Steinfield":MAILTO:cincoranchladiesclub@gmail.com
END:VEVENT
BEGIN:VEVENT
DTSTART;TZID=UTC:20241121T130000
DTEND;TZID=UTC:20241121T150000
DTSTAMP:20260425T093135
CREATED:20241104T033902Z
LAST-MODIFIED:20241104T033902Z
UID:3019-1732194000-1732201200@cincoranchladiesclub.org
SUMMARY:Bowling
DESCRIPTION:This group of ladies will meet at Times Square Entertainment Katy at 1pm on the 3rd Tuesday of the month. Get there early to pay and rent shoes\, if needed.
URL:https://cincoranchladiesclub.org/event/bowling-3/
ORGANIZER;CN="Joyce Rogers":MAILTO:cincoranchladiesclub@gmail.com
END:VEVENT
BEGIN:VEVENT
DTSTART;TZID=UTC:20241120T180000
DTEND;TZID=UTC:20241120T213000
DTSTAMP:20260425T093135
CREATED:20241104T033649Z
LAST-MODIFIED:20241104T033649Z
UID:3017-1732125600-1732138200@cincoranchladiesclub.org
SUMMARY:Wine Club
DESCRIPTION:Wine Club meets on the 3rd Wednesday at 6:30 pm. Come and join us for wine and a social evening.
URL:https://cincoranchladiesclub.org/event/wine-club-7/
ORGANIZER;CN="Sherry Johnson":MAILTO:SEJ1959@comcast.net
END:VEVENT
BEGIN:VEVENT
DTSTART;TZID=UTC:20241119T093000
DTEND;TZID=UTC:20241119T110000
DTSTAMP:20260425T093135
CREATED:20241104T033423Z
LAST-MODIFIED:20241104T033447Z
UID:3015-1732008600-1732014000@cincoranchladiesclub.org
SUMMARY:Coffee
DESCRIPTION:We generally meet on the 3rd Thursday of each month at 9:30 am.  Location TBA in Evite.
URL:https://cincoranchladiesclub.org/event/coffee-12/
ORGANIZER;CN="Nancy Creedon":MAILTO:nodee79@yahoo.com
END:VEVENT
BEGIN:VEVENT
DTSTART;TZID=UTC:20241119T080000
DTEND;TZID=UTC:20241119T110000
DTSTAMP:20260425T093135
CREATED:20241104T032519Z
LAST-MODIFIED:20241104T032947Z
UID:3009-1732003200-1732014000@cincoranchladiesclub.org
SUMMARY:Pickleball
DESCRIPTION:Pickleball meets on Tuesdays & Fridays at 7am in the Summer & 8am in the Fall.  We are currently playing at: \n\nJones Creek Ranch Park\, 7714 FM 359\, Richmond (Tuesdays)\nHarlem Rd Pickleball Courts\, 701 Harlem Rd\, Richmond (Fridays)
URL:https://cincoranchladiesclub.org/event/pickleball-7/
ORGANIZER;CN="Kate Chiang":MAILTO:katechiange88@gmail.com
END:VEVENT
BEGIN:VEVENT
DTSTART;TZID=UTC:20241118T110000
DTEND;TZID=UTC:20241118T140000
DTSTAMP:20260425T093135
CREATED:20241104T031430Z
LAST-MODIFIED:20241104T031430Z
UID:3003-1731927600-1731938400@cincoranchladiesclub.org
SUMMARY:Canasta
DESCRIPTION:We meet on the 3rd Monday of each month at 11:00 am for lunch at Center Court Pizza on Spring Green. We play at noon.
URL:https://cincoranchladiesclub.org/event/canasta-12/
ORGANIZER;CN="Sue Currie":MAILTO:sue.currie@att.net
END:VEVENT
BEGIN:VEVENT
DTSTART;TZID=UTC:20241116T180000
DTEND;TZID=UTC:20241116T203000
DTSTAMP:20260425T093135
CREATED:20241104T025421Z
LAST-MODIFIED:20241108T204601Z
UID:2993-1731780000-1731789000@cincoranchladiesclub.org
SUMMARY:Dining Out
DESCRIPTION:We generally meet on the 3rd Saturday of each month at 6:30 pm \nAn RSVP required event\, reservations are made (your favorite significant other is welcome to join) can enjoy a night out at a fabulous Katy or West Houston area restaurants. Don’t worry\, this isn’t all about “fancy places.” We have been known to sample delectable Bar-B-Que\, or juicy hamburgers\, as well as the finer dining options!
URL:https://cincoranchladiesclub.org/event/dining-out-11/
ORGANIZER;CN="Diane Leive":MAILTO:cincoranchladiesclub@gmail.com
END:VEVENT
BEGIN:VEVENT
DTSTART;TZID=UTC:20241115T090000
DTEND;TZID=UTC:20241115T090000
DTSTAMP:20260425T093135
CREATED:20241104T030816Z
LAST-MODIFIED:20241104T030816Z
UID:3001-1731661200-1731661200@cincoranchladiesclub.org
SUMMARY:Walking Club
DESCRIPTION:This club meets weekly inside AMC Entrance 8 every Friday at 9:00 am. Some extra outings and hikes are occasionally offered. \nLet’s get physical! Getting in a weekly stroll is so much easier with friends and laughs! Take it at your own pace.
URL:https://cincoranchladiesclub.org/event/walking-club-31/
ORGANIZER;CN="Debbie Steinfield":MAILTO:cincoranchladiesclub@gmail.com
END:VEVENT
BEGIN:VEVENT
DTSTART;TZID=UTC:20241114T113000
DTEND;TZID=UTC:20241114T140000
DTSTAMP:20260425T093135
CREATED:20241104T030437Z
LAST-MODIFIED:20241104T030437Z
UID:2999-1731583800-1731592800@cincoranchladiesclub.org
SUMMARY:Creative Kitchen
DESCRIPTION:We meet on the 2nd Thursday at 11:30 am \nThis popular club rotates at a member’s home each month for lunch. A different Hostess and 5+ Co-Hosts team up to organize a themed luncheon for 30-50 members and the results are mouthwatering! \nInvitations and details are sent monthly by Evite. RSVP’s are required and limited as this consists of a sit down pre-planned menu. Attendees are required to volunteer in some capacity at least one time to enjoy the luncheons the entire club year.
URL:https://cincoranchladiesclub.org/event/creative-kitchen-12/
ORGANIZER;CN="Renita Hudson":MAILTO:cincoranchladiesclub@gmail.com
END:VEVENT
END:VCALENDAR