BEGIN:VCALENDAR
VERSION:2.0
PRODID:-// - ECPv6.15.20//NONSGML v1.0//EN
CALSCALE:GREGORIAN
METHOD:PUBLISH
X-ORIGINAL-URL:https://cincoranchladiesclub.org
X-WR-CALDESC:Events for 
REFRESH-INTERVAL;VALUE=DURATION:PT1H
X-Robots-Tag:noindex
X-PUBLISHED-TTL:PT1H
BEGIN:VTIMEZONE
TZID:UTC
BEGIN:STANDARD
TZOFFSETFROM:+0000
TZOFFSETTO:+0000
TZNAME:UTC
DTSTART:20240101T000000
END:STANDARD
END:VTIMEZONE
BEGIN:VTIMEZONE
TZID:America/Chicago
BEGIN:DAYLIGHT
TZOFFSETFROM:-0600
TZOFFSETTO:-0500
TZNAME:CDT
DTSTART:20240310T080000
END:DAYLIGHT
BEGIN:STANDARD
TZOFFSETFROM:-0500
TZOFFSETTO:-0600
TZNAME:CST
DTSTART:20241103T070000
END:STANDARD
BEGIN:DAYLIGHT
TZOFFSETFROM:-0600
TZOFFSETTO:-0500
TZNAME:CDT
DTSTART:20250309T080000
END:DAYLIGHT
BEGIN:STANDARD
TZOFFSETFROM:-0500
TZOFFSETTO:-0600
TZNAME:CST
DTSTART:20251102T070000
END:STANDARD
BEGIN:DAYLIGHT
TZOFFSETFROM:-0600
TZOFFSETTO:-0500
TZNAME:CDT
DTSTART:20260308T080000
END:DAYLIGHT
BEGIN:STANDARD
TZOFFSETFROM:-0500
TZOFFSETTO:-0600
TZNAME:CST
DTSTART:20261101T070000
END:STANDARD
END:VTIMEZONE
BEGIN:VEVENT
DTSTART;TZID=UTC:20251023T093000
DTEND;TZID=UTC:20251023T110000
DTSTAMP:20260424T062133
CREATED:20251005T210737Z
LAST-MODIFIED:20251005T210737Z
UID:4174-1761211800-1761217200@cincoranchladiesclub.org
SUMMARY:Coffee
DESCRIPTION:We generally meet on the 4th Thursday of each month at 9:30 am.  Location TBA in Evite. Tiffany Lanza the organizer.
URL:https://cincoranchladiesclub.org/event/coffee-21/
END:VEVENT
BEGIN:VEVENT
DTSTART;TZID=UTC:20251024T090000
DTEND;TZID=UTC:20251024T100000
DTSTAMP:20260424T062133
CREATED:20251005T210443Z
LAST-MODIFIED:20251005T210443Z
UID:4229-1761296400-1761300000@cincoranchladiesclub.org
SUMMARY:Walking Club
DESCRIPTION:This club meets weekly inside AMC Entrance 8 every Friday at 9:00 am. Some extra outings and hikes are occasionally offered. \nLet’s get physical! Getting in a weekly stroll is so much easier with friends and laughs! Take it at your own pace.
URL:https://cincoranchladiesclub.org/event/walking-club-68/
ORGANIZER;CN="Debbie Steinfield":MAILTO:cincoranchladiesclub@gmail.com
END:VEVENT
BEGIN:VEVENT
DTSTART;TZID=UTC:20251024T113000
DTEND;TZID=UTC:20251024T130000
DTSTAMP:20260424T062133
CREATED:20251005T210635Z
LAST-MODIFIED:20251005T210635Z
UID:4233-1761305400-1761310800@cincoranchladiesclub.org
SUMMARY:Lunch Bunch
DESCRIPTION:We meet on the 4th Friday of each month at 11:30 am. \n“The Ladies Who Lunch” always have a marvelous time trying out new lunch spots and experiencing interesting or tried-and-true favorite cuisines at different restaurants.
URL:https://cincoranchladiesclub.org/event/lunch-bunch-23/
ORGANIZER;CN="Sally Outlaw":MAILTO:texasoutlaws48@aol.com
END:VEVENT
BEGIN:VEVENT
DTSTART;TZID=America/Chicago:20251027T171500
DTEND;TZID=America/Chicago:20251027T201500
DTSTAMP:20260424T062133
CREATED:20251005T211336Z
LAST-MODIFIED:20251005T211336Z
UID:4242-1761585300-1761596100@cincoranchladiesclub.org
SUMMARY:Work of Our Hands
DESCRIPTION:4th Monday 5:15-8:15 p.m. This is a crochet and knitting class suitable for individuals of all skill levels.  Topic ideas are encouraged. I welcome ideas of what inspires you.  Please bring your WIP\, hook\, needles\, and a small notebook with you.
URL:https://cincoranchladiesclub.org/event/work-of-our-hands-2/
ORGANIZER;CN="Beckah Krahula":MAILTO:bkrahula@gmail.com
END:VEVENT
BEGIN:VEVENT
DTSTART;TZID=UTC:20251028T171500
DTEND;TZID=UTC:20251028T203000
DTSTAMP:20260424T062133
CREATED:20251005T211040Z
LAST-MODIFIED:20251005T211040Z
UID:4238-1761671700-1761683400@cincoranchladiesclub.org
SUMMARY:Mexican Train (Evenings)
DESCRIPTION:We meet on the 4th Tuesday of each month at 5:15 pm @ El Asador 3750 S. Mason RD. 77450. If you would like to have dinner prior to the game – 6:15 pm is game time. \nMexican Train Dominoes has just the right amount of skill and fun.  This game seems to unite and build friendships that last forever!  Fall in love with Mexican Train.  It is fun and endlessly challenging.
URL:https://cincoranchladiesclub.org/event/mexican-train-evenings-15/
ORGANIZER;CN="Beth Clark":MAILTO:bethclark02@gmail.com
END:VEVENT
BEGIN:VEVENT
DTSTART;TZID=UTC:20251031T090000
DTEND;TZID=UTC:20251031T100000
DTSTAMP:20260424T062133
CREATED:20251005T210517Z
LAST-MODIFIED:20251005T210517Z
UID:4231-1761901200-1761904800@cincoranchladiesclub.org
SUMMARY:Walking Club
DESCRIPTION:This club meets weekly inside AMC Entrance 8 every Friday at 9:00 am. Some extra outings and hikes are occasionally offered. \nLet’s get physical! Getting in a weekly stroll is so much easier with friends and laughs! Take it at your own pace.
URL:https://cincoranchladiesclub.org/event/walking-club-69/
ORGANIZER;CN="Debbie Steinfield":MAILTO:cincoranchladiesclub@gmail.com
END:VEVENT
BEGIN:VEVENT
DTSTART;TZID=UTC:20251103T110000
DTEND;TZID=UTC:20251103T133000
DTSTAMP:20260424T062133
CREATED:20251104T030232Z
LAST-MODIFIED:20251104T030232Z
UID:4298-1762167600-1762176600@cincoranchladiesclub.org
SUMMARY:Bunco DAY
DESCRIPTION:We meet the 1st Monday of every month at 11:00 am. \nHave you ever played this simple\, fast-paced\, and thrilling game? If you have you know it requires a strict number of players (groups of four) and as this is one of our most popular sub-clubs\, the spaces fill up fast every month! (RSVP to your Evite right away!) The event is at Texas Borders & Grill 26440 FM 1093 Richmond   Cathy Wilson
URL:https://cincoranchladiesclub.org/event/bunco-day-19/
ORGANIZER;CN="Cathy Wilson":MAILTO:cincoranchladiesclub@gmail.com
END:VEVENT
BEGIN:VEVENT
DTSTART;TZID=America/Chicago:20251104T173000
DTEND;TZID=America/Chicago:20251104T203000
DTSTAMP:20260424T062133
CREATED:20251104T033411Z
LAST-MODIFIED:20251104T033534Z
UID:4339-1762277400-1762288200@cincoranchladiesclub.org
SUMMARY:GENERAL MEETING
DESCRIPTION:We meet on the 1st Tuesday of each month at 5:30 p.m.\, if you want to eat before. Meeting starts at 6:00 p.m. Location is at La Centerra Local Table off Cinco Ranch.
URL:https://cincoranchladiesclub.org/event/general-meeting-2/
END:VEVENT
BEGIN:VEVENT
DTSTART;TZID=UTC:20251105T130000
DTEND;TZID=UTC:20251105T150000
DTSTAMP:20260424T062133
CREATED:20251104T030329Z
LAST-MODIFIED:20251104T030329Z
UID:4300-1762347600-1762354800@cincoranchladiesclub.org
SUMMARY:Pokeno
DESCRIPTION:Pokeno generally meets on the 1st Wednesday from 1-3 pm.  Location will be in the Evite.
URL:https://cincoranchladiesclub.org/event/pokeno-17/
ORGANIZER;CN="Yaya Chalmers":MAILTO:yayachalmers@gmail.com
END:VEVENT
BEGIN:VEVENT
DTSTART;TZID=UTC:20251106T110000
DTEND;TZID=UTC:20251106T140000
DTSTAMP:20260424T062133
CREATED:20251104T030446Z
LAST-MODIFIED:20251104T030446Z
UID:4302-1762426800-1762437600@cincoranchladiesclub.org
SUMMARY:Mexican Train - Day
DESCRIPTION:We meet on the 1st Thursday of each month at 11 am @ El Asador 3750 S. Mason RD. 77450. If you would like to have dinner prior to the game – 12:15 pm is game time. \nMexican Train Dominoes has just the right amount of skill and fun.  This game seems to unite and build friendships that last forever!  Fall in love with Mexican Train.  It is fun and endlessly challenging.
URL:https://cincoranchladiesclub.org/event/mexican-train-day-15/
ORGANIZER;CN="Liz  Castle":MAILTO:cincoranchladiesclub@gmail.com
END:VEVENT
BEGIN:VEVENT
DTSTART;TZID=UTC:20251106T183000
DTEND;TZID=UTC:20251106T193000
DTSTAMP:20260424T062133
CREATED:20251104T030551Z
LAST-MODIFIED:20251104T030551Z
UID:4304-1762453800-1762457400@cincoranchladiesclub.org
SUMMARY:Book Club
DESCRIPTION:Our Book Club meets once a month to discuss the book we have read. Meetings will vary each month based on location. We read the agreed-upon book (usually selected by members’ input) and meet to discuss themes\, characters\, etc. Selections might be fiction\, nonfiction\, light-hearted or serious.
URL:https://cincoranchladiesclub.org/event/book-club-22/
ORGANIZER;CN="Cynthia Rogan":MAILTO:cincoranchladiesclub@gmail.com
END:VEVENT
BEGIN:VEVENT
DTSTART;TZID=UTC:20251107T090000
DTEND;TZID=UTC:20251107T100000
DTSTAMP:20260424T062133
CREATED:20251104T025517Z
LAST-MODIFIED:20251104T025517Z
UID:4289-1762506000-1762509600@cincoranchladiesclub.org
SUMMARY:Walking Club
DESCRIPTION:This club meets weekly inside AMC Entrance 8 every Friday at 9:00 am. Some extra outings and hikes are occasionally offered. \nLet’s get physical! Getting in a weekly stroll is so much easier with friends and laughs! Take it at your own pace.
URL:https://cincoranchladiesclub.org/event/walking-club-70/
ORGANIZER;CN="Debbie Steinfield":MAILTO:cincoranchladiesclub@gmail.com
END:VEVENT
BEGIN:VEVENT
DTSTART;TZID=UTC:20251111T180000
DTEND;TZID=UTC:20251111T203000
DTSTAMP:20260424T062133
CREATED:20251104T030841Z
LAST-MODIFIED:20251104T030914Z
UID:4308-1762884000-1762893000@cincoranchladiesclub.org
SUMMARY:Bunko - Evening
DESCRIPTION:We meet the 2nd  Tuesday of every month at 6:00 pm \nHave you ever played this simple\, fast-paced\, and thrilling game? If you have you know it requires a strict number of players (groups of four) and as this is one of our most popular sub-clubs\, the spaces fill up fast every month! (RSVP to your Evite right away!) The event is typically limited to 16 ladies as we hold it in one of our member’s lovely homes- light snacks are served.   
URL:https://cincoranchladiesclub.org/event/bunko-evening-25/
ORGANIZER;CN="Tracy Gremillion":MAILTO:traceygremillion@kw.com
END:VEVENT
BEGIN:VEVENT
DTSTART;TZID=UTC:20251112T130000
DTEND;TZID=UTC:20251112T150000
DTSTAMP:20260424T062133
CREATED:20251104T031049Z
LAST-MODIFIED:20251104T031049Z
UID:4311-1762952400-1762959600@cincoranchladiesclub.org
SUMMARY:Mahjong
DESCRIPTION:Mahjong is a tile-based game played with a set of tiles based on Chinese characters and symbols. It is played on the 2nd Wednesday of the month at 1-3 pm.
URL:https://cincoranchladiesclub.org/event/mahjong-14/
ORGANIZER;CN="Penny Smith":MAILTO:penny.leder.aka.smith@gmail.com
END:VEVENT
BEGIN:VEVENT
DTSTART;TZID=UTC:20251113T113000
DTEND;TZID=UTC:20251113T140000
DTSTAMP:20260424T062133
CREATED:20251104T031201Z
LAST-MODIFIED:20251104T031201Z
UID:4313-1763033400-1763042400@cincoranchladiesclub.org
SUMMARY:Creative Kitchen
DESCRIPTION:We meet on the 2nd Thursday at 11:30 am \nThis popular club rotates at a member’s home each month for lunch. A different Hostess and 5+ Co-Hosts team up to organize a themed luncheon for 30-50 members and the results are mouthwatering! \nInvitations and details are sent monthly by Evite. RSVP’s are required and limited as this consists of a sit down pre-planned menu. Attendees are required to volunteer in some capacity at least one time to enjoy the luncheons the entire club year.
URL:https://cincoranchladiesclub.org/event/creative-kitchen-21/
ORGANIZER;CN="Renita Hudson":MAILTO:cincoranchladiesclub@gmail.com
END:VEVENT
BEGIN:VEVENT
DTSTART;TZID=UTC:20251114T090000
DTEND;TZID=UTC:20251114T100000
DTSTAMP:20260424T062133
CREATED:20251104T025608Z
LAST-MODIFIED:20251104T025621Z
UID:4291-1763110800-1763114400@cincoranchladiesclub.org
SUMMARY:Walking Club
DESCRIPTION:This club meets weekly inside AMC Entrance 8 every Friday at 9:00 am. Some extra outings and hikes are occasionally offered. \nLet’s get physical! Getting in a weekly stroll is so much easier with friends and laughs! Take it at your own pace.
URL:https://cincoranchladiesclub.org/event/walking-club-copy-4/
ORGANIZER;CN="Debbie Steinfield":MAILTO:cincoranchladiesclub@gmail.com
END:VEVENT
BEGIN:VEVENT
DTSTART;TZID=America/Chicago:20251124T171500
DTEND;TZID=America/Chicago:20251124T201500
DTSTAMP:20260424T062133
CREATED:20251104T032213Z
LAST-MODIFIED:20260106T044813Z
UID:4325-1764004500-1764015300@cincoranchladiesclub.org
SUMMARY:Work of Our Hands
DESCRIPTION:4th Monday 5:15-8:15 p.m. This is a crochet and knitting class suitable for individuals of all skill levels.  Topic ideas are encouraged. I welcome ideas of what inspires you.  Please bring your WIP\, hook\, needles\, and a small notebook with you.
URL:https://cincoranchladiesclub.org/event/work-of-our-hands-3/
ORGANIZER;CN="Beckah Krahula":MAILTO:bkrahula@gmail.com
END:VEVENT
BEGIN:VEVENT
DTSTART;TZID=UTC:20251212T090000
DTEND;TZID=UTC:20251212T100000
DTSTAMP:20260424T062133
CREATED:20251203T042338Z
LAST-MODIFIED:20260106T044352Z
UID:4391-1765530000-1765533600@cincoranchladiesclub.org
SUMMARY:Walking Club
DESCRIPTION:This club meets weekly inside AMC Entrance 8 every Friday at 9:00 am. Some extra outings and hikes are occasionally offered. \nLet’s get physical! Getting in a weekly stroll is so much easier with friends and laughs! Take it at your own pace.
URL:https://cincoranchladiesclub.org/event/walking-club-73/
ORGANIZER;CN="Debbie Steinfield":MAILTO:cincoranchladiesclub@gmail.com
END:VEVENT
BEGIN:VEVENT
DTSTART;TZID=UTC:20251212T183000
DTEND;TZID=UTC:20251212T203000
DTSTAMP:20260424T062133
CREATED:20251203T043238Z
LAST-MODIFIED:20260106T044349Z
UID:4411-1765564200-1765571400@cincoranchladiesclub.org
SUMMARY:Dining Out
DESCRIPTION:We generally meet on the 3rd Saturday of each month at 6:30 pm. \nAn RSVP required event\, reservations are made (your favorite significant other is welcome to join) can enjoy a night out at a fabulous Katy or West Houston area restaurants. Don’t worry\, this isn’t all about “fancy places.” We have been known to sample delectable Bar-B-Que\, or juicy hamburgers\, as well as the finer dining options!
URL:https://cincoranchladiesclub.org/event/dining-out-copy/
ORGANIZER;CN="Joyce Rogers":MAILTO:cincoranchladiesclub@gmail.com
END:VEVENT
BEGIN:VEVENT
DTSTART;TZID=UTC:20251215T073000
DTEND;TZID=UTC:20251215T090000
DTSTAMP:20260424T062133
CREATED:20251203T043034Z
LAST-MODIFIED:20260106T044346Z
UID:4405-1765783800-1765789200@cincoranchladiesclub.org
SUMMARY:Pickleball
DESCRIPTION:Pickleball meets on the 3rd Monday of the month at 7:30 a.m-9am. Bring water and a towel! We are currently playing at: Jones Creek Ranch Park\, 7714 FM 359\, Richmond \nBEGINNERS WELCOME
URL:https://cincoranchladiesclub.org/event/pickleball-22/
ORGANIZER;CN="Kate Chiang":MAILTO:katechiange88@gmail.com
END:VEVENT
BEGIN:VEVENT
DTSTART;TZID=UTC:20251215T110000
DTEND;TZID=UTC:20251215T140000
DTSTAMP:20260424T062133
CREATED:20251203T044001Z
LAST-MODIFIED:20260106T044344Z
UID:4420-1765796400-1765807200@cincoranchladiesclub.org
SUMMARY:Canasta
DESCRIPTION:We meet on the 3rd Monday of each month at 11:00 am for lunch at Center Court Pizza on Spring Green. We play at noon.  Sue Currie
URL:https://cincoranchladiesclub.org/event/canasta-25/
ORGANIZER;CN="Sue Currie":MAILTO:sue.currie@att.net
END:VEVENT
BEGIN:VEVENT
DTSTART;TZID=UTC:20251216T123000
DTEND;TZID=UTC:20251216T143000
DTSTAMP:20260424T062133
CREATED:20251203T043123Z
LAST-MODIFIED:20260106T044340Z
UID:4407-1765888200-1765895400@cincoranchladiesclub.org
SUMMARY:Bowling
DESCRIPTION:This group of ladies will meet at Times Square Entertainment Katy at 1pm on the 3rd Tuesday of the month. Get there early to pay and rent shoes\, if needed.
URL:https://cincoranchladiesclub.org/event/bowling-11/
ORGANIZER;CN="Joyce Rogers":MAILTO:cincoranchladiesclub@gmail.com
END:VEVENT
BEGIN:VEVENT
DTSTART;TZID=UTC:20251217T183000
DTEND;TZID=UTC:20251217T213000
DTSTAMP:20260424T062133
CREATED:20251203T043201Z
LAST-MODIFIED:20260106T044336Z
UID:4409-1765996200-1766007000@cincoranchladiesclub.org
SUMMARY:Wine Club
DESCRIPTION:Wine Club meets on the 3rd Wednesday at 6:30 pm. Come and join us for wine and a social evening.
URL:https://cincoranchladiesclub.org/event/wine-club-17/
ORGANIZER;CN="Jo Ann Miller":MAILTO:txbankergal@gmail.com
END:VEVENT
BEGIN:VEVENT
DTSTART;TZID=UTC:20251219T090000
DTEND;TZID=UTC:20251219T100000
DTSTAMP:20260424T062133
CREATED:20251203T042416Z
LAST-MODIFIED:20260106T044333Z
UID:4393-1766134800-1766138400@cincoranchladiesclub.org
SUMMARY:Walking Club
DESCRIPTION:This club meets weekly inside AMC Entrance 8 every Friday at 9:00 am. Some extra outings and hikes are occasionally offered. \nLet’s get physical! Getting in a weekly stroll is so much easier with friends and laughs! Take it at your own pace.
URL:https://cincoranchladiesclub.org/event/walking-club-74/
ORGANIZER;CN="Debbie Steinfield":MAILTO:cincoranchladiesclub@gmail.com
END:VEVENT
BEGIN:VEVENT
DTSTART;TZID=UTC:20251222T171500
DTEND;TZID=UTC:20251222T203000
DTSTAMP:20260424T062133
CREATED:20251203T041956Z
LAST-MODIFIED:20260106T044330Z
UID:4382-1766423700-1766435400@cincoranchladiesclub.org
SUMMARY:Mexican Train (Evenings)
DESCRIPTION:We meet on the 4th Tuesday of each month at 5:15 pm @ El Asador 3750 S. Mason RD. 77450. If you would like to have dinner prior to the game – 6:15 pm is game time. \nMexican Train Dominoes has just the right amount of skill and fun.  This game seems to unite and build friendships that last forever!  Fall in love with Mexican Train.  It is fun and endlessly challenging.
URL:https://cincoranchladiesclub.org/event/mexican-train-evenings-17/
ORGANIZER;CN="Beth Clark":MAILTO:bethclark02@gmail.com
END:VEVENT
BEGIN:VEVENT
DTSTART;TZID=UTC:20251224T100000
DTEND;TZID=UTC:20251224T113000
DTSTAMP:20260424T062133
CREATED:20251203T043527Z
LAST-MODIFIED:20260106T044326Z
UID:4416-1766570400-1766575800@cincoranchladiesclub.org
SUMMARY:Gardening/Journaling
DESCRIPTION:The Gardening Sub-Club is an opportunity to socialize with other gardening interested ladies\, and learn more about plantings\, seeds\, etc. This group usually meets on the 4th Wednesday at 10 a.m. Organizer is Jen Pazicni.
URL:https://cincoranchladiesclub.org/event/gardening-journaling-13/
END:VEVENT
BEGIN:VEVENT
DTSTART;TZID=UTC:20251226T090000
DTEND;TZID=UTC:20251226T100000
DTSTAMP:20260424T062133
CREATED:20251203T042451Z
LAST-MODIFIED:20260106T044323Z
UID:4395-1766739600-1766743200@cincoranchladiesclub.org
SUMMARY:Walking Club
DESCRIPTION:This club meets weekly inside AMC Entrance 8 every Friday at 9:00 am. Some extra outings and hikes are occasionally offered. \nLet’s get physical! Getting in a weekly stroll is so much easier with friends and laughs! Take it at your own pace.
URL:https://cincoranchladiesclub.org/event/walking-club-75/
ORGANIZER;CN="Debbie Steinfield":MAILTO:cincoranchladiesclub@gmail.com
END:VEVENT
BEGIN:VEVENT
DTSTART;TZID=UTC:20251226T113000
DTEND;TZID=UTC:20251226T130000
DTSTAMP:20260424T062133
CREATED:20251203T044132Z
LAST-MODIFIED:20260106T044320Z
UID:4422-1766748600-1766754000@cincoranchladiesclub.org
SUMMARY:Lunch Bunch
DESCRIPTION:We meet on the 4th Friday of each month at 11:30 am. \n“The Ladies Who Lunch” always have a marvelous time trying out new lunch spots and experiencing interesting or tried-and-true favorite cuisines at different restaurants.
URL:https://cincoranchladiesclub.org/event/lunch-bunch-25/
ORGANIZER;CN="Sally Outlaw":MAILTO:texasoutlaws48@aol.com
END:VEVENT
BEGIN:VEVENT
DTSTART;TZID=UTC:20251228T110000
DTEND;TZID=UTC:20251228T133000
DTSTAMP:20260424T062133
CREATED:20251203T044248Z
LAST-MODIFIED:20260106T044316Z
UID:4424-1766919600-1766928600@cincoranchladiesclub.org
SUMMARY:Ladies Night Out
DESCRIPTION:Lunch is at 11 and 12 we play Bingo. \nJoin this fun group of ladies for a night of fun. \nThe location will change each month & will be in the Evite!
URL:https://cincoranchladiesclub.org/event/ladies-night-out-18/
ORGANIZER;CN="Penny Grant":MAILTO:cincoranchladiesclub@gmail.com
END:VEVENT
BEGIN:VEVENT
DTSTART;TZID=UTC:20251230T093000
DTEND;TZID=UTC:20251230T110000
DTSTAMP:20260424T062133
CREATED:20251203T043824Z
LAST-MODIFIED:20260106T044313Z
UID:4418-1767087000-1767092400@cincoranchladiesclub.org
SUMMARY:Coffee
DESCRIPTION:We generally meet on the 4th Thursday of each month at 9:30 am.  Location TBA in Evite. Tiffany Lanza the organizer.
URL:https://cincoranchladiesclub.org/event/coffee-23/
END:VEVENT
END:VCALENDAR