BEGIN:VCALENDAR
VERSION:2.0
PRODID:-// - ECPv6.15.20//NONSGML v1.0//EN
CALSCALE:GREGORIAN
METHOD:PUBLISH
X-ORIGINAL-URL:https://cincoranchladiesclub.org
X-WR-CALDESC:Events for 
REFRESH-INTERVAL;VALUE=DURATION:PT1H
X-Robots-Tag:noindex
X-PUBLISHED-TTL:PT1H
BEGIN:VTIMEZONE
TZID:UTC
BEGIN:STANDARD
TZOFFSETFROM:+0000
TZOFFSETTO:+0000
TZNAME:UTC
DTSTART:20250101T000000
END:STANDARD
END:VTIMEZONE
BEGIN:VTIMEZONE
TZID:America/Chicago
BEGIN:DAYLIGHT
TZOFFSETFROM:-0600
TZOFFSETTO:-0500
TZNAME:CDT
DTSTART:20250309T080000
END:DAYLIGHT
BEGIN:STANDARD
TZOFFSETFROM:-0500
TZOFFSETTO:-0600
TZNAME:CST
DTSTART:20251102T070000
END:STANDARD
BEGIN:DAYLIGHT
TZOFFSETFROM:-0600
TZOFFSETTO:-0500
TZNAME:CDT
DTSTART:20260308T080000
END:DAYLIGHT
BEGIN:STANDARD
TZOFFSETFROM:-0500
TZOFFSETTO:-0600
TZNAME:CST
DTSTART:20261101T070000
END:STANDARD
BEGIN:DAYLIGHT
TZOFFSETFROM:-0600
TZOFFSETTO:-0500
TZNAME:CDT
DTSTART:20270314T080000
END:DAYLIGHT
BEGIN:STANDARD
TZOFFSETFROM:-0500
TZOFFSETTO:-0600
TZNAME:CST
DTSTART:20271107T070000
END:STANDARD
END:VTIMEZONE
BEGIN:VEVENT
DTSTART;TZID=UTC:20260417T090000
DTEND;TZID=UTC:20260417T100000
DTSTAMP:20260423T180933
CREATED:20260403T011300Z
LAST-MODIFIED:20260403T011300Z
UID:4644-1776416400-1776420000@cincoranchladiesclub.org
SUMMARY:Walking Club
DESCRIPTION:This club meets weekly inside AMC Entrance 2 every Friday at 9:00 am. Some extra outings and hikes are occasionally offered. \nLet’s get physical! Getting in a weekly stroll is so much easier with friends and laughs! Take it at your own pace.
URL:https://cincoranchladiesclub.org/event/walking-club-7/
ORGANIZER;CN="Debbie Steinfield":MAILTO:cincoranchladiesclub@gmail.com
END:VEVENT
BEGIN:VEVENT
DTSTART;TZID=UTC:20260418T183000
DTEND;TZID=UTC:20260418T203000
DTSTAMP:20260423T180933
CREATED:20260403T012219Z
LAST-MODIFIED:20260403T012219Z
UID:4670-1776537000-1776544200@cincoranchladiesclub.org
SUMMARY:Dining Out
DESCRIPTION:We generally meet on the 3rd Saturday of each month at 6:30 pm. \nAn RSVP required event\, reservations are made (your favorite significant other is welcome to join) can enjoy a night out at a fabulous Katy or West Houston area restaurants. Don’t worry\, this isn’t all about “fancy places.” We have been known to sample delectable Bar-B-Que\, or juicy hamburgers\, as well as the finer dining options!
URL:https://cincoranchladiesclub.org/event/dining-out-3/
ORGANIZER;CN="Joyce Rogers":MAILTO:cincoranchladiesclub@gmail.com
END:VEVENT
BEGIN:VEVENT
DTSTART;TZID=UTC:20260420T073000
DTEND;TZID=UTC:20260420T090000
DTSTAMP:20260423T180933
CREATED:20260403T011714Z
LAST-MODIFIED:20260403T011714Z
UID:4658-1776670200-1776675600@cincoranchladiesclub.org
SUMMARY:Pickleball
DESCRIPTION:Pickleball meets on the 3rd Monday of the month at 8 a.m or 9 a.m. Bring water and a towel! We are currently playing at: Jones Creek Ranch Park\,  FM 359\, Richmond \nBEGINNERS WELCOME
URL:https://cincoranchladiesclub.org/event/pickleball/
ORGANIZER;CN="Kate Chiang":MAILTO:katechiange88@gmail.com
END:VEVENT
BEGIN:VEVENT
DTSTART;TZID=UTC:20260420T110000
DTEND;TZID=UTC:20260420T140000
DTSTAMP:20260423T180933
CREATED:20260403T012146Z
LAST-MODIFIED:20260403T012146Z
UID:4668-1776682800-1776693600@cincoranchladiesclub.org
SUMMARY:Canasta
DESCRIPTION:We meet on the 3rd Monday of each month at 11:00 am for lunch at Center Court Pizza on Spring Green. We play at noon.  Sue Currie
URL:https://cincoranchladiesclub.org/event/canasta-3/
ORGANIZER;CN="Sue Currie":MAILTO:sue.currie@att.net
END:VEVENT
BEGIN:VEVENT
DTSTART;TZID=UTC:20260421T123000
DTEND;TZID=UTC:20260421T143000
DTSTAMP:20260423T180933
CREATED:20260403T011803Z
LAST-MODIFIED:20260403T011803Z
UID:4660-1776774600-1776781800@cincoranchladiesclub.org
SUMMARY:Bowling
DESCRIPTION:This group of ladies will meet at Times Square Entertainment Katy at 1pm on the 3rd Tuesday of the month. Get there early to pay and rent shoes\, if needed.
URL:https://cincoranchladiesclub.org/event/bowling-10/
ORGANIZER;CN="Joyce Rogers":MAILTO:cincoranchladiesclub@gmail.com
END:VEVENT
BEGIN:VEVENT
DTSTART;TZID=UTC:20260422T100000
DTEND;TZID=UTC:20260422T113000
DTSTAMP:20260423T180933
CREATED:20260403T012333Z
LAST-MODIFIED:20260403T012333Z
UID:4674-1776852000-1776857400@cincoranchladiesclub.org
SUMMARY:Gardening/Journaling
DESCRIPTION:The Gardening Sub-Club is an opportunity to socialize with other gardening interested ladies\, and learn more about plantings\, seeds\, etc. This group usually meets on the 4th Wednesday at 10 a.m. Organizer is Jen Pazicni.
URL:https://cincoranchladiesclub.org/event/gardening-journaling-3/
END:VEVENT
BEGIN:VEVENT
DTSTART;TZID=UTC:20260423T093000
DTEND;TZID=UTC:20260423T110000
DTSTAMP:20260423T180933
CREATED:20260403T012406Z
LAST-MODIFIED:20260403T012406Z
UID:4676-1776936600-1776942000@cincoranchladiesclub.org
SUMMARY:Coffee
DESCRIPTION:We generally meet on the 4th Thursday of each month at 9:30 am.  Location TBA in Evite. Tiffany Lanza the organizer.
URL:https://cincoranchladiesclub.org/event/coffee/
END:VEVENT
BEGIN:VEVENT
DTSTART;TZID=America/Chicago:20260423T153000
DTEND;TZID=America/Chicago:20260423T170000
DTSTAMP:20260423T180933
CREATED:20260403T012553Z
LAST-MODIFIED:20260403T012624Z
UID:4678-1776958200-1776963600@cincoranchladiesclub.org
SUMMARY:CRLC BOARD MEETING
DESCRIPTION:BOARD MEETING 4TH THURSDAY AT OF THE MONTH.  3:30PM-5PM.
URL:https://cincoranchladiesclub.org/event/crlc-board-meeting/
END:VEVENT
BEGIN:VEVENT
DTSTART;TZID=UTC:20260424T090000
DTEND;TZID=UTC:20260424T100000
DTSTAMP:20260423T180933
CREATED:20260403T011324Z
LAST-MODIFIED:20260403T011324Z
UID:4646-1777021200-1777024800@cincoranchladiesclub.org
SUMMARY:Walking Club
DESCRIPTION:This club meets weekly inside AMC Entrance 2 every Friday at 9:00 am. Some extra outings and hikes are occasionally offered. \nLet’s get physical! Getting in a weekly stroll is so much easier with friends and laughs! Take it at your own pace.
URL:https://cincoranchladiesclub.org/event/walking-club-8/
ORGANIZER;CN="Debbie Steinfield":MAILTO:cincoranchladiesclub@gmail.com
END:VEVENT
BEGIN:VEVENT
DTSTART;TZID=UTC:20260424T113000
DTEND;TZID=UTC:20260424T130000
DTSTAMP:20260423T180933
CREATED:20260403T012700Z
LAST-MODIFIED:20260403T012700Z
UID:4680-1777030200-1777035600@cincoranchladiesclub.org
SUMMARY:Lunch Bunch
DESCRIPTION:We meet on the 4th Friday of each month at 11:30 am. \n“The Ladies Who Lunch” always have a marvelous time trying out new lunch spots and experiencing interesting or tried-and-true favorite cuisines at different restaurants.
URL:https://cincoranchladiesclub.org/event/lunch-bunch/
ORGANIZER;CN="Sally Outlaw":MAILTO:texasoutlaws48@aol.com
END:VEVENT
BEGIN:VEVENT
DTSTART;TZID=UTC:20260428T171500
DTEND;TZID=UTC:20260428T203000
DTSTAMP:20260423T180933
CREATED:20260403T012258Z
LAST-MODIFIED:20260403T012258Z
UID:4672-1777396500-1777408200@cincoranchladiesclub.org
SUMMARY:Mexican Train (Evenings)
DESCRIPTION:We meet on the 4th Tuesday of each month at 5:15 pm @ El Asador 3750 S. Mason RD. 77450. If you would like to have dinner prior to the game – 6:15 pm is game time. \nMexican Train Dominoes has just the right amount of skill and fun.  This game seems to unite and build friendships that last forever!  Fall in love with Mexican Train.  It is fun and endlessly challenging.
URL:https://cincoranchladiesclub.org/event/mexican-train-evenings-2/
ORGANIZER;CN="Beth Clark":MAILTO:bethclark02@gmail.com
END:VEVENT
END:VCALENDAR