BEGIN:VCALENDAR
VERSION:2.0
PRODID:-// - ECPv6.15.20//NONSGML v1.0//EN
CALSCALE:GREGORIAN
METHOD:PUBLISH
X-ORIGINAL-URL:https://cincoranchladiesclub.org
X-WR-CALDESC:Events for 
REFRESH-INTERVAL;VALUE=DURATION:PT1H
X-Robots-Tag:noindex
X-PUBLISHED-TTL:PT1H
BEGIN:VTIMEZONE
TZID:UTC
BEGIN:STANDARD
TZOFFSETFROM:+0000
TZOFFSETTO:+0000
TZNAME:UTC
DTSTART:20240101T000000
END:STANDARD
END:VTIMEZONE
BEGIN:VEVENT
DTSTART;TZID=UTC:20250328T090000
DTEND;TZID=UTC:20250328T090000
DTSTAMP:20260425T072547
CREATED:20250314T203215Z
LAST-MODIFIED:20250314T203215Z
UID:3496-1743152400-1743152400@cincoranchladiesclub.org
SUMMARY:Walking Club
DESCRIPTION:This club meets weekly inside AMC Entrance 8 every Friday at 9:00 am. Some extra outings and hikes are occasionally offered. \nLet’s get physical! Getting in a weekly stroll is so much easier with friends and laughs! Take it at your own pace.
URL:https://cincoranchladiesclub.org/event/walking-club-46/
ORGANIZER;CN="Debbie Steinfield":MAILTO:cincoranchladiesclub@gmail.com
END:VEVENT
BEGIN:VEVENT
DTSTART;TZID=UTC:20250328T113000
DTEND;TZID=UTC:20250328T130000
DTSTAMP:20260425T072547
CREATED:20250314T204155Z
LAST-MODIFIED:20250314T204155Z
UID:3512-1743161400-1743166800@cincoranchladiesclub.org
SUMMARY:Lunch Bunch
DESCRIPTION:We meet on the 4th Friday of each month at 11:30 am. \n“The Ladies Who Lunch” always have a marvelous time trying out new lunch spots and experiencing interesting or tried-and-true favorite cuisines at different restaurants.
URL:https://cincoranchladiesclub.org/event/lunch-bunch-16/
ORGANIZER;CN="Sally Outlaw":MAILTO:texasoutlaws48@aol.com
END:VEVENT
BEGIN:VEVENT
DTSTART;TZID=UTC:20250401T130000
DTEND;TZID=UTC:20250401T143000
DTSTAMP:20260425T072547
CREATED:20250311T025111Z
LAST-MODIFIED:20250331T021929Z
UID:3431-1743512400-1743517800@cincoranchladiesclub.org
SUMMARY:Gardening/Journaling
DESCRIPTION:The Gardening Sub-Club is an oppotunity to socialize with other gardening interested ladies\, and learn more about plantings\, seeds\, etc. This group usually meets on the 1st Wednesday at 1 pm.
URL:https://cincoranchladiesclub.org/event/gardening-journaling-8/
END:VEVENT
BEGIN:VEVENT
DTSTART;TZID=UTC:20250402T123000
DTEND;TZID=UTC:20250402T150000
DTSTAMP:20260425T072547
CREATED:20250331T022642Z
LAST-MODIFIED:20250331T022642Z
UID:3601-1743597000-1743606000@cincoranchladiesclub.org
SUMMARY:Movie Club
DESCRIPTION:Dates and times will vary.  This month is April 2nd at Cinemark on I-10 & 99. The movie is A Walking Man. See Evite for details.
URL:https://cincoranchladiesclub.org/event/movie-club-10/
ORGANIZER;CN="Sue Currie":MAILTO:sue.currie@att.net
END:VEVENT
BEGIN:VEVENT
DTSTART;TZID=UTC:20250403T110000
DTEND;TZID=UTC:20250403T140000
DTSTAMP:20260425T072547
CREATED:20250311T030659Z
LAST-MODIFIED:20250311T030659Z
UID:3434-1743678000-1743688800@cincoranchladiesclub.org
SUMMARY:Mexican Train - Day
DESCRIPTION:We meet on the 1st Thursday of each month at 11 am @ Neca’s Mexican\, 4020 FM 1463. If you would like to have dinner prior to the game – 12:15 pm is game time. \nMexican Train Dominoes has just the right amount of skill and fun.  This game seems to unite and build friendships that last forever!  Fall in love with Mexican Train.  It is fun and endlessly challenging.
URL:https://cincoranchladiesclub.org/event/mexican-train-day-8/
ORGANIZER;CN="Liz  Castle":MAILTO:cincoranchladiesclub@gmail.com
END:VEVENT
BEGIN:VEVENT
DTSTART;TZID=UTC:20250403T183000
DTEND;TZID=UTC:20250403T193000
DTSTAMP:20260425T072547
CREATED:20250311T031103Z
LAST-MODIFIED:20250331T023559Z
UID:3439-1743705000-1743708600@cincoranchladiesclub.org
SUMMARY:Book Club
DESCRIPTION:Join us on the 1st Thursday of each month at 6:30 pm. \nOur Book Club meets once a month to discuss the book we have read. Meetings will vary each month based on location. We read the agreed-upon book (usually selected by members’ input) and meet to discuss themes\, characters\, etc. Selections might be fiction\, nonfiction\, light-hearted or serious. The book for this month is The Medicine Woman of Galveston by Amanda Skenandore.
URL:https://cincoranchladiesclub.org/event/book-club-16/
ORGANIZER;CN="Cynthia Rogan":MAILTO:cincoranchladiesclub@gmail.com
END:VEVENT
BEGIN:VEVENT
DTSTART;TZID=UTC:20250404T090000
DTEND;TZID=UTC:20250404T090000
DTSTAMP:20260425T072547
CREATED:20250314T203304Z
LAST-MODIFIED:20250314T203304Z
UID:3498-1743757200-1743757200@cincoranchladiesclub.org
SUMMARY:Walking Club
DESCRIPTION:This club meets weekly inside AMC Entrance 8 every Friday at 9:00 am. Some extra outings and hikes are occasionally offered. \nLet’s get physical! Getting in a weekly stroll is so much easier with friends and laughs! Take it at your own pace.
URL:https://cincoranchladiesclub.org/event/walking-club-47/
ORGANIZER;CN="Debbie Steinfield":MAILTO:cincoranchladiesclub@gmail.com
END:VEVENT
BEGIN:VEVENT
DTSTART;TZID=UTC:20250407T110000
DTEND;TZID=UTC:20250407T133000
DTSTAMP:20260425T072547
CREATED:20250311T024253Z
LAST-MODIFIED:20250311T024253Z
UID:3427-1744023600-1744032600@cincoranchladiesclub.org
SUMMARY:Bunco - Day
DESCRIPTION:We meet the 1st Monday of every month at 11:00 am. \nHave you ever played this simple\, fast-paced\, and thrilling game? If you have you know it requires a strict number of players (groups of four) and as this is one of our most popular sub-clubs\, the spaces fill up fast every month! (RSVP to your Evite right away!) The event is typically at Necca’s on FM 1463.
URL:https://cincoranchladiesclub.org/event/bunco-day-12/
ORGANIZER;CN="Cathy Wilson":MAILTO:cincoranchladiesclub@gmail.com
END:VEVENT
BEGIN:VEVENT
DTSTART;TZID=UTC:20250408T180000
DTEND;TZID=UTC:20250408T203000
DTSTAMP:20260425T072547
CREATED:20250311T032006Z
LAST-MODIFIED:20250311T032006Z
UID:3449-1744135200-1744144200@cincoranchladiesclub.org
SUMMARY:Bunko - Evening
DESCRIPTION:We meet the 2nd  Tuesday of every month at 6:00 pm \nHave you ever played this simple\, fast-paced\, and thrilling game? If you have you know it requires a strict number of players (groups of four) and as this is one of our most popular sub-clubs\, the spaces fill up fast every month! (RSVP to your Evite right away!) The event is typically limited to 16 ladies as we hold it in one of our member’s lovely homes- light snacks are served.
URL:https://cincoranchladiesclub.org/event/bunko-evening-19/
ORGANIZER;CN="Tracy Gremillion":MAILTO:traceygremillion@kw.com
END:VEVENT
BEGIN:VEVENT
DTSTART;TZID=UTC:20250409T130000
DTEND;TZID=UTC:20250409T150000
DTSTAMP:20260425T072547
CREATED:20250311T032214Z
LAST-MODIFIED:20250311T032214Z
UID:3453-1744203600-1744210800@cincoranchladiesclub.org
SUMMARY:Mahjong
DESCRIPTION:Mahjong is a tile-based game played with a set of tiles based on Chinese characters and symbols. It is played on the 2nd Wednesday of the month at 1-3 pm.
URL:https://cincoranchladiesclub.org/event/mahjong-10/
ORGANIZER;CN="Penny Smith":MAILTO:penny.leder.aka.smith@gmail.com
END:VEVENT
BEGIN:VEVENT
DTSTART;TZID=UTC:20250410T113000
DTEND;TZID=UTC:20250410T140000
DTSTAMP:20260425T072547
CREATED:20250314T200439Z
LAST-MODIFIED:20250314T200439Z
UID:3458-1744284600-1744293600@cincoranchladiesclub.org
SUMMARY:Creative Kitchen
DESCRIPTION:We meet on the 2nd Thursday at 11:30 am \nThis popular club rotates at a member’s home each month for lunch. A different Hostess and 5+ Co-Hosts team up to organize a themed luncheon for 30-50 members and the results are mouthwatering! \nInvitations and details are sent monthly by Evite. RSVP’s are required and limited as this consists of a sit down pre-planned menu. Attendees are required to volunteer in some capacity at least one time to enjoy the luncheons the entire club year.
URL:https://cincoranchladiesclub.org/event/creative-kitchen-17/
ORGANIZER;CN="Renita Hudson":MAILTO:cincoranchladiesclub@gmail.com
END:VEVENT
BEGIN:VEVENT
DTSTART;TZID=UTC:20250411T080000
DTEND;TZID=UTC:20250411T110000
DTSTAMP:20260425T072547
CREATED:20250314T200954Z
LAST-MODIFIED:20250405T010547Z
UID:3464-1744358400-1744369200@cincoranchladiesclub.org
SUMMARY:Pickleball
DESCRIPTION:Pickleball meets on the 2nd & 4th Fridays at 8am in the Spring.  We are currently playing at: \n\nJones Creek Ranch Park\, 7714 FM 359\, Richmond (Fridays)
URL:https://cincoranchladiesclub.org/event/pickleball-copy/
ORGANIZER;CN="Kate Chiang":MAILTO:katechiange88@gmail.com
END:VEVENT
BEGIN:VEVENT
DTSTART;TZID=UTC:20250411T090000
DTEND;TZID=UTC:20250411T090000
DTSTAMP:20260425T072547
CREATED:20250314T203352Z
LAST-MODIFIED:20250314T203352Z
UID:3500-1744362000-1744362000@cincoranchladiesclub.org
SUMMARY:Walking Club
DESCRIPTION:This club meets weekly inside AMC Entrance 8 every Friday at 9:00 am. Some extra outings and hikes are occasionally offered. \nLet’s get physical! Getting in a weekly stroll is so much easier with friends and laughs! Take it at your own pace.
URL:https://cincoranchladiesclub.org/event/walking-club-48/
ORGANIZER;CN="Debbie Steinfield":MAILTO:cincoranchladiesclub@gmail.com
END:VEVENT
BEGIN:VEVENT
DTSTART;TZID=UTC:20250415T130000
DTEND;TZID=UTC:20250415T150000
DTSTAMP:20260425T072547
CREATED:20250314T201816Z
LAST-MODIFIED:20250314T201816Z
UID:3475-1744722000-1744729200@cincoranchladiesclub.org
SUMMARY:Bowling
DESCRIPTION:This group of ladies will meet at Times Square Entertainment Katy at 1pm on the 3rd Tuesday of the month. Get there early to pay and rent shoes\, if needed.
URL:https://cincoranchladiesclub.org/event/bowling-6/
ORGANIZER;CN="Joyce Rogers":MAILTO:cincoranchladiesclub@gmail.com
END:VEVENT
BEGIN:VEVENT
DTSTART;TZID=UTC:20250416T180000
DTEND;TZID=UTC:20250416T213000
DTSTAMP:20260425T072547
CREATED:20250314T202019Z
LAST-MODIFIED:20250314T202019Z
UID:3480-1744826400-1744839000@cincoranchladiesclub.org
SUMMARY:Wine Club
DESCRIPTION:Wine Club meets on the 3rd Wednesday at 6:30 pm. Come and join us for wine and a social evening.
URL:https://cincoranchladiesclub.org/event/wine-club-12/
ORGANIZER;CN="Sherry Johnson":MAILTO:SEJ1959@comcast.net
END:VEVENT
BEGIN:VEVENT
DTSTART;TZID=UTC:20250417T093000
DTEND;TZID=UTC:20250417T110000
DTSTAMP:20260425T072547
CREATED:20250314T202321Z
LAST-MODIFIED:20250314T202321Z
UID:3484-1744882200-1744887600@cincoranchladiesclub.org
SUMMARY:Coffee
DESCRIPTION:We generally meet on the 3rd Thursday of each month at 9:30 am.  Location TBA in Evite.
URL:https://cincoranchladiesclub.org/event/coffee-17/
ORGANIZER;CN="Nancy Creedon":MAILTO:nodee79@yahoo.com
END:VEVENT
BEGIN:VEVENT
DTSTART;TZID=UTC:20250418T090000
DTEND;TZID=UTC:20250418T090000
DTSTAMP:20260425T072547
CREATED:20250314T203451Z
LAST-MODIFIED:20250314T203451Z
UID:3502-1744966800-1744966800@cincoranchladiesclub.org
SUMMARY:Walking Club
DESCRIPTION:This club meets weekly inside AMC Entrance 8 every Friday at 9:00 am. Some extra outings and hikes are occasionally offered. \nLet’s get physical! Getting in a weekly stroll is so much easier with friends and laughs! Take it at your own pace.
URL:https://cincoranchladiesclub.org/event/walking-club-49/
ORGANIZER;CN="Debbie Steinfield":MAILTO:cincoranchladiesclub@gmail.com
END:VEVENT
BEGIN:VEVENT
DTSTART;TZID=UTC:20250419T180000
DTEND;TZID=UTC:20250419T203000
DTSTAMP:20260425T072547
CREATED:20250314T202650Z
LAST-MODIFIED:20250314T202650Z
UID:3488-1745085600-1745094600@cincoranchladiesclub.org
SUMMARY:Dining Out
DESCRIPTION:We generally meet on the 3rd Saturday of each month at 6:30 pm. \nAn RSVP required event\, reservations are made (your favorite significant other is welcome to join) can enjoy a night out at a fabulous Katy or West Houston area restaurants. Don’t worry\, this isn’t all about “fancy places.” We have been known to sample delectable Bar-B-Que\, or juicy hamburgers\, as well as the finer dining options!
URL:https://cincoranchladiesclub.org/event/dining-out-15/
ORGANIZER;CN="Diane Leive":MAILTO:cincoranchladiesclub@gmail.com
END:VEVENT
BEGIN:VEVENT
DTSTART;TZID=UTC:20250421T110000
DTEND;TZID=UTC:20250421T140000
DTSTAMP:20260425T072547
CREATED:20250314T201437Z
LAST-MODIFIED:20250314T201437Z
UID:3471-1745233200-1745244000@cincoranchladiesclub.org
SUMMARY:Canasta
DESCRIPTION:We meet on the 3rd Monday of each month at 11:00 am for lunch at Center Court Pizza on Spring Green. We play at noon.
URL:https://cincoranchladiesclub.org/event/canasta-17/
ORGANIZER;CN="Sue Currie":MAILTO:sue.currie@att.net
END:VEVENT
BEGIN:VEVENT
DTSTART;TZID=UTC:20250422T171500
DTEND;TZID=UTC:20250422T203000
DTSTAMP:20260425T072547
CREATED:20250314T203931Z
LAST-MODIFIED:20250314T203931Z
UID:3510-1745342100-1745353800@cincoranchladiesclub.org
SUMMARY:Mexican Train (Evenings)
DESCRIPTION:We meet on the 4th Tuesday of each month at 5:15 pm @ Neca’s Mexican\, 4020 FM 1463. If you would like to have dinner prior to the game – 6:15 pm is game time. \nMexican Train Dominoes has just the right amount of skill and fun.  This game seems to unite and build friendships that last forever!  Fall in love with Mexican Train.  It is fun and endlessly challenging.
URL:https://cincoranchladiesclub.org/event/mexican-train-evenings-9/
ORGANIZER;CN="Beth Clark":MAILTO:bethclark02@gmail.com
END:VEVENT
BEGIN:VEVENT
DTSTART;TZID=UTC:20250425T080000
DTEND;TZID=UTC:20250425T110000
DTSTAMP:20260425T072547
CREATED:20250314T201057Z
LAST-MODIFIED:20250405T010516Z
UID:3465-1745568000-1745578800@cincoranchladiesclub.org
SUMMARY:Pickleball
DESCRIPTION:Pickleball meets on the 2nd & 4th Fridays at 8am in the Spring.  We are currently playing at: \n\nJones Creek Ranch Park\, 7714 FM 359\, Richmond (Fridays)
URL:https://cincoranchladiesclub.org/event/pickleball-18/
ORGANIZER;CN="Kate Chiang":MAILTO:katechiange88@gmail.com
END:VEVENT
BEGIN:VEVENT
DTSTART;TZID=UTC:20250425T090000
DTEND;TZID=UTC:20250425T090000
DTSTAMP:20260425T072547
CREATED:20250314T203549Z
LAST-MODIFIED:20250314T203549Z
UID:3504-1745571600-1745571600@cincoranchladiesclub.org
SUMMARY:Walking Club
DESCRIPTION:This club meets weekly inside AMC Entrance 8 every Friday at 9:00 am. Some extra outings and hikes are occasionally offered. \nLet’s get physical! Getting in a weekly stroll is so much easier with friends and laughs! Take it at your own pace.
URL:https://cincoranchladiesclub.org/event/walking-club-50/
ORGANIZER;CN="Debbie Steinfield":MAILTO:cincoranchladiesclub@gmail.com
END:VEVENT
BEGIN:VEVENT
DTSTART;TZID=UTC:20250425T113000
DTEND;TZID=UTC:20250425T130000
DTSTAMP:20260425T072547
CREATED:20250314T204252Z
LAST-MODIFIED:20250314T204252Z
UID:3514-1745580600-1745586000@cincoranchladiesclub.org
SUMMARY:Lunch Bunch
DESCRIPTION:We meet on the 4th Friday of each month at 11:30 am. \n“The Ladies Who Lunch” always have a marvelous time trying out new lunch spots and experiencing interesting or tried-and-true favorite cuisines at different restaurants.
URL:https://cincoranchladiesclub.org/event/lunch-bunch-17/
ORGANIZER;CN="Sally Outlaw":MAILTO:texasoutlaws48@aol.com
END:VEVENT
BEGIN:VEVENT
DTSTART;TZID=UTC:20250428T130000
DTEND;TZID=UTC:20250428T150000
DTSTAMP:20260425T072547
CREATED:20250314T204402Z
LAST-MODIFIED:20250314T204402Z
UID:3516-1745845200-1745852400@cincoranchladiesclub.org
SUMMARY:Pokeno
DESCRIPTION:Pokeno generally meets on the 4th Monday from 1-3 pm.  Location will be in the Evite.
URL:https://cincoranchladiesclub.org/event/pokeno-13/
ORGANIZER;CN="Edna Quirk":MAILTO:EdnaQuirk66@gmail.com
END:VEVENT
BEGIN:VEVENT
DTSTART;TZID=UTC:20250428T170000
DTEND;TZID=UTC:20250428T210000
DTSTAMP:20260425T072547
CREATED:20250405T010331Z
LAST-MODIFIED:20250405T010430Z
UID:3606-1745859600-1745874000@cincoranchladiesclub.org
SUMMARY:Ladies Night Out
DESCRIPTION:We usually meet each month at 5:30 pm\, sometimes 4:30 on Thursdays or Fridays. In April\, we’re meeting on a Monday at Pop Stroke. \nJoin this fun group of ladies for a night of fun. \nThe location will change each month & will be in the Evite!
URL:https://cincoranchladiesclub.org/event/ladies-night-out-13/
ORGANIZER;CN="Penny Grant":MAILTO:cincoranchladiesclub@gmail.com
END:VEVENT
BEGIN:VEVENT
DTSTART;TZID=UTC:20250501T110000
DTEND;TZID=UTC:20250501T140000
DTSTAMP:20260425T072547
CREATED:20250423T181145Z
LAST-MODIFIED:20250423T181145Z
UID:3627-1746097200-1746108000@cincoranchladiesclub.org
SUMMARY:Mexican Train - Day
DESCRIPTION:We meet on the 1st Thursday of each month at 11 am @ Neca’s Mexican\, 4020 FM 1463. If you would like to have dinner prior to the game – 12:15 pm is game time. \nMexican Train Dominoes has just the right amount of skill and fun.  This game seems to unite and build friendships that last forever!  Fall in love with Mexican Train.  It is fun and endlessly challenging.
URL:https://cincoranchladiesclub.org/event/mexican-train-day-9/
ORGANIZER;CN="Liz  Castle":MAILTO:cincoranchladiesclub@gmail.com
END:VEVENT
BEGIN:VEVENT
DTSTART;TZID=UTC:20250502T090000
DTEND;TZID=UTC:20250502T100000
DTSTAMP:20260425T072547
CREATED:20250423T184221Z
LAST-MODIFIED:20250423T184221Z
UID:3640-1746176400-1746180000@cincoranchladiesclub.org
SUMMARY:Walking Club
DESCRIPTION:This club meets weekly inside AMC Entrance 8 every Friday at 9:00 am. Some extra outings and hikes are occasionally offered. \nLet’s get physical! Getting in a weekly stroll is so much easier with friends and laughs! Take it at your own pace.
URL:https://cincoranchladiesclub.org/event/walking-club-51/
ORGANIZER;CN="Debbie Steinfield":MAILTO:cincoranchladiesclub@gmail.com
END:VEVENT
BEGIN:VEVENT
DTSTART;TZID=UTC:20250505T110000
DTEND;TZID=UTC:20250505T133000
DTSTAMP:20260425T072547
CREATED:20250423T184915Z
LAST-MODIFIED:20250423T184915Z
UID:3650-1746442800-1746451800@cincoranchladiesclub.org
SUMMARY:Bunco - Day
DESCRIPTION:We meet the 1st Monday of every month at 11:00 am. \nHave you ever played this simple\, fast-paced\, and thrilling game? If you have you know it requires a strict number of players (groups of four) and as this is one of our most popular sub-clubs\, the spaces fill up fast every month! (RSVP to your Evite right away!) The event is typically at Necca’s on FM 1463.
URL:https://cincoranchladiesclub.org/event/bunco-day-13/
ORGANIZER;CN="Cathy Wilson":MAILTO:cincoranchladiesclub@gmail.com
END:VEVENT
BEGIN:VEVENT
DTSTART;TZID=UTC:20250506T130000
DTEND;TZID=UTC:20250506T143000
DTSTAMP:20260425T072547
CREATED:20250423T185207Z
LAST-MODIFIED:20250423T185207Z
UID:3652-1746536400-1746541800@cincoranchladiesclub.org
SUMMARY:Gardening/Journaling
DESCRIPTION:The Gardening Sub-Club is an opportunity to socialize with other gardening interested ladies\, and learn more about plantings\, seeds\, etc. This group usually meets on the 1st Tuesday for May at 1 pm.
URL:https://cincoranchladiesclub.org/event/gardening-journaling-9/
END:VEVENT
BEGIN:VEVENT
DTSTART;TZID=UTC:20250508T113000
DTEND;TZID=UTC:20250508T140000
DTSTAMP:20260425T072547
CREATED:20250423T185525Z
LAST-MODIFIED:20250423T185525Z
UID:3654-1746703800-1746712800@cincoranchladiesclub.org
SUMMARY:Creative Kitchen
DESCRIPTION:We meet on the 2nd Thursday at 11:30 am \nThis popular club rotates at a member’s home each month for lunch. A different Hostess and 5+ Co-Hosts team up to organize a themed luncheon for 30-50 members and the results are mouthwatering! \nInvitations and details are sent monthly by Evite. RSVP’s are required and limited as this consists of a sit down pre-planned menu. Attendees are required to volunteer in some capacity at least one time to enjoy the luncheons the entire club year.
URL:https://cincoranchladiesclub.org/event/creative-kitchen-18/
ORGANIZER;CN="Renita Hudson":MAILTO:cincoranchladiesclub@gmail.com
END:VEVENT
END:VCALENDAR