BEGIN:VCALENDAR
VERSION:2.0
PRODID:-// - ECPv6.15.20//NONSGML v1.0//EN
CALSCALE:GREGORIAN
METHOD:PUBLISH
X-ORIGINAL-URL:https://cincoranchladiesclub.org
X-WR-CALDESC:Events for 
REFRESH-INTERVAL;VALUE=DURATION:PT1H
X-Robots-Tag:noindex
X-PUBLISHED-TTL:PT1H
BEGIN:VTIMEZONE
TZID:America/Chicago
BEGIN:DAYLIGHT
TZOFFSETFROM:-0600
TZOFFSETTO:-0500
TZNAME:CDT
DTSTART:20250309T080000
END:DAYLIGHT
BEGIN:STANDARD
TZOFFSETFROM:-0500
TZOFFSETTO:-0600
TZNAME:CST
DTSTART:20251102T070000
END:STANDARD
BEGIN:DAYLIGHT
TZOFFSETFROM:-0600
TZOFFSETTO:-0500
TZNAME:CDT
DTSTART:20260308T080000
END:DAYLIGHT
BEGIN:STANDARD
TZOFFSETFROM:-0500
TZOFFSETTO:-0600
TZNAME:CST
DTSTART:20261101T070000
END:STANDARD
BEGIN:DAYLIGHT
TZOFFSETFROM:-0600
TZOFFSETTO:-0500
TZNAME:CDT
DTSTART:20270314T080000
END:DAYLIGHT
BEGIN:STANDARD
TZOFFSETFROM:-0500
TZOFFSETTO:-0600
TZNAME:CST
DTSTART:20271107T070000
END:STANDARD
END:VTIMEZONE
BEGIN:VTIMEZONE
TZID:UTC
BEGIN:STANDARD
TZOFFSETFROM:+0000
TZOFFSETTO:+0000
TZNAME:UTC
DTSTART:20250101T000000
END:STANDARD
END:VTIMEZONE
BEGIN:VEVENT
DTSTART;TZID=America/Chicago:20260413T183000
DTEND;TZID=America/Chicago:20260413T200000
DTSTAMP:20260423T193454
CREATED:20260403T011401Z
LAST-MODIFIED:20260403T011401Z
UID:4648-1776105000-1776110400@cincoranchladiesclub.org
SUMMARY:Mindful Meditation
DESCRIPTION:2nd Monday at 6:30- 8:00 p.m. \nAnyone can meditate.  Come and take a moment from your busy life to slow down for an evening of gathering\, meditating (guided seated meditation)\, sharing mindful listening\, and drinking tea.  The evening will end with a short\, guided loving-kindness meditation.  This event will be limited to 10 people to provide for a more intimate setting.
URL:https://cincoranchladiesclub.org/event/mindful-meditation-5/
ORGANIZER;CN="Hanne Siatka":MAILTO:hannesiatka@yahoo.com
END:VEVENT
BEGIN:VEVENT
DTSTART;TZID=UTC:20260410T090000
DTEND;TZID=UTC:20260410T100000
DTSTAMP:20260423T193454
CREATED:20260403T011228Z
LAST-MODIFIED:20260403T011228Z
UID:4642-1775811600-1775815200@cincoranchladiesclub.org
SUMMARY:Walking Club
DESCRIPTION:This club meets weekly inside AMC Entrance 2 every Friday at 9:00 am. Some extra outings and hikes are occasionally offered. \nLet’s get physical! Getting in a weekly stroll is so much easier with friends and laughs! Take it at your own pace.
URL:https://cincoranchladiesclub.org/event/walking-club-6/
ORGANIZER;CN="Debbie Steinfield":MAILTO:cincoranchladiesclub@gmail.com
END:VEVENT
BEGIN:VEVENT
DTSTART;TZID=UTC:20260409T113000
DTEND;TZID=UTC:20260409T140000
DTSTAMP:20260423T193454
CREATED:20260403T011559Z
LAST-MODIFIED:20260403T011559Z
UID:4654-1775734200-1775743200@cincoranchladiesclub.org
SUMMARY:Creative Kitchen
DESCRIPTION:We meet on the 2nd Thursday at 11:30 am \nThis popular club rotates at a member’s home each month for lunch. A different Hostess and 5+ Co-Hosts team up to organize a themed luncheon for 30-50 members and the results are mouthwatering! \nInvitations and details are sent monthly by Evite. RSVP’s are required and limited as this consists of a sit down pre-planned menu. Attendees are required to volunteer in some capacity at least one time to enjoy the luncheons the entire club year.
URL:https://cincoranchladiesclub.org/event/creative-kitchen-3/
ORGANIZER;CN="Renita Hudson":MAILTO:cincoranchladiesclub@gmail.com
END:VEVENT
BEGIN:VEVENT
DTSTART;TZID=UTC:20260408T130000
DTEND;TZID=UTC:20260408T150000
DTSTAMP:20260423T193454
CREATED:20260403T011526Z
LAST-MODIFIED:20260403T011526Z
UID:4652-1775653200-1775660400@cincoranchladiesclub.org
SUMMARY:Mahjong
DESCRIPTION:Mahjong is a tile-based game played with a set of tiles based on Chinese characters and symbols. It is played on the 2nd Wednesday of the month at 1-3 pm.
URL:https://cincoranchladiesclub.org/event/mahjong-3/
ORGANIZER;CN="Penny Smith":MAILTO:penny.leder.aka.smith@gmail.com
END:VEVENT
BEGIN:VEVENT
DTSTART;TZID=UTC:20260407T180000
DTEND;TZID=UTC:20260407T203000
DTSTAMP:20260423T193454
CREATED:20260403T011435Z
LAST-MODIFIED:20260403T011435Z
UID:4650-1775584800-1775593800@cincoranchladiesclub.org
SUMMARY:Bunco  Night
DESCRIPTION:We meet the 2nd  Tuesday of every month at 6:00 pm \nHave you ever played this simple\, fast-paced\, and thrilling game? If you have you know it requires a strict number of players (groups of four) and as this is one of our most popular sub-clubs\, the spaces fill up fast every month! (RSVP to your Evite right away!) The event is typically limited to 16 ladies as we hold it in one of our member’s lovely homes- light snacks are served.
URL:https://cincoranchladiesclub.org/event/bunco-night-2/
ORGANIZER;CN="Tracy Gremillion":MAILTO:traceygremillion@kw.com
END:VEVENT
BEGIN:VEVENT
DTSTART;TZID=America/Chicago:20260407T173000
DTEND;TZID=America/Chicago:20260407T203000
DTSTAMP:20260423T193454
CREATED:20260403T010959Z
LAST-MODIFIED:20260403T010959Z
UID:4634-1775583000-1775593800@cincoranchladiesclub.org
SUMMARY:GENERAL MEETING
DESCRIPTION:We meet on the 1st Tuesday of each month at 5:30 p.m.\, if you want to eat before. Meeting starts at 6:00 p.m. Location is at La Centerra Local Table off Cinco Ranch.
URL:https://cincoranchladiesclub.org/event/general-meeting-3/
END:VEVENT
BEGIN:VEVENT
DTSTART;TZID=UTC:20260406T110000
DTEND;TZID=UTC:20260406T133000
DTSTAMP:20260423T193454
CREATED:20260403T010908Z
LAST-MODIFIED:20260403T010908Z
UID:4632-1775473200-1775482200@cincoranchladiesclub.org
SUMMARY:Bunco DAY
DESCRIPTION:We meet the 1st Monday of every month at 11:00 am. \nHave you ever played this simple\, fast-paced\, and thrilling game? If you have you know it requires a strict number of players (groups of four) and as this is one of our most popular sub-clubs\, the spaces fill up fast every month! (RSVP to your Evite right away!) The event is at Texas Borders & Grill 26440 FM 1093 Richmond   Cathy Wilson
URL:https://cincoranchladiesclub.org/event/bunco-day-3/
ORGANIZER;CN="Cathy Wilson":MAILTO:cincoranchladiesclub@gmail.com
END:VEVENT
BEGIN:VEVENT
DTSTART;TZID=UTC:20260403T090000
DTEND;TZID=UTC:20260403T100000
DTSTAMP:20260423T193454
CREATED:20260403T011153Z
LAST-MODIFIED:20260403T011153Z
UID:4640-1775206800-1775210400@cincoranchladiesclub.org
SUMMARY:Walking Club
DESCRIPTION:This club meets weekly inside AMC Entrance 2 every Friday at 9:00 am. Some extra outings and hikes are occasionally offered. \nLet’s get physical! Getting in a weekly stroll is so much easier with friends and laughs! Take it at your own pace.
URL:https://cincoranchladiesclub.org/event/walking-club-5/
ORGANIZER;CN="Debbie Steinfield":MAILTO:cincoranchladiesclub@gmail.com
END:VEVENT
BEGIN:VEVENT
DTSTART;TZID=UTC:20260402T183000
DTEND;TZID=UTC:20260402T193000
DTSTAMP:20260423T193454
CREATED:20260403T011640Z
LAST-MODIFIED:20260403T011640Z
UID:4656-1775154600-1775158200@cincoranchladiesclub.org
SUMMARY:Book Club
DESCRIPTION:Our Book Club meets once a month to discuss the book we have read. Meetings will vary each month based on location. We read the agreed-upon book (usually selected by members’ input) and meet to discuss themes\, characters\, etc. Selections might be fiction\, nonfiction\, light-hearted or serious.
URL:https://cincoranchladiesclub.org/event/book-club-3/
ORGANIZER;CN="Cynthia Rogan":MAILTO:cincoranchladiesclub@gmail.com
END:VEVENT
BEGIN:VEVENT
DTSTART;TZID=UTC:20260402T110000
DTEND;TZID=UTC:20260402T140000
DTSTAMP:20260423T193454
CREATED:20260403T011117Z
LAST-MODIFIED:20260403T011117Z
UID:4638-1775127600-1775138400@cincoranchladiesclub.org
SUMMARY:Mexican Train - Day
DESCRIPTION:We meet on the 1st Thursday of each month at 11 am @ El Asador 3750 S. Mason RD. 77450. If you would like to have dinner prior to the game – 12:15 pm is game time. \nMexican Train Dominoes has just the right amount of skill and fun.  This game seems to unite and build friendships that last forever!  Fall in love with Mexican Train.  It is fun and endlessly challenging.
URL:https://cincoranchladiesclub.org/event/mexican-train-day-2/
ORGANIZER;CN="Liz  Castle":MAILTO:cincoranchladiesclub@gmail.com
END:VEVENT
BEGIN:VEVENT
DTSTART;TZID=UTC:20260401T130000
DTEND;TZID=UTC:20260401T150000
DTSTAMP:20260423T193454
CREATED:20260403T011036Z
LAST-MODIFIED:20260403T011036Z
UID:4636-1775048400-1775055600@cincoranchladiesclub.org
SUMMARY:Pokeno
DESCRIPTION:Pokeno generally meets on the 1st Wednesday from 1-3 pm.  Location will be in the Evite.
URL:https://cincoranchladiesclub.org/event/pokeno-2/
ORGANIZER;CN="Yaya Chalmers":MAILTO:yayachalmers@gmail.com
END:VEVENT
BEGIN:VEVENT
DTSTART;TZID=UTC:20260327T113000
DTEND;TZID=UTC:20260327T130000
DTSTAMP:20260423T193454
CREATED:20260303T035313Z
LAST-MODIFIED:20260303T035313Z
UID:4580-1774611000-1774616400@cincoranchladiesclub.org
SUMMARY:Lunch Bunch
DESCRIPTION:We meet on the 4th Friday of each month at 11:30 am. \n“The Ladies Who Lunch” always have a marvelous time trying out new lunch spots and experiencing interesting or tried-and-true favorite cuisines at different restaurants.
URL:https://cincoranchladiesclub.org/event/lunch-bunch-2/
ORGANIZER;CN="Sally Outlaw":MAILTO:texasoutlaws48@aol.com
END:VEVENT
BEGIN:VEVENT
DTSTART;TZID=UTC:20260327T090000
DTEND;TZID=UTC:20260327T100000
DTSTAMP:20260423T193454
CREATED:20260303T040420Z
LAST-MODIFIED:20260303T040420Z
UID:4608-1774602000-1774605600@cincoranchladiesclub.org
SUMMARY:Walking Club
DESCRIPTION:This club meets weekly inside AMC Entrance 2 every Friday at 9:00 am. Some extra outings and hikes are occasionally offered. \nLet’s get physical! Getting in a weekly stroll is so much easier with friends and laughs! Take it at your own pace.
URL:https://cincoranchladiesclub.org/event/walking-club-4/
ORGANIZER;CN="Debbie Steinfield":MAILTO:cincoranchladiesclub@gmail.com
END:VEVENT
BEGIN:VEVENT
DTSTART;TZID=UTC:20260326T113000
DTEND;TZID=UTC:20260326T133000
DTSTAMP:20260423T193454
CREATED:20260303T035655Z
LAST-MODIFIED:20260303T035655Z
UID:4590-1774524600-1774531800@cincoranchladiesclub.org
SUMMARY:Movie Club
DESCRIPTION:Dates and times will vary. Cinemark on I-10 & 99. See Evite for details.
URL:https://cincoranchladiesclub.org/event/movie-club-2/
ORGANIZER;CN="Sue Currie":MAILTO:sue.currie@att.net
END:VEVENT
BEGIN:VEVENT
DTSTART;TZID=UTC:20260326T093000
DTEND;TZID=UTC:20260326T110000
DTSTAMP:20260423T193454
CREATED:20260303T034940Z
LAST-MODIFIED:20260303T034940Z
UID:4570-1774517400-1774522800@cincoranchladiesclub.org
SUMMARY:Coffee
DESCRIPTION:We generally meet on the 4th Thursday of each month at 9:30 am.  Location TBA in Evite. Tiffany Lanza the organizer.
URL:https://cincoranchladiesclub.org/event/coffee-2/
END:VEVENT
BEGIN:VEVENT
DTSTART;TZID=UTC:20260325T100000
DTEND;TZID=UTC:20260325T113000
DTSTAMP:20260423T193454
CREATED:20260303T035148Z
LAST-MODIFIED:20260303T035148Z
UID:4576-1774432800-1774438200@cincoranchladiesclub.org
SUMMARY:Gardening/Journaling
DESCRIPTION:The Gardening Sub-Club is an opportunity to socialize with other gardening interested ladies\, and learn more about plantings\, seeds\, etc. This group usually meets on the 4th Wednesday at 10 a.m. Organizer is Jen Pazicni.
URL:https://cincoranchladiesclub.org/event/gardening-journaling-2/
END:VEVENT
BEGIN:VEVENT
DTSTART;TZID=UTC:20260324T171500
DTEND;TZID=UTC:20260324T203000
DTSTAMP:20260423T193454
CREATED:20260303T035519Z
LAST-MODIFIED:20260303T035519Z
UID:4586-1774372500-1774384200@cincoranchladiesclub.org
SUMMARY:Mexican Train (Evenings)
DESCRIPTION:We meet on the 4th Tuesday of each month at 5:15 pm @ El Asador 3750 S. Mason RD. 77450. If you would like to have dinner prior to the game – 6:15 pm is game time. \nMexican Train Dominoes has just the right amount of skill and fun.  This game seems to unite and build friendships that last forever!  Fall in love with Mexican Train.  It is fun and endlessly challenging.
URL:https://cincoranchladiesclub.org/event/mexican-train-evenings/
ORGANIZER;CN="Beth Clark":MAILTO:bethclark02@gmail.com
END:VEVENT
BEGIN:VEVENT
DTSTART;TZID=UTC:20260321T183000
DTEND;TZID=UTC:20260321T203000
DTSTAMP:20260423T193454
CREATED:20260303T035105Z
LAST-MODIFIED:20260303T035105Z
UID:4574-1774117800-1774125000@cincoranchladiesclub.org
SUMMARY:Dining Out
DESCRIPTION:We generally meet on the 3rd Saturday of each month at 6:30 pm. \nAn RSVP required event\, reservations are made (your favorite significant other is welcome to join) can enjoy a night out at a fabulous Katy or West Houston area restaurants. Don’t worry\, this isn’t all about “fancy places.” We have been known to sample delectable Bar-B-Que\, or juicy hamburgers\, as well as the finer dining options!
URL:https://cincoranchladiesclub.org/event/dining-out-2/
ORGANIZER;CN="Joyce Rogers":MAILTO:cincoranchladiesclub@gmail.com
END:VEVENT
BEGIN:VEVENT
DTSTART;TZID=UTC:20260320T090000
DTEND;TZID=UTC:20260320T100000
DTSTAMP:20260423T193454
CREATED:20260303T040343Z
LAST-MODIFIED:20260303T040343Z
UID:4606-1773997200-1774000800@cincoranchladiesclub.org
SUMMARY:Walking Club
DESCRIPTION:This club meets weekly inside AMC Entrance 2 every Friday at 9:00 am. Some extra outings and hikes are occasionally offered. \nLet’s get physical! Getting in a weekly stroll is so much easier with friends and laughs! Take it at your own pace.
URL:https://cincoranchladiesclub.org/event/walking-club-3/
ORGANIZER;CN="Debbie Steinfield":MAILTO:cincoranchladiesclub@gmail.com
END:VEVENT
BEGIN:VEVENT
DTSTART;TZID=UTC:20260318T183000
DTEND;TZID=UTC:20260318T213000
DTSTAMP:20260423T193454
CREATED:20260303T040036Z
LAST-MODIFIED:20260303T040036Z
UID:4600-1773858600-1773869400@cincoranchladiesclub.org
SUMMARY:Wine Club
DESCRIPTION:Wine Club meets on the 3rd Wednesday at 6:30 pm. Come and join us for wine and a social evening.
URL:https://cincoranchladiesclub.org/event/wine-club/
ORGANIZER;CN="Jo Ann Miller":MAILTO:txbankergal@gmail.com
END:VEVENT
BEGIN:VEVENT
DTSTART;TZID=UTC:20260318T160000
DTEND;TZID=UTC:20260318T190000
DTSTAMP:20260423T193454
CREATED:20260303T035226Z
LAST-MODIFIED:20260303T035226Z
UID:4578-1773849600-1773860400@cincoranchladiesclub.org
SUMMARY:Ladies Night Out
DESCRIPTION:Join this fun group of ladies for a night of fun. \nThe location will change each month & will be in the Evite!
URL:https://cincoranchladiesclub.org/event/ladies-night-out-2/
ORGANIZER;CN="Penny Grant":MAILTO:cincoranchladiesclub@gmail.com
END:VEVENT
BEGIN:VEVENT
DTSTART;TZID=UTC:20260317T123000
DTEND;TZID=UTC:20260317T143000
DTSTAMP:20260423T193454
CREATED:20260303T034643Z
LAST-MODIFIED:20260303T034643Z
UID:4562-1773750600-1773757800@cincoranchladiesclub.org
SUMMARY:Bowling
DESCRIPTION:This group of ladies will meet at Times Square Entertainment Katy at 1pm on the 3rd Tuesday of the month. Get there early to pay and rent shoes\, if needed.
URL:https://cincoranchladiesclub.org/event/bowling-2/
ORGANIZER;CN="Joyce Rogers":MAILTO:cincoranchladiesclub@gmail.com
END:VEVENT
BEGIN:VEVENT
DTSTART;TZID=UTC:20260316T110000
DTEND;TZID=UTC:20260316T140000
DTSTAMP:20260423T193454
CREATED:20260303T034858Z
LAST-MODIFIED:20260303T034858Z
UID:4568-1773658800-1773669600@cincoranchladiesclub.org
SUMMARY:Canasta
DESCRIPTION:We meet on the 3rd Monday of each month at 11:00 am for lunch at Center Court Pizza on Spring Green. We play at noon.  Sue Currie
URL:https://cincoranchladiesclub.org/event/canasta-2/
ORGANIZER;CN="Sue Currie":MAILTO:sue.currie@att.net
END:VEVENT
BEGIN:VEVENT
DTSTART;TZID=UTC:20260316T073000
DTEND;TZID=UTC:20260316T090000
DTSTAMP:20260423T193454
CREATED:20260303T035737Z
LAST-MODIFIED:20260303T035917Z
UID:4592-1773646200-1773651600@cincoranchladiesclub.org
SUMMARY:Pickleball
DESCRIPTION:Pickleball meets on the 3rd Monday of the month at 8 a.m or 9 a.m. Bring water and a towel! We are currently playing at: Jones Creek Ranch Park\,  FM 359\, Richmond \nBEGINNERS WELCOME
URL:https://cincoranchladiesclub.org/event/pickleball-copy-2/
ORGANIZER;CN="Kate Chiang":MAILTO:katechiange88@gmail.com
END:VEVENT
BEGIN:VEVENT
DTSTART;TZID=UTC:20260313T090000
DTEND;TZID=UTC:20260313T100000
DTSTAMP:20260423T193454
CREATED:20260303T040300Z
LAST-MODIFIED:20260303T040300Z
UID:4604-1773392400-1773396000@cincoranchladiesclub.org
SUMMARY:Walking Club
DESCRIPTION:This club meets weekly inside AMC Entrance 2 every Friday at 9:00 am. Some extra outings and hikes are occasionally offered. \nLet’s get physical! Getting in a weekly stroll is so much easier with friends and laughs! Take it at your own pace.
URL:https://cincoranchladiesclub.org/event/walking-club-2/
ORGANIZER;CN="Debbie Steinfield":MAILTO:cincoranchladiesclub@gmail.com
END:VEVENT
BEGIN:VEVENT
DTSTART;TZID=UTC:20260312T113000
DTEND;TZID=UTC:20260312T140000
DTSTAMP:20260423T193454
CREATED:20260303T035023Z
LAST-MODIFIED:20260303T035023Z
UID:4572-1773315000-1773324000@cincoranchladiesclub.org
SUMMARY:Creative Kitchen
DESCRIPTION:We meet on the 2nd Thursday at 11:30 am \nThis popular club rotates at a member’s home each month for lunch. A different Hostess and 5+ Co-Hosts team up to organize a themed luncheon for 30-50 members and the results are mouthwatering! \nInvitations and details are sent monthly by Evite. RSVP’s are required and limited as this consists of a sit down pre-planned menu. Attendees are required to volunteer in some capacity at least one time to enjoy the luncheons the entire club year.
URL:https://cincoranchladiesclub.org/event/creative-kitchen-2/
ORGANIZER;CN="Renita Hudson":MAILTO:cincoranchladiesclub@gmail.com
END:VEVENT
BEGIN:VEVENT
DTSTART;TZID=UTC:20260311T130000
DTEND;TZID=UTC:20260311T150000
DTSTAMP:20260423T193454
CREATED:20260303T035401Z
LAST-MODIFIED:20260303T035401Z
UID:4582-1773234000-1773241200@cincoranchladiesclub.org
SUMMARY:Mahjong
DESCRIPTION:Mahjong is a tile-based game played with a set of tiles based on Chinese characters and symbols. It is played on the 2nd Wednesday of the month at 1-3 pm.
URL:https://cincoranchladiesclub.org/event/mahjong-2/
ORGANIZER;CN="Penny Smith":MAILTO:penny.leder.aka.smith@gmail.com
END:VEVENT
BEGIN:VEVENT
DTSTART;TZID=UTC:20260310T180000
DTEND;TZID=UTC:20260310T203000
DTSTAMP:20260423T193454
CREATED:20260303T034823Z
LAST-MODIFIED:20260303T034823Z
UID:4566-1773165600-1773174600@cincoranchladiesclub.org
SUMMARY:Bunco  Night
DESCRIPTION:We meet the 2nd  Tuesday of every month at 6:00 pm \nHave you ever played this simple\, fast-paced\, and thrilling game? If you have you know it requires a strict number of players (groups of four) and as this is one of our most popular sub-clubs\, the spaces fill up fast every month! (RSVP to your Evite right away!) The event is typically limited to 16 ladies as we hold it in one of our member’s lovely homes- light snacks are served.
URL:https://cincoranchladiesclub.org/event/bunco-night/
ORGANIZER;CN="Tracy Gremillion":MAILTO:traceygremillion@kw.com
END:VEVENT
BEGIN:VEVENT
DTSTART;TZID=America/Chicago:20260309T183000
DTEND;TZID=America/Chicago:20260309T200000
DTSTAMP:20260423T193454
CREATED:20260303T035601Z
LAST-MODIFIED:20260303T035601Z
UID:4588-1773081000-1773086400@cincoranchladiesclub.org
SUMMARY:Mindful Meditation
DESCRIPTION:2nd Monday at 6:30- 8:00 p.m. \nAnyone can meditate.  Come and take a moment from your busy life to slow down for an evening of gathering\, meditating (guided seated meditation)\, sharing mindful listening\, and drinking tea.  The evening will end with a short\, guided loving-kindness meditation.  This event will be limited to 10 people to provide for a more intimate setting.
URL:https://cincoranchladiesclub.org/event/mindful-meditation-3/
ORGANIZER;CN="Hanne Siatka":MAILTO:hannesiatka@yahoo.com
END:VEVENT
BEGIN:VEVENT
DTSTART;TZID=UTC:20260306T090000
DTEND;TZID=UTC:20260306T100000
DTSTAMP:20260423T193454
CREATED:20260303T040209Z
LAST-MODIFIED:20260303T040209Z
UID:4602-1772787600-1772791200@cincoranchladiesclub.org
SUMMARY:Walking Club
DESCRIPTION:This club meets weekly inside AMC Entrance 2 every Friday at 9:00 am. Some extra outings and hikes are occasionally offered. \nLet’s get physical! Getting in a weekly stroll is so much easier with friends and laughs! Take it at your own pace.
URL:https://cincoranchladiesclub.org/event/walking-club/
ORGANIZER;CN="Debbie Steinfield":MAILTO:cincoranchladiesclub@gmail.com
END:VEVENT
END:VCALENDAR