BEGIN:VCALENDAR
VERSION:2.0
PRODID:-// - ECPv6.15.20//NONSGML v1.0//EN
CALSCALE:GREGORIAN
METHOD:PUBLISH
X-ORIGINAL-URL:https://cincoranchladiesclub.org
X-WR-CALDESC:Events for 
REFRESH-INTERVAL;VALUE=DURATION:PT1H
X-Robots-Tag:noindex
X-PUBLISHED-TTL:PT1H
BEGIN:VTIMEZONE
TZID:UTC
BEGIN:STANDARD
TZOFFSETFROM:+0000
TZOFFSETTO:+0000
TZNAME:UTC
DTSTART:20250101T000000
END:STANDARD
END:VTIMEZONE
BEGIN:VEVENT
DTSTART;TZID=UTC:20260416T080000
DTEND;TZID=UTC:20260416T160000
DTSTAMP:20260423T143243
CREATED:20260403T012109Z
LAST-MODIFIED:20260403T012109Z
UID:4665-1776326400-1776355200@cincoranchladiesclub.org
SUMMARY:Bonus Bus Event
DESCRIPTION:Something different is scheduled each month as a Bonus Event.  January-May \n 
URL:https://cincoranchladiesclub.org/event/bonus-bus-event/
ORGANIZER;CN="Sue Currie":MAILTO:sue.currie@att.net
END:VEVENT
END:VCALENDAR