BEGIN:VCALENDAR
VERSION:2.0
PRODID:-// - ECPv6.15.20//NONSGML v1.0//EN
CALSCALE:GREGORIAN
METHOD:PUBLISH
X-ORIGINAL-URL:https://cincoranchladiesclub.org
X-WR-CALDESC:Events for 
REFRESH-INTERVAL;VALUE=DURATION:PT1H
X-Robots-Tag:noindex
X-PUBLISHED-TTL:PT1H
BEGIN:VTIMEZONE
TZID:UTC
BEGIN:STANDARD
TZOFFSETFROM:+0000
TZOFFSETTO:+0000
TZNAME:UTC
DTSTART:20250101T000000
END:STANDARD
END:VTIMEZONE
BEGIN:VEVENT
DTSTART;TZID=UTC:20260326T093000
DTEND;TZID=UTC:20260326T110000
DTSTAMP:20260423T163654
CREATED:20260303T034940Z
LAST-MODIFIED:20260303T034940Z
UID:4570-1774517400-1774522800@cincoranchladiesclub.org
SUMMARY:Coffee
DESCRIPTION:We generally meet on the 4th Thursday of each month at 9:30 am.  Location TBA in Evite. Tiffany Lanza the organizer.
URL:https://cincoranchladiesclub.org/event/coffee-2/
END:VEVENT
BEGIN:VEVENT
DTSTART;TZID=UTC:20260326T113000
DTEND;TZID=UTC:20260326T133000
DTSTAMP:20260423T163654
CREATED:20260303T035655Z
LAST-MODIFIED:20260303T035655Z
UID:4590-1774524600-1774531800@cincoranchladiesclub.org
SUMMARY:Movie Club
DESCRIPTION:Dates and times will vary. Cinemark on I-10 & 99. See Evite for details.
URL:https://cincoranchladiesclub.org/event/movie-club-2/
ORGANIZER;CN="Sue Currie":MAILTO:sue.currie@att.net
END:VEVENT
END:VCALENDAR