BEGIN:VCALENDAR
VERSION:2.0
PRODID:-// - ECPv6.15.20//NONSGML v1.0//EN
CALSCALE:GREGORIAN
METHOD:PUBLISH
X-ORIGINAL-URL:https://cincoranchladiesclub.org
X-WR-CALDESC:Events for 
REFRESH-INTERVAL;VALUE=DURATION:PT1H
X-Robots-Tag:noindex
X-PUBLISHED-TTL:PT1H
BEGIN:VTIMEZONE
TZID:UTC
BEGIN:STANDARD
TZOFFSETFROM:+0000
TZOFFSETTO:+0000
TZNAME:UTC
DTSTART:20250101T000000
END:STANDARD
END:VTIMEZONE
BEGIN:VEVENT
DTSTART;TZID=UTC:20260318T160000
DTEND;TZID=UTC:20260318T190000
DTSTAMP:20260423T163911
CREATED:20260303T035226Z
LAST-MODIFIED:20260303T035226Z
UID:4578-1773849600-1773860400@cincoranchladiesclub.org
SUMMARY:Ladies Night Out
DESCRIPTION:Join this fun group of ladies for a night of fun. \nThe location will change each month & will be in the Evite!
URL:https://cincoranchladiesclub.org/event/ladies-night-out-2/
ORGANIZER;CN="Penny Grant":MAILTO:cincoranchladiesclub@gmail.com
END:VEVENT
BEGIN:VEVENT
DTSTART;TZID=UTC:20260318T183000
DTEND;TZID=UTC:20260318T213000
DTSTAMP:20260423T163911
CREATED:20260303T040036Z
LAST-MODIFIED:20260303T040036Z
UID:4600-1773858600-1773869400@cincoranchladiesclub.org
SUMMARY:Wine Club
DESCRIPTION:Wine Club meets on the 3rd Wednesday at 6:30 pm. Come and join us for wine and a social evening.
URL:https://cincoranchladiesclub.org/event/wine-club/
ORGANIZER;CN="Jo Ann Miller":MAILTO:txbankergal@gmail.com
END:VEVENT
END:VCALENDAR