BEGIN:VCALENDAR
VERSION:2.0
PRODID:-// - ECPv6.15.20//NONSGML v1.0//EN
CALSCALE:GREGORIAN
METHOD:PUBLISH
X-ORIGINAL-URL:https://cincoranchladiesclub.org
X-WR-CALDESC:Events for 
REFRESH-INTERVAL;VALUE=DURATION:PT1H
X-Robots-Tag:noindex
X-PUBLISHED-TTL:PT1H
BEGIN:VTIMEZONE
TZID:UTC
BEGIN:STANDARD
TZOFFSETFROM:+0000
TZOFFSETTO:+0000
TZNAME:UTC
DTSTART:20250101T000000
END:STANDARD
END:VTIMEZONE
BEGIN:VEVENT
DTSTART;TZID=UTC:20260305T110000
DTEND;TZID=UTC:20260305T140000
DTSTAMP:20260423T163616
CREATED:20260303T035439Z
LAST-MODIFIED:20260303T035439Z
UID:4584-1772708400-1772719200@cincoranchladiesclub.org
SUMMARY:Mexican Train - Day
DESCRIPTION:We meet on the 1st Thursday of each month at 11 am @ El Asador 3750 S. Mason RD. 77450. If you would like to have dinner prior to the game – 12:15 pm is game time. \nMexican Train Dominoes has just the right amount of skill and fun.  This game seems to unite and build friendships that last forever!  Fall in love with Mexican Train.  It is fun and endlessly challenging.
URL:https://cincoranchladiesclub.org/event/mexican-train-day/
ORGANIZER;CN="Liz  Castle":MAILTO:cincoranchladiesclub@gmail.com
END:VEVENT
BEGIN:VEVENT
DTSTART;TZID=UTC:20260305T183000
DTEND;TZID=UTC:20260305T193000
DTSTAMP:20260423T163616
CREATED:20260303T034600Z
LAST-MODIFIED:20260303T034600Z
UID:4560-1772735400-1772739000@cincoranchladiesclub.org
SUMMARY:Book Club
DESCRIPTION:Our Book Club meets once a month to discuss the book we have read. Meetings will vary each month based on location. We read the agreed-upon book (usually selected by members’ input) and meet to discuss themes\, characters\, etc. Selections might be fiction\, nonfiction\, light-hearted or serious.
URL:https://cincoranchladiesclub.org/event/book-club-2/
ORGANIZER;CN="Cynthia Rogan":MAILTO:cincoranchladiesclub@gmail.com
END:VEVENT
END:VCALENDAR