BEGIN:VCALENDAR
VERSION:2.0
PRODID:-// - ECPv6.15.20//NONSGML v1.0//EN
CALSCALE:GREGORIAN
METHOD:PUBLISH
X-ORIGINAL-URL:https://cincoranchladiesclub.org
X-WR-CALDESC:Events for 
REFRESH-INTERVAL;VALUE=DURATION:PT1H
X-Robots-Tag:noindex
X-PUBLISHED-TTL:PT1H
BEGIN:VTIMEZONE
TZID:UTC
BEGIN:STANDARD
TZOFFSETFROM:+0000
TZOFFSETTO:+0000
TZNAME:UTC
DTSTART:20250101T000000
END:STANDARD
END:VTIMEZONE
BEGIN:VEVENT
DTSTART;TZID=UTC:20260220T090000
DTEND;TZID=UTC:20260220T100000
DTSTAMP:20260423T181541
CREATED:20260106T040534Z
LAST-MODIFIED:20260206T020511Z
UID:4451-1771578000-1771581600@cincoranchladiesclub.org
SUMMARY:Walking Club
DESCRIPTION:This club meets weekly inside AMC Entrance 2 every Friday at 9:00 am. Some extra outings and hikes are occasionally offered. \nLet’s get physical! Getting in a weekly stroll is so much easier with friends and laughs! Take it at your own pace.
URL:https://cincoranchladiesclub.org/event/walking-club-78/
ORGANIZER;CN="Debbie Steinfield":MAILTO:cincoranchladiesclub@gmail.com
END:VEVENT
BEGIN:VEVENT
DTSTART;TZID=UTC:20260220T183000
DTEND;TZID=UTC:20260220T203000
DTSTAMP:20260423T181541
CREATED:20260206T014650Z
LAST-MODIFIED:20260206T015344Z
UID:4530-1771612200-1771619400@cincoranchladiesclub.org
SUMMARY:Dining Out
DESCRIPTION:We generally meet on the 3rd Saturday of each month at 6:30 pm. \nAn RSVP required event\, reservations are made (your favorite significant other is welcome to join) can enjoy a night out at a fabulous Katy or West Houston area restaurants. Don’t worry\, this isn’t all about “fancy places.” We have been known to sample delectable Bar-B-Que\, or juicy hamburgers\, as well as the finer dining options!
URL:https://cincoranchladiesclub.org/event/dining-out/
ORGANIZER;CN="Joyce Rogers":MAILTO:cincoranchladiesclub@gmail.com
END:VEVENT
END:VCALENDAR