BEGIN:VCALENDAR
VERSION:2.0
PRODID:-// - ECPv6.15.20//NONSGML v1.0//EN
CALSCALE:GREGORIAN
METHOD:PUBLISH
X-ORIGINAL-URL:https://cincoranchladiesclub.org
X-WR-CALDESC:Events for 
REFRESH-INTERVAL;VALUE=DURATION:PT1H
X-Robots-Tag:noindex
X-PUBLISHED-TTL:PT1H
BEGIN:VTIMEZONE
TZID:UTC
BEGIN:STANDARD
TZOFFSETFROM:+0000
TZOFFSETTO:+0000
TZNAME:UTC
DTSTART:20250101T000000
END:STANDARD
END:VTIMEZONE
BEGIN:VEVENT
DTSTART;TZID=UTC:20260211T130000
DTEND;TZID=UTC:20260211T150000
DTSTAMP:20260423T181454
CREATED:20260206T015640Z
LAST-MODIFIED:20260206T015640Z
UID:4538-1770814800-1770822000@cincoranchladiesclub.org
SUMMARY:Mahjong
DESCRIPTION:Mahjong is a tile-based game played with a set of tiles based on Chinese characters and symbols. It is played on the 2nd Wednesday of the month at 1-3 pm.
URL:https://cincoranchladiesclub.org/event/mahjong/
ORGANIZER;CN="Penny Smith":MAILTO:penny.leder.aka.smith@gmail.com
END:VEVENT
BEGIN:VEVENT
DTSTART;TZID=UTC:20260211T160000
DTEND;TZID=UTC:20260211T190000
DTSTAMP:20260423T181454
CREATED:20260206T015122Z
LAST-MODIFIED:20260206T015122Z
UID:4534-1770825600-1770836400@cincoranchladiesclub.org
SUMMARY:Ladies Night Out
DESCRIPTION:Join this fun group of ladies for a night of fun. \nThe location will change each month & will be in the Evite!
URL:https://cincoranchladiesclub.org/event/ladies-night-out/
ORGANIZER;CN="Penny Grant":MAILTO:cincoranchladiesclub@gmail.com
END:VEVENT
END:VCALENDAR