BEGIN:VCALENDAR
VERSION:2.0
PRODID:-// - ECPv6.15.20//NONSGML v1.0//EN
CALSCALE:GREGORIAN
METHOD:PUBLISH
X-ORIGINAL-URL:https://cincoranchladiesclub.org
X-WR-CALDESC:Events for 
REFRESH-INTERVAL;VALUE=DURATION:PT1H
X-Robots-Tag:noindex
X-PUBLISHED-TTL:PT1H
BEGIN:VTIMEZONE
TZID:UTC
BEGIN:STANDARD
TZOFFSETFROM:+0000
TZOFFSETTO:+0000
TZNAME:UTC
DTSTART:20250101T000000
END:STANDARD
END:VTIMEZONE
BEGIN:VEVENT
DTSTART;TZID=UTC:20260210T180000
DTEND;TZID=UTC:20260210T203000
DTSTAMP:20260423T181541
CREATED:20260206T012535Z
LAST-MODIFIED:20260206T012535Z
UID:4521-1770746400-1770755400@cincoranchladiesclub.org
SUMMARY:Bunco  Evening
DESCRIPTION:We meet the 2nd  Tuesday of every month at 6:00 pm \nHave you ever played this simple\, fast-paced\, and thrilling game? If you have you know it requires a strict number of players (groups of four) and as this is one of our most popular sub-clubs\, the spaces fill up fast every month! (RSVP to your Evite right away!) The event is typically limited to 16 ladies as we hold it in one of our member’s lovely homes- light snacks are served.
URL:https://cincoranchladiesclub.org/event/bunco-evening/
ORGANIZER;CN="Tracy Gremillion":MAILTO:traceygremillion@kw.com
END:VEVENT
END:VCALENDAR