BEGIN:VCALENDAR
VERSION:2.0
PRODID:-// - ECPv6.15.20//NONSGML v1.0//EN
CALSCALE:GREGORIAN
METHOD:PUBLISH
X-ORIGINAL-URL:https://cincoranchladiesclub.org
X-WR-CALDESC:Events for 
REFRESH-INTERVAL;VALUE=DURATION:PT1H
X-Robots-Tag:noindex
X-PUBLISHED-TTL:PT1H
BEGIN:VTIMEZONE
TZID:UTC
BEGIN:STANDARD
TZOFFSETFROM:+0000
TZOFFSETTO:+0000
TZNAME:UTC
DTSTART:20250101T000000
END:STANDARD
END:VTIMEZONE
BEGIN:VEVENT
DTSTART;TZID=UTC:20260131T080000
DTEND;TZID=UTC:20260131T160000
DTSTAMP:20260423T195535
CREATED:20260106T043849Z
LAST-MODIFIED:20260106T043849Z
UID:4498-1769846400-1769875200@cincoranchladiesclub.org
SUMMARY:Bonus Event
DESCRIPTION:Something different is scheduled each month as a Bonus Event.  This one is Stages Theater. \n 
URL:https://cincoranchladiesclub.org/event/bonus-event/
ORGANIZER;CN="Sue Currie":MAILTO:sue.currie@att.net
END:VEVENT
END:VCALENDAR