BEGIN:VCALENDAR
VERSION:2.0
PRODID:-// - ECPv6.15.20//NONSGML v1.0//EN
CALSCALE:GREGORIAN
METHOD:PUBLISH
X-ORIGINAL-URL:https://cincoranchladiesclub.org
X-WR-CALDESC:Events for 
REFRESH-INTERVAL;VALUE=DURATION:PT1H
X-Robots-Tag:noindex
X-PUBLISHED-TTL:PT1H
BEGIN:VTIMEZONE
TZID:UTC
BEGIN:STANDARD
TZOFFSETFROM:+0000
TZOFFSETTO:+0000
TZNAME:UTC
DTSTART:20240101T000000
END:STANDARD
END:VTIMEZONE
BEGIN:VEVENT
DTSTART;TZID=UTC:20250626T080000
DTEND;TZID=UTC:20250626T160000
DTSTAMP:20260424T075028
CREATED:20250606T013414Z
LAST-MODIFIED:20250606T013414Z
UID:3858-1750924800-1750953600@cincoranchladiesclub.org
SUMMARY:Bonus Event -
DESCRIPTION:Something different is scheduled each month as a Bonus Event.  This one is Precinct Bus/ Astro’s Game. \n 
URL:https://cincoranchladiesclub.org/event/bonus-event-5/
ORGANIZER;CN="Sue Currie":MAILTO:sue.currie@att.net
END:VEVENT
END:VCALENDAR