BEGIN:VCALENDAR
VERSION:2.0
PRODID:-// - ECPv6.15.20//NONSGML v1.0//EN
CALSCALE:GREGORIAN
METHOD:PUBLISH
X-ORIGINAL-URL:https://cincoranchladiesclub.org
X-WR-CALDESC:Events for 
REFRESH-INTERVAL;VALUE=DURATION:PT1H
X-Robots-Tag:noindex
X-PUBLISHED-TTL:PT1H
BEGIN:VTIMEZONE
TZID:UTC
BEGIN:STANDARD
TZOFFSETFROM:+0000
TZOFFSETTO:+0000
TZNAME:UTC
DTSTART:20240101T000000
END:STANDARD
END:VTIMEZONE
BEGIN:VEVENT
DTSTART;TZID=UTC:20250127T130000
DTEND;TZID=UTC:20250127T150000
DTSTAMP:20260424T141221
CREATED:20250111T002743Z
LAST-MODIFIED:20250111T002743Z
UID:3282-1737982800-1737990000@cincoranchladiesclub.org
SUMMARY:Pokeno
DESCRIPTION:Pokeno generally meets on the 4th Monday from 1-3 pm.
URL:https://cincoranchladiesclub.org/event/pokeno-10/
ORGANIZER;CN="Edna Quirk":MAILTO:EdnaQuirk66@gmail.com
END:VEVENT
BEGIN:VEVENT
DTSTART;TZID=UTC:20250127T183000
DTEND;TZID=UTC:20250127T193000
DTSTAMP:20260424T141221
CREATED:20250111T002610Z
LAST-MODIFIED:20250111T002610Z
UID:3280-1738002600-1738006200@cincoranchladiesclub.org
SUMMARY:Book Club
DESCRIPTION:Join us on the 4th Monday of each month at 6:30 pm. \nOur Book Club meets once a month to discuss the book we have read. Meetings will vary each month based on location. We read the agreed-upon book (usually selected by members’ input) and meet to discuss themes\, characters\, etc. Selections might be fiction\, nonfiction\, light-hearted or serious.
URL:https://cincoranchladiesclub.org/event/book-club-13/
ORGANIZER;CN="Cynthia Rogan":MAILTO:cincoranchladiesclub@gmail.com
END:VEVENT
END:VCALENDAR