BEGIN:VCALENDAR
VERSION:2.0
PRODID:-// - ECPv6.15.20//NONSGML v1.0//EN
CALSCALE:GREGORIAN
METHOD:PUBLISH
X-ORIGINAL-URL:https://cincoranchladiesclub.org
X-WR-CALDESC:Events for 
REFRESH-INTERVAL;VALUE=DURATION:PT1H
X-Robots-Tag:noindex
X-PUBLISHED-TTL:PT1H
BEGIN:VTIMEZONE
TZID:UTC
BEGIN:STANDARD
TZOFFSETFROM:+0000
TZOFFSETTO:+0000
TZNAME:UTC
DTSTART:20240101T000000
END:STANDARD
END:VTIMEZONE
BEGIN:VEVENT
DTSTART;TZID=UTC:20250115T110000
DTEND;TZID=UTC:20250115T143000
DTSTAMP:20260424T153305
CREATED:20250111T001641Z
LAST-MODIFIED:20250111T001641Z
UID:3270-1736938800-1736951400@cincoranchladiesclub.org
SUMMARY:Gardening/Journaling
DESCRIPTION:The Gardening Sub-Club is an oppotunity to socialize with other gardening interested ladies\, and learn more about plantings\, seeds\, etc. This group meets on the 1st Wednesday at 1 pm.  (This month\, Garden Club is only a pop up to meet at Houston Farmers Market on Airline Dr. at 11:00. We will leave by 2.)
URL:https://cincoranchladiesclub.org/event/gardening-journaling-5/
END:VEVENT
BEGIN:VEVENT
DTSTART;TZID=UTC:20250115T180000
DTEND;TZID=UTC:20250115T213000
DTSTAMP:20260424T153305
CREATED:20250111T001803Z
LAST-MODIFIED:20250111T001803Z
UID:3272-1736964000-1736976600@cincoranchladiesclub.org
SUMMARY:Wine Club
DESCRIPTION:Wine Club meets on the 3rd Wednesday at 6:30 pm. Come and join us for wine and a social evening.
URL:https://cincoranchladiesclub.org/event/wine-club-9/
ORGANIZER;CN="Sherry Johnson":MAILTO:SEJ1959@comcast.net
END:VEVENT
END:VCALENDAR