BEGIN:VCALENDAR
VERSION:2.0
PRODID:-// - ECPv6.15.20//NONSGML v1.0//EN
CALSCALE:GREGORIAN
METHOD:PUBLISH
X-ORIGINAL-URL:https://cincoranchladiesclub.org
X-WR-CALDESC:Events for 
REFRESH-INTERVAL;VALUE=DURATION:PT1H
X-Robots-Tag:noindex
X-PUBLISHED-TTL:PT1H
BEGIN:VTIMEZONE
TZID:America/Chicago
BEGIN:DAYLIGHT
TZOFFSETFROM:-0600
TZOFFSETTO:-0500
TZNAME:CDT
DTSTART:20230312T080000
END:DAYLIGHT
BEGIN:STANDARD
TZOFFSETFROM:-0500
TZOFFSETTO:-0600
TZNAME:CST
DTSTART:20231105T070000
END:STANDARD
BEGIN:DAYLIGHT
TZOFFSETFROM:-0600
TZOFFSETTO:-0500
TZNAME:CDT
DTSTART:20240310T080000
END:DAYLIGHT
BEGIN:STANDARD
TZOFFSETFROM:-0500
TZOFFSETTO:-0600
TZNAME:CST
DTSTART:20241103T070000
END:STANDARD
BEGIN:DAYLIGHT
TZOFFSETFROM:-0600
TZOFFSETTO:-0500
TZNAME:CDT
DTSTART:20250309T080000
END:DAYLIGHT
BEGIN:STANDARD
TZOFFSETFROM:-0500
TZOFFSETTO:-0600
TZNAME:CST
DTSTART:20251102T070000
END:STANDARD
END:VTIMEZONE
BEGIN:VEVENT
DTSTART;TZID=America/Chicago:20241206T110000
DTEND;TZID=America/Chicago:20241206T140000
DTSTAMP:20260424T171309
CREATED:20241203T030709Z
LAST-MODIFIED:20241203T031300Z
UID:3107-1733482800-1733493600@cincoranchladiesclub.org
SUMMARY:Annual Holiday Luncheon
DESCRIPTION:Each year we unite to promote a culture of giving back to our community by hosting a Holiday Luncheon Fundraising Event. Our event will be Dec. 6\, 2024\, at the Club at Falcon Point. Your support will benefit Christ Clinic\, and will include an auction featuring items generously donated by local businesses and individuals. The funds raised from this event will directly support Christ Clinic’s efforts to provide medical care to those who need it most\, particularly those who lack access to basic healthcare.  BRING CASH for raffle tickets\, drinks\, etc. \nHoliday Luncheon Dec ’24
URL:https://cincoranchladiesclub.org/event/annual-holiday-luncheon/
END:VEVENT
END:VCALENDAR